BEGIN:VCALENDAR
VERSION:2.0
PRODID:-//Visit Chomutov - ECPv5.14.2.1//NONSGML v1.0//EN
CALSCALE:GREGORIAN
METHOD:PUBLISH
X-WR-CALNAME:Visit Chomutov
X-ORIGINAL-URL:https://visit.chomutov.cz
X-WR-CALDESC:Akce na Visit Chomutov
REFRESH-INTERVAL;VALUE=DURATION:PT1H
X-Robots-Tag:noindex
X-PUBLISHED-TTL:PT1H
BEGIN:VTIMEZONE
TZID:Europe/Prague
BEGIN:DAYLIGHT
TZOFFSETFROM:+0100
TZOFFSETTO:+0200
TZNAME:CEST
DTSTART:20250330T010000
END:DAYLIGHT
BEGIN:STANDARD
TZOFFSETFROM:+0200
TZOFFSETTO:+0100
TZNAME:CET
DTSTART:20251026T010000
END:STANDARD
END:VTIMEZONE
BEGIN:VEVENT
DTSTART;TZID=Europe/Prague:20251125T163000
DTEND;TZID=Europe/Prague:20251125T170000
DTSTAMP:20260423T023528
CREATED:20251104T090933Z
LAST-MODIFIED:20251104T090933Z
UID:11446-1764088200-1764090000@visit.chomutov.cz
SUMMARY:Renata Šindelářová křest knih
DESCRIPTION:Křest knih Kdo mi pije čaj( román pro dospělé)  a Chyť zloděje z Dobrolesa (gamebook pro děti).
URL:https://visit.chomutov.cz/kalendar/renata-sindelarova-krest-knih/
LOCATION:Café Atrium\, Palackého 85\, Chomutov
CATEGORIES:zábavní pořady
ATTACH;FMTTYPE=image/jpeg:https://visit.chomutov.cz/wp-content/uploads/2025/11/Kdo-mi-pije-cas-Sindelarova-Renata.jpg
ORGANIZER;CN="Masopust%2C%20z.s.":MAILTO:info@masopustspolek.cz
END:VEVENT
END:VCALENDAR