BEGIN:VCALENDAR
VERSION:2.0
PRODID:-//Visit Chomutov - ECPv5.14.2.1//NONSGML v1.0//EN
CALSCALE:GREGORIAN
METHOD:PUBLISH
X-WR-CALNAME:Visit Chomutov
X-ORIGINAL-URL:https://visit.chomutov.cz
X-WR-CALDESC:Akce na Visit Chomutov
REFRESH-INTERVAL;VALUE=DURATION:PT1H
X-Robots-Tag:noindex
X-PUBLISHED-TTL:PT1H
BEGIN:VTIMEZONE
TZID:Europe/Prague
BEGIN:DAYLIGHT
TZOFFSETFROM:+0100
TZOFFSETTO:+0200
TZNAME:CEST
DTSTART:20250330T010000
END:DAYLIGHT
BEGIN:STANDARD
TZOFFSETFROM:+0200
TZOFFSETTO:+0100
TZNAME:CET
DTSTART:20251026T010000
END:STANDARD
END:VTIMEZONE
BEGIN:VEVENT
DTSTART;TZID=Europe/Prague:20251117T100000
DTEND;TZID=Europe/Prague:20251117T100000
DTSTAMP:20260423T023320
CREATED:20251024T113730Z
LAST-MODIFIED:20251024T113745Z
UID:11301-1763373600-1763373600@visit.chomutov.cz
SUMMARY:Den boje za svobodu a demokracii a mezinárodní den studenstva
DESCRIPTION:
URL:https://visit.chomutov.cz/kalendar/den-boje-za-svobodu-a-demokracii-a-mezinarodni-den-studenstva-2/
LOCATION:Památník padlých\, Lipská\, Chomutov
CATEGORIES:zábavní pořady
ATTACH;FMTTYPE=image/jpeg:https://visit.chomutov.cz/wp-content/uploads/2025/10/Den-boje-za-svobodu.jpg
ORGANIZER;CN="Statut%C3%A1rn%C3%AD%20m%C4%9Bsto%20Chomutov":MAILTO:infocentrum@chomutov.cz
END:VEVENT
BEGIN:VEVENT
DTSTART;TZID=Europe/Prague:20251117T170000
DTEND;TZID=Europe/Prague:20251117T170000
DTSTAMP:20260423T023320
CREATED:20251104T075445Z
LAST-MODIFIED:20251112T135418Z
UID:11412-1763398800-1763398800@visit.chomutov.cz
SUMMARY:Sametových 36
DESCRIPTION:
URL:https://visit.chomutov.cz/kalendar/sametovych-36/
LOCATION:Kostel sv. Kateřiny\, Chelčického 100\, Chomutov
CATEGORIES:zábavní pořady
ATTACH;FMTTYPE=image/jpeg:https://visit.chomutov.cz/wp-content/uploads/2025/11/11_17-Samet-scaled.jpg
ORGANIZER;CN="Oblastn%C3%AD%20muzeum%20v%20Chomutov%C4%9B":MAILTO:sekretariat@muzeumchomutov.cz
END:VEVENT
END:VCALENDAR