BEGIN:VCALENDAR
VERSION:2.0
PRODID:-//Visit Chomutov - ECPv5.14.2.1//NONSGML v1.0//EN
CALSCALE:GREGORIAN
METHOD:PUBLISH
X-WR-CALNAME:Visit Chomutov
X-ORIGINAL-URL:https://visit.chomutov.cz
X-WR-CALDESC:Akce na Visit Chomutov
REFRESH-INTERVAL;VALUE=DURATION:PT1H
X-Robots-Tag:noindex
X-PUBLISHED-TTL:PT1H
BEGIN:VTIMEZONE
TZID:Europe/Prague
BEGIN:DAYLIGHT
TZOFFSETFROM:+0100
TZOFFSETTO:+0200
TZNAME:CEST
DTSTART:20250330T010000
END:DAYLIGHT
BEGIN:STANDARD
TZOFFSETFROM:+0200
TZOFFSETTO:+0100
TZNAME:CET
DTSTART:20251026T010000
END:STANDARD
END:VTIMEZONE
BEGIN:VEVENT
DTSTART;TZID=Europe/Prague:20250913T100000
DTEND;TZID=Europe/Prague:20250913T140000
DTSTAMP:20260423T055855
CREATED:20250904T071728Z
LAST-MODIFIED:20250904T071728Z
UID:10753-1757757600-1757772000@visit.chomutov.cz
SUMMARY:Uháčkuj si košík
DESCRIPTION:Zveme tě na pohodový kurz háčkování\, kde si během pár hodin vyrobíš vlastní košíček ze špagátu s dřevěným dnem. Naučíš se základy háčkování a domů si odneseš nejen hotový kousek\, ale i chuť tvořit dál. \nKurzem tě provede Ing. Gabriela Knoblochová\, která celý život něco tvoří – výtvarničí\, šperkaří\, zkouší různé materiály a techniky\, a hlavně háčkuje. Svou radost z tvoření ráda sdílí s ostatními a předává dál to\, co sama objevila.
URL:https://visit.chomutov.cz/kalendar/uhackuj-si-kosik/
LOCATION:Prostor\, 28. října 1113/16\, Chomutov\, 43001
CATEGORIES:vzdělávání,zábavní pořady
ATTACH;FMTTYPE=image/jpeg:https://visit.chomutov.cz/wp-content/uploads/2025/09/01.jpg
END:VEVENT
BEGIN:VEVENT
DTSTART;TZID=Europe/Prague:20250913T100000
DTEND;TZID=Europe/Prague:20250913T220000
DTSTAMP:20260423T055855
CREATED:20250828T113149Z
LAST-MODIFIED:20250829T073004Z
UID:10631-1757757600-1757800800@visit.chomutov.cz
SUMMARY:50 let Zooparku Chomutov
DESCRIPTION:staročeská vesnice a tradice ve Staré Vsi\, animační programy pro děti\, divadelní a hudební vystoupení\, komentované prohlídky zvířat v zooparku\, jezdecké exhibice\, voltiž\, parkur v jízdárně\, v programu dále vystoupí LENNY\, SEBASTIAN\, VANUA2\, LIKE-IT\, THE ELEVATORS
URL:https://visit.chomutov.cz/kalendar/50-let-zooparku-chomutov/
LOCATION:Zoopark Chomutov\, Přemyslova 259\, Chomutov\, 43001
CATEGORIES:koncert,pro děti,zábavní pořady
ATTACH;FMTTYPE=image/jpeg:https://visit.chomutov.cz/wp-content/uploads/2025/08/zoopark-plakat-A1-oslava-scaled.jpg
END:VEVENT
END:VCALENDAR