BEGIN:VCALENDAR
VERSION:2.0
PRODID:-//Visit Chomutov - ECPv5.14.2.1//NONSGML v1.0//EN
CALSCALE:GREGORIAN
METHOD:PUBLISH
X-WR-CALNAME:Visit Chomutov
X-ORIGINAL-URL:https://visit.chomutov.cz
X-WR-CALDESC:Akce na Visit Chomutov
REFRESH-INTERVAL;VALUE=DURATION:PT1H
X-Robots-Tag:noindex
X-PUBLISHED-TTL:PT1H
BEGIN:VTIMEZONE
TZID:Europe/Prague
BEGIN:DAYLIGHT
TZOFFSETFROM:+0100
TZOFFSETTO:+0200
TZNAME:CEST
DTSTART:20250330T010000
END:DAYLIGHT
BEGIN:STANDARD
TZOFFSETFROM:+0200
TZOFFSETTO:+0100
TZNAME:CET
DTSTART:20251026T010000
END:STANDARD
END:VTIMEZONE
BEGIN:VEVENT
DTSTART;TZID=Europe/Prague:20250824T091500
DTEND;TZID=Europe/Prague:20250824T091500
DTSTAMP:20260423T073653
CREATED:20250716T091321Z
LAST-MODIFIED:20250716T091321Z
UID:10469-1756026900-1756026900@visit.chomutov.cz
SUMMARY:Historickým vlakem do Krušných hor
DESCRIPTION:Tradiční prázdninové jízdy pro cyklisty\, turisty\, milovníky krušnohorské přírody a železniční nadšence jsou tu! Přijeďte se v létě svézt historickým motoráčkem po třetí nejvýše položené železniční trati v České republice. \nOblíbený historický cyklovlak vyjede na začátku prázdnin do své třinácté sezony. Letos pojedeme celkem devětkrát\, z toho pět jízd proběhne v červenci a čtyři jízdy budou v srpnu. V čele se představí všem jistě dobře známý Hurvínek – červený motorák M131.1513 z roku 1955. „Na háku“ bude mít cyklovůz řady Ztrc. \nTrasa zůstává stejná jako v letech minulých: ráno vyrazíme z Klášterce nad Ohří přes Chomutov a Křimov do Vejprt\, odpoledne pojedeme po stejné trase zpět. V Křimově bude tradiční hodinová pauza na občerstvení\, opékání špekáčků a komentovanou prohlídku výtopny. \nVezměte rodinu či kamarády\, přibalte do batůžku dobrou náladu a těšíme se na vás na palubě historických cyklovlaků!
URL:https://visit.chomutov.cz/kalendar/historickym-vlakem-do-krusnych-hor-9/
LOCATION:Vlakové nádraží Chomutov\, Nádražní\, Chomutov
CATEGORIES:zábavní pořady
ATTACH;FMTTYPE=image/jpeg:https://visit.chomutov.cz/wp-content/uploads/2025/06/cyklovlaky2025.jpg
ORGANIZER;CN="LOKO-MOTIV%20Chomutov":MAILTO:loko-motiv@email.cz
END:VEVENT
END:VCALENDAR