BEGIN:VCALENDAR
VERSION:2.0
PRODID:-//Visit Chomutov - ECPv5.14.2.1//NONSGML v1.0//EN
CALSCALE:GREGORIAN
METHOD:PUBLISH
X-WR-CALNAME:Visit Chomutov
X-ORIGINAL-URL:https://visit.chomutov.cz
X-WR-CALDESC:Akce na Visit Chomutov
REFRESH-INTERVAL;VALUE=DURATION:PT1H
X-Robots-Tag:noindex
X-PUBLISHED-TTL:PT1H
BEGIN:VTIMEZONE
TZID:Europe/Prague
BEGIN:DAYLIGHT
TZOFFSETFROM:+0100
TZOFFSETTO:+0200
TZNAME:CEST
DTSTART:20250330T010000
END:DAYLIGHT
BEGIN:STANDARD
TZOFFSETFROM:+0200
TZOFFSETTO:+0100
TZNAME:CET
DTSTART:20251026T010000
END:STANDARD
END:VTIMEZONE
BEGIN:VEVENT
DTSTART;TZID=Europe/Prague:20250816T190000
DTEND;TZID=Europe/Prague:20250816T190000
DTSTAMP:20260423T073651
CREATED:20250806T153656Z
LAST-MODIFIED:20250806T153656Z
UID:10538-1755370800-1755370800@visit.chomutov.cz
SUMMARY:Hudební produkce v Kulisárně
DESCRIPTION:hraje: 432HZ
URL:https://visit.chomutov.cz/kalendar/hudebni-produkce-v-kulisarne-15/
LOCATION:Kulisárna\, B. Němcové 552/32\, Chomutov
CATEGORIES:zábavní pořady
ATTACH;FMTTYPE=image/jpeg:https://visit.chomutov.cz/wp-content/uploads/2025/08/Kulisarna-srpen.jpg
END:VEVENT
BEGIN:VEVENT
DTSTART;TZID=Europe/Prague:20250816T200000
DTEND;TZID=Europe/Prague:20250816T200000
DTSTAMP:20260423T073651
CREATED:20230807T093529Z
LAST-MODIFIED:20250807T083240Z
UID:4371-1755374400-1755374400@visit.chomutov.cz
SUMMARY:V rytmu Orientu
DESCRIPTION:gala openair show
URL:https://visit.chomutov.cz/kalendar/v-rytmu-orientu-2/
LOCATION:Atrium\, nám. 1. máje\, Chomutov
CATEGORIES:zábavní pořady
ATTACH;FMTTYPE=image/png:https://visit.chomutov.cz/wp-content/uploads/2023/08/V-rytmu-Orientu.png
END:VEVENT
END:VCALENDAR