BEGIN:VCALENDAR
VERSION:2.0
PRODID:-//Visit Chomutov - ECPv5.14.2.1//NONSGML v1.0//EN
CALSCALE:GREGORIAN
METHOD:PUBLISH
X-WR-CALNAME:Visit Chomutov
X-ORIGINAL-URL:https://visit.chomutov.cz
X-WR-CALDESC:Akce na Visit Chomutov
REFRESH-INTERVAL;VALUE=DURATION:PT1H
X-Robots-Tag:noindex
X-PUBLISHED-TTL:PT1H
BEGIN:VTIMEZONE
TZID:Europe/Prague
BEGIN:DAYLIGHT
TZOFFSETFROM:+0100
TZOFFSETTO:+0200
TZNAME:CEST
DTSTART:20250330T010000
END:DAYLIGHT
BEGIN:STANDARD
TZOFFSETFROM:+0200
TZOFFSETTO:+0100
TZNAME:CET
DTSTART:20251026T010000
END:STANDARD
END:VTIMEZONE
BEGIN:VEVENT
DTSTART;TZID=Europe/Prague:20250809T080000
DTEND;TZID=Europe/Prague:20250809T140000
DTSTAMP:20260423T073738
CREATED:20250717T055024Z
LAST-MODIFIED:20250717T055024Z
UID:10484-1754726400-1754748000@visit.chomutov.cz
SUMMARY:Poznej svého farmáře na farmářském trhu
DESCRIPTION:akce v rámci Severočeských farmářských trhů \nPoznej svého farmáře 2025 míří do Chomutova!\nV Chomutově proběhne další zastávka projektu Poznej svého farmáře 2025. Přijďte ochutnat to nejlepší z regionu – představí se místní farmáři a prodejci ocenění značkou Regionální potravina\, těšit se můžete i na ochutnávky a komentované vaření z čerstvých surovin zdarma.\nPro děti máme připravený zábavný program se zemědělskou tematikou – čeká je dojení krávy\, sázení semínek\, lovení rybiček a další hravé stanoviště. Za jejich splnění si odnesou batůžek s dárky. A samozřejmě nebude chybět oblíbený skákací hrad ve tvaru kombajnu\, který nadchne každého malého farmáře. Připraven je i workshop “Poznávačka plodin”\, kde si děti i dospělí otestují své znalosti.
URL:https://visit.chomutov.cz/kalendar/poznej-sveho-farmare-na-farmarskem-trhu/
LOCATION:náměstí 1. máje Chomutov\, nám. 1. máje\, Chomutov
CATEGORIES:trhy,zábavní pořady
ATTACH;FMTTYPE=image/jpeg:https://visit.chomutov.cz/wp-content/uploads/2025/07/Poznej-farmare.jpg
END:VEVENT
BEGIN:VEVENT
DTSTART;TZID=Europe/Prague:20250809T091500
DTEND;TZID=Europe/Prague:20250809T091500
DTSTAMP:20260423T073738
CREATED:20250717T053136Z
LAST-MODIFIED:20250717T053140Z
UID:10481-1754730900-1754730900@visit.chomutov.cz
SUMMARY:Historickým vlakem do Krušných hor
DESCRIPTION:Tradiční prázdninové jízdy pro cyklisty\, turisty\, milovníky krušnohorské přírody a železniční nadšence jsou tu! Přijeďte se v létě svézt historickým motoráčkem po třetí nejvýše položené železniční trati v České republice. \nOblíbený historický cyklovlak vyjede na začátku prázdnin do své třinácté sezony. Letos pojedeme celkem devětkrát\, z toho pět jízd proběhne v červenci a čtyři jízdy budou v srpnu. V čele se představí všem jistě dobře známý Hurvínek – červený motorák M131.1513 z roku 1955. „Na háku“ bude mít cyklovůz řady Ztrc. \nTrasa zůstává stejná jako v letech minulých: ráno vyrazíme z Klášterce nad Ohří přes Chomutov a Křimov do Vejprt\, odpoledne pojedeme po stejné trase zpět. V Křimově bude tradiční hodinová pauza na občerstvení\, opékání špekáčků a komentovanou prohlídku výtopny. \nVezměte rodinu či kamarády\, přibalte do batůžku dobrou náladu a těšíme se na vás na palubě historických cyklovlaků!
URL:https://visit.chomutov.cz/kalendar/historickym-vlakem-do-krusnych-hor-10/
LOCATION:Vlakové nádraží Chomutov\, Nádražní\, Chomutov
CATEGORIES:zábavní pořady
ATTACH;FMTTYPE=image/jpeg:https://visit.chomutov.cz/wp-content/uploads/2025/06/cyklovlaky2025.jpg
ORGANIZER;CN="LOKO-MOTIV%20Chomutov":MAILTO:loko-motiv@email.cz
END:VEVENT
BEGIN:VEVENT
DTSTART;TZID=Europe/Prague:20250809T180000
DTEND;TZID=Europe/Prague:20250809T180000
DTSTAMP:20260423T073738
CREATED:20250717T052410Z
LAST-MODIFIED:20250717T052410Z
UID:10478-1754762400-1754762400@visit.chomutov.cz
SUMMARY:Chunky Funky
DESCRIPTION:SE7EN INCH AFFAIR\, MIKE ONE PUFAZ
URL:https://visit.chomutov.cz/kalendar/chunky-funky/
LOCATION:Café Rouge\, Chelčického 100\, Chomutov
CATEGORIES:zábavní pořady
ATTACH;FMTTYPE=image/png:https://visit.chomutov.cz/wp-content/uploads/2025/07/seven-inch-affair-mike-pufaz-insta.png
END:VEVENT
BEGIN:VEVENT
DTSTART;TZID=Europe/Prague:20250809T190000
DTEND;TZID=Europe/Prague:20250809T190000
DTSTAMP:20260423T073738
CREATED:20250806T153523Z
LAST-MODIFIED:20250806T153523Z
UID:10530-1754766000-1754766000@visit.chomutov.cz
SUMMARY:Hudební produkce v Kulisárně
DESCRIPTION:hraje: Indiáni
URL:https://visit.chomutov.cz/kalendar/hudebni-produkce-v-kulisarne-11/
LOCATION:Kulisárna\, B. Němcové 552/32\, Chomutov
CATEGORIES:zábavní pořady
ATTACH;FMTTYPE=image/jpeg:https://visit.chomutov.cz/wp-content/uploads/2025/08/Kulisarna-srpen.jpg
END:VEVENT
END:VCALENDAR