BEGIN:VCALENDAR
VERSION:2.0
PRODID:-//Visit Chomutov - ECPv5.14.2.1//NONSGML v1.0//EN
CALSCALE:GREGORIAN
METHOD:PUBLISH
X-WR-CALNAME:Visit Chomutov
X-ORIGINAL-URL:https://visit.chomutov.cz
X-WR-CALDESC:Akce na Visit Chomutov
REFRESH-INTERVAL;VALUE=DURATION:PT1H
X-Robots-Tag:noindex
X-PUBLISHED-TTL:PT1H
BEGIN:VTIMEZONE
TZID:Europe/Prague
BEGIN:DAYLIGHT
TZOFFSETFROM:+0100
TZOFFSETTO:+0200
TZNAME:CEST
DTSTART:20250330T010000
END:DAYLIGHT
BEGIN:STANDARD
TZOFFSETFROM:+0200
TZOFFSETTO:+0100
TZNAME:CET
DTSTART:20251026T010000
END:STANDARD
END:VTIMEZONE
BEGIN:VEVENT
DTSTART;TZID=Europe/Prague:20250702T100000
DTEND;TZID=Europe/Prague:20250702T140000
DTSTAMP:20260423T090859
CREATED:20241216T141501Z
LAST-MODIFIED:20250626T114610Z
UID:8849-1751450400-1751464800@visit.chomutov.cz
SUMMARY:Zpřístupnění Klenotnice
DESCRIPTION:V 10 a 14 hodin v rámci běžné prohlídky muzea v budově radnice zpřístupněna i Klenotnice v prvním patře. Místnost je zdobená unikátními renesančními malbami z roku 1590\, jež zobrazují příběh Tobiášovy legendy.
URL:https://visit.chomutov.cz/kalendar/zpristupneni-klenotnice-2/
LOCATION:Oblastní muzeum v Chomutově – radnice\, nám. 1. máje 1\, Chomutov
CATEGORIES:zábavní pořady
ATTACH;FMTTYPE=image/jpeg:https://visit.chomutov.cz/wp-content/uploads/2024/09/DSC00035.jpg
ORGANIZER;CN="Oblastn%C3%AD%20muzeum%20v%20Chomutov%C4%9B":MAILTO:sekretariat@muzeumchomutov.cz
END:VEVENT
END:VCALENDAR