BEGIN:VCALENDAR
VERSION:2.0
PRODID:-//Visit Chomutov - ECPv5.14.2.1//NONSGML v1.0//EN
CALSCALE:GREGORIAN
METHOD:PUBLISH
X-WR-CALNAME:Visit Chomutov
X-ORIGINAL-URL:https://visit.chomutov.cz
X-WR-CALDESC:Akce na Visit Chomutov
REFRESH-INTERVAL;VALUE=DURATION:PT1H
X-Robots-Tag:noindex
X-PUBLISHED-TTL:PT1H
BEGIN:VTIMEZONE
TZID:Europe/Prague
BEGIN:DAYLIGHT
TZOFFSETFROM:+0100
TZOFFSETTO:+0200
TZNAME:CEST
DTSTART:20250330T010000
END:DAYLIGHT
BEGIN:STANDARD
TZOFFSETFROM:+0200
TZOFFSETTO:+0100
TZNAME:CET
DTSTART:20251026T010000
END:STANDARD
END:VTIMEZONE
BEGIN:VEVENT
DTSTART;TZID=Europe/Prague:20250620T170000
DTEND;TZID=Europe/Prague:20250620T200000
DTSTAMP:20260423T103645
CREATED:20250519T144730Z
LAST-MODIFIED:20250519T144730Z
UID:10063-1750438800-1750449600@visit.chomutov.cz
SUMMARY:Grill & víno party v Cafe Kolečko
DESCRIPTION:Letní zážitkové grilování s naším kuchyňským mistrem @chef_ladislavmlady\, doplněné o degustaci vín z vinařství @vino_barbora
URL:https://visit.chomutov.cz/kalendar/grill-party-cafe-kolecko/
LOCATION:Cafe Kolečko\, nám. 1. máje 7\, Chomutov\, 43001
CATEGORIES:zábavní pořady
ATTACH;FMTTYPE=image/jpeg:https://visit.chomutov.cz/wp-content/uploads/2025/05/Grill-a-vino-v-Cafe-Kolecko.jpg
END:VEVENT
END:VCALENDAR