BEGIN:VCALENDAR
VERSION:2.0
PRODID:-//Visit Chomutov - ECPv5.14.2.1//NONSGML v1.0//EN
CALSCALE:GREGORIAN
METHOD:PUBLISH
X-WR-CALNAME:Visit Chomutov
X-ORIGINAL-URL:https://visit.chomutov.cz
X-WR-CALDESC:Akce na Visit Chomutov
REFRESH-INTERVAL;VALUE=DURATION:PT1H
X-Robots-Tag:noindex
X-PUBLISHED-TTL:PT1H
BEGIN:VTIMEZONE
TZID:Europe/Prague
BEGIN:DAYLIGHT
TZOFFSETFROM:+0100
TZOFFSETTO:+0200
TZNAME:CEST
DTSTART:20250330T010000
END:DAYLIGHT
BEGIN:STANDARD
TZOFFSETFROM:+0200
TZOFFSETTO:+0100
TZNAME:CET
DTSTART:20251026T010000
END:STANDARD
END:VTIMEZONE
BEGIN:VEVENT
DTSTART;TZID=Europe/Prague:20250618T193000
DTEND;TZID=Europe/Prague:20250618T193000
DTSTAMP:20260423T103700
CREATED:20250627T063102Z
LAST-MODIFIED:20250627T063102Z
UID:10405-1750275000-1750275000@visit.chomutov.cz
SUMMARY:Karel Hynek: Na stojáka
DESCRIPTION:Karel Hynek je český stand-up komik a herec. Proslavil se vystupováním v pořadech Na stojáka a Comedy Club.
URL:https://visit.chomutov.cz/kalendar/karel-hynek-na-stojaka/
LOCATION:Grill Coffee\, Raisova 5456\, Chomutov\, 43001
CATEGORIES:zábavní pořady
ATTACH;FMTTYPE=image/jpeg:https://visit.chomutov.cz/wp-content/uploads/2025/06/Na-stojaka.jpg
END:VEVENT
END:VCALENDAR