BEGIN:VCALENDAR
VERSION:2.0
PRODID:-//Visit Chomutov - ECPv5.14.2.1//NONSGML v1.0//EN
CALSCALE:GREGORIAN
METHOD:PUBLISH
X-WR-CALNAME:Visit Chomutov
X-ORIGINAL-URL:https://visit.chomutov.cz
X-WR-CALDESC:Akce na Visit Chomutov
REFRESH-INTERVAL;VALUE=DURATION:PT1H
X-Robots-Tag:noindex
X-PUBLISHED-TTL:PT1H
BEGIN:VTIMEZONE
TZID:Europe/Prague
BEGIN:DAYLIGHT
TZOFFSETFROM:+0100
TZOFFSETTO:+0200
TZNAME:CEST
DTSTART:20250330T010000
END:DAYLIGHT
BEGIN:STANDARD
TZOFFSETFROM:+0200
TZOFFSETTO:+0100
TZNAME:CET
DTSTART:20251026T010000
END:STANDARD
END:VTIMEZONE
BEGIN:VEVENT
DTSTART;VALUE=DATE:20250616
DTEND;VALUE=DATE:20250618
DTSTAMP:20260423T103706
CREATED:20250528T122557Z
LAST-MODIFIED:20250528T122557Z
UID:10261-1750032000-1750204799@visit.chomutov.cz
SUMMARY:Protidrogový vlak
DESCRIPTION:REVOLUTION TRAIN – Interaktivní projekt zaměřený na protidrogovou prevenci pro školy i širokou veřejnost\, vstup zdarma
URL:https://visit.chomutov.cz/kalendar/protidrogovy-vlak-2/
LOCATION:Vlakové nádraží Chomutov\, Nádražní\, Chomutov
CATEGORIES:vzdělávání,zábavní pořady
ATTACH;FMTTYPE=image/jpeg:https://visit.chomutov.cz/wp-content/uploads/2022/05/revolution-train.jpg
END:VEVENT
END:VCALENDAR