BEGIN:VCALENDAR
VERSION:2.0
PRODID:-//Visit Chomutov - ECPv5.14.2.1//NONSGML v1.0//EN
CALSCALE:GREGORIAN
METHOD:PUBLISH
X-WR-CALNAME:Visit Chomutov
X-ORIGINAL-URL:https://visit.chomutov.cz
X-WR-CALDESC:Akce na Visit Chomutov
REFRESH-INTERVAL;VALUE=DURATION:PT1H
X-Robots-Tag:noindex
X-PUBLISHED-TTL:PT1H
BEGIN:VTIMEZONE
TZID:Europe/Prague
BEGIN:DAYLIGHT
TZOFFSETFROM:+0100
TZOFFSETTO:+0200
TZNAME:CEST
DTSTART:20250330T010000
END:DAYLIGHT
BEGIN:STANDARD
TZOFFSETFROM:+0200
TZOFFSETTO:+0100
TZNAME:CET
DTSTART:20251026T010000
END:STANDARD
END:VTIMEZONE
BEGIN:VEVENT
DTSTART;TZID=Europe/Prague:20250610T120000
DTEND;TZID=Europe/Prague:20250610T170000
DTSTAMP:20260423T103640
CREATED:20250519T142853Z
LAST-MODIFIED:20250528T100659Z
UID:10051-1749556800-1749574800@visit.chomutov.cz
SUMMARY:10 let Dopravy Ústeckého kraje - Chomutov
DESCRIPTION:Přijďte s námi oslavit 10 let Dopravy Ústeckého kraje\nNa co se můžete těšit: \n\nkvíz o jednodenní jízdenky (100 kusů zdarma)\nfotokoutek s možností vytisknutí fotografie\nDÚKdárky za účast v anketě\nDÚkmobil – pojízdná informační kancelář\nspeciální jízdy zdarma\nnealko DÚKnápoj\nmaskot DÚKáček\nhudební program
URL:https://visit.chomutov.cz/kalendar/10-let-dopravy-usteckeho-kraje-chomutov/
LOCATION:Autobusové nádraží Chomutov\, Wolkerova\, Chomutov
CATEGORIES:zábavní pořady
ATTACH;FMTTYPE=image/jpeg:https://visit.chomutov.cz/wp-content/uploads/2025/05/10-let-DUK.jpg
END:VEVENT
END:VCALENDAR