BEGIN:VCALENDAR
VERSION:2.0
PRODID:-//Visit Chomutov - ECPv5.14.2.1//NONSGML v1.0//EN
CALSCALE:GREGORIAN
METHOD:PUBLISH
X-WR-CALNAME:Visit Chomutov
X-ORIGINAL-URL:https://visit.chomutov.cz
X-WR-CALDESC:Akce na Visit Chomutov
REFRESH-INTERVAL;VALUE=DURATION:PT1H
X-Robots-Tag:noindex
X-PUBLISHED-TTL:PT1H
BEGIN:VTIMEZONE
TZID:Europe/Prague
BEGIN:DAYLIGHT
TZOFFSETFROM:+0100
TZOFFSETTO:+0200
TZNAME:CEST
DTSTART:20250330T010000
END:DAYLIGHT
BEGIN:STANDARD
TZOFFSETFROM:+0200
TZOFFSETTO:+0100
TZNAME:CET
DTSTART:20251026T010000
END:STANDARD
END:VTIMEZONE
BEGIN:VEVENT
DTSTART;TZID=Europe/Prague:20250609T180000
DTEND;TZID=Europe/Prague:20250609T180000
DTSTAMP:20260423T103721
CREATED:20250519T141422Z
LAST-MODIFIED:20250519T141422Z
UID:10037-1749492000-1749492000@visit.chomutov.cz
SUMMARY:Festival Obnaženi - Dětský program
DESCRIPTION:S radostí vám představujeme letošní DĚTSKÝ PROGRAM festivalu Obnaženi. Zveme vás na dvě představení a to:\nTaneční představení pro mladé (8+) i nejmladší (4+) diváky\, která se uskuteční 9. – 11. června v Chomutově\, uvedeme pro veřejnost i pro chomutovské MŠ a ZŠ.\nJÁMA LVOVÁ/ POCKETART collective – 9. 6. 2025 / 18:00 pro veřejnost / Městské divadlo v Chomutově\, 8+\nMIKROSVĚTY/ Jazmína Piktorová a Sabina Bočková – 11. 6. 2025 / 17:00 pro veřejnost / Městské divadlo v Chomutově\, 4+
URL:https://visit.chomutov.cz/kalendar/festival-obnazeni-detsky-program/
LOCATION:Městské divadlo\, Boženy Němcové 552/32\, Chomutov
CATEGORIES:pro děti,zábavní pořady
ATTACH;FMTTYPE=image/jpeg:https://visit.chomutov.cz/wp-content/uploads/2025/05/Obnazeni-detsky-program.jpg
END:VEVENT
BEGIN:VEVENT
DTSTART;TZID=Europe/Prague:20250609T193000
DTEND;TZID=Europe/Prague:20250609T193000
DTSTAMP:20260423T103721
CREATED:20250526T084044Z
LAST-MODIFIED:20250526T084044Z
UID:10109-1749497400-1749497400@visit.chomutov.cz
SUMMARY:Partička na vzduchu
DESCRIPTION:
URL:https://visit.chomutov.cz/kalendar/particka-na-vzduchu/
LOCATION:Letní kino\, Přemyslova 4752\, Chomutov
CATEGORIES:zábavní pořady
ATTACH;FMTTYPE=image/png:https://visit.chomutov.cz/wp-content/uploads/2025/05/Particka-na-vzduchu.png
END:VEVENT
END:VCALENDAR