BEGIN:VCALENDAR
VERSION:2.0
PRODID:-//Visit Chomutov - ECPv5.14.2.1//NONSGML v1.0//EN
CALSCALE:GREGORIAN
METHOD:PUBLISH
X-WR-CALNAME:Visit Chomutov
X-ORIGINAL-URL:https://visit.chomutov.cz
X-WR-CALDESC:Akce na Visit Chomutov
REFRESH-INTERVAL;VALUE=DURATION:PT1H
X-Robots-Tag:noindex
X-PUBLISHED-TTL:PT1H
BEGIN:VTIMEZONE
TZID:Europe/Prague
BEGIN:DAYLIGHT
TZOFFSETFROM:+0100
TZOFFSETTO:+0200
TZNAME:CEST
DTSTART:20250330T010000
END:DAYLIGHT
BEGIN:STANDARD
TZOFFSETFROM:+0200
TZOFFSETTO:+0100
TZNAME:CET
DTSTART:20251026T010000
END:STANDARD
END:VTIMEZONE
BEGIN:VEVENT
DTSTART;TZID=Europe/Prague:20250530T100000
DTEND;TZID=Europe/Prague:20250530T170000
DTSTAMP:20260423T103641
CREATED:20250507T092137Z
LAST-MODIFIED:20250507T092246Z
UID:9895-1748599200-1748624400@visit.chomutov.cz
SUMMARY:Chomutovský kalamář
DESCRIPTION:Vyhodnocení 24. ročníku literární soutěže.\nVelký sál knihovny.
URL:https://visit.chomutov.cz/kalendar/chomutovsky-kalamar-4/
LOCATION:Chomutovská knihovna\, Palackého 4995\, Chomutov
CATEGORIES:zábavní pořady
ATTACH;FMTTYPE=image/jpeg:https://visit.chomutov.cz/wp-content/uploads/2024/04/Kalamar-logo.jpg
END:VEVENT
END:VCALENDAR