BEGIN:VCALENDAR
VERSION:2.0
PRODID:-//Visit Chomutov - ECPv5.14.2.1//NONSGML v1.0//EN
CALSCALE:GREGORIAN
METHOD:PUBLISH
X-WR-CALNAME:Visit Chomutov
X-ORIGINAL-URL:https://visit.chomutov.cz
X-WR-CALDESC:Akce na Visit Chomutov
REFRESH-INTERVAL;VALUE=DURATION:PT1H
X-Robots-Tag:noindex
X-PUBLISHED-TTL:PT1H
BEGIN:VTIMEZONE
TZID:Europe/Prague
BEGIN:DAYLIGHT
TZOFFSETFROM:+0100
TZOFFSETTO:+0200
TZNAME:CEST
DTSTART:20250330T010000
END:DAYLIGHT
BEGIN:STANDARD
TZOFFSETFROM:+0200
TZOFFSETTO:+0100
TZNAME:CET
DTSTART:20251026T010000
END:STANDARD
END:VTIMEZONE
BEGIN:VEVENT
DTSTART;TZID=Europe/Prague:20250430T160000
DTEND;TZID=Europe/Prague:20250430T160000
DTSTAMP:20260423T134206
CREATED:20250326T151336Z
LAST-MODIFIED:20250326T151346Z
UID:9620-1746028800-1746028800@visit.chomutov.cz
SUMMARY:Pálení čarodějnic na Verosu
DESCRIPTION:
URL:https://visit.chomutov.cz/kalendar/paleni-carodejnic-na-verosu/
LOCATION:TJ Veros\, Mýtná 4962\, Chomutov\, 43001
CATEGORIES:pro děti,zábavní pořady
ATTACH;FMTTYPE=image/png:https://visit.chomutov.cz/wp-content/uploads/2025/03/paleni-carodejnic-Veros.png
END:VEVENT
BEGIN:VEVENT
DTSTART;TZID=Europe/Prague:20250430T160000
DTEND;TZID=Europe/Prague:20250430T201500
DTSTAMP:20260423T134206
CREATED:20250326T145537Z
LAST-MODIFIED:20250326T145548Z
UID:9596-1746028800-1746044100@visit.chomutov.cz
SUMMARY:Pálení čarodějnic se stavěním májky
DESCRIPTION:akce nejen pro rodiny s dětmi soutěžící s Rodinným zápolením
URL:https://visit.chomutov.cz/kalendar/paleni-carodejnic-se-stavenim-majky/
LOCATION:Bývalý letní stadion\, Tyršova\, Chomutov
CATEGORIES:pro děti,zábavní pořady
ATTACH;FMTTYPE=image/jpeg:https://visit.chomutov.cz/wp-content/uploads/2025/03/chomutov-rz-A2-plakat-paleni-carodejnic-majka-2503.jpg
ORGANIZER;CN="Statut%C3%A1rn%C3%AD%20m%C4%9Bsto%20Chomutov":MAILTO:infocentrum@chomutov.cz
END:VEVENT
END:VCALENDAR