BEGIN:VCALENDAR
VERSION:2.0
PRODID:-//Visit Chomutov - ECPv5.14.2.1//NONSGML v1.0//EN
CALSCALE:GREGORIAN
METHOD:PUBLISH
X-WR-CALNAME:Visit Chomutov
X-ORIGINAL-URL:https://visit.chomutov.cz
X-WR-CALDESC:Akce na Visit Chomutov
REFRESH-INTERVAL;VALUE=DURATION:PT1H
X-Robots-Tag:noindex
X-PUBLISHED-TTL:PT1H
BEGIN:VTIMEZONE
TZID:Europe/Prague
BEGIN:DAYLIGHT
TZOFFSETFROM:+0100
TZOFFSETTO:+0200
TZNAME:CEST
DTSTART:20250330T010000
END:DAYLIGHT
BEGIN:STANDARD
TZOFFSETFROM:+0200
TZOFFSETTO:+0100
TZNAME:CET
DTSTART:20251026T010000
END:STANDARD
END:VTIMEZONE
BEGIN:VEVENT
DTSTART;TZID=Europe/Prague:20250425T153000
DTEND;TZID=Europe/Prague:20250425T183000
DTSTAMP:20260423T134221
CREATED:20250327T064401Z
LAST-MODIFIED:20250327T064412Z
UID:9641-1745595000-1745605800@visit.chomutov.cz
SUMMARY:Jarní swap
DESCRIPTION:výměna věcí – oblečení dámské\, pánské\, dětské
URL:https://visit.chomutov.cz/kalendar/jarni-swap/
LOCATION:Prostor\, 28. října 1113/16\, Chomutov\, 43001
CATEGORIES:trhy,zábavní pořady
ATTACH;FMTTYPE=image/jpeg:https://visit.chomutov.cz/wp-content/uploads/2024/12/409674950_271755425895935_9071473953687850934_n.jpg
END:VEVENT
END:VCALENDAR