BEGIN:VCALENDAR
VERSION:2.0
PRODID:-//Visit Chomutov - ECPv5.14.2.1//NONSGML v1.0//EN
CALSCALE:GREGORIAN
METHOD:PUBLISH
X-WR-CALNAME:Visit Chomutov
X-ORIGINAL-URL:https://visit.chomutov.cz
X-WR-CALDESC:Akce na Visit Chomutov
REFRESH-INTERVAL;VALUE=DURATION:PT1H
X-Robots-Tag:noindex
X-PUBLISHED-TTL:PT1H
BEGIN:VTIMEZONE
TZID:Europe/Prague
BEGIN:DAYLIGHT
TZOFFSETFROM:+0100
TZOFFSETTO:+0200
TZNAME:CEST
DTSTART:20250330T010000
END:DAYLIGHT
BEGIN:STANDARD
TZOFFSETFROM:+0200
TZOFFSETTO:+0100
TZNAME:CET
DTSTART:20251026T010000
END:STANDARD
END:VTIMEZONE
BEGIN:VEVENT
DTSTART;TZID=Europe/Prague:20250419T110000
DTEND;TZID=Europe/Prague:20250419T190000
DTSTAMP:20260423T134221
CREATED:20250326T150257Z
LAST-MODIFIED:20250326T150257Z
UID:9603-1745060400-1745089200@visit.chomutov.cz
SUMMARY:Jarní ulice
DESCRIPTION:divadlo\, koncert\, dílna pro děti\, lokální produkty\, místní gastro – tím vším ožije Ruská ulice
URL:https://visit.chomutov.cz/kalendar/jarni-ulice/
CATEGORIES:zábavní pořady
ATTACH;FMTTYPE=image/jpeg:https://visit.chomutov.cz/wp-content/uploads/2025/03/Jarni-ulice.jpg
END:VEVENT
BEGIN:VEVENT
DTSTART;TZID=Europe/Prague:20250419T120000
DTEND;TZID=Europe/Prague:20250419T160000
DTSTAMP:20260423T134221
CREATED:20250326T150446Z
LAST-MODIFIED:20250326T150446Z
UID:3554-1745064000-1745078400@visit.chomutov.cz
SUMMARY:Den Země
DESCRIPTION:
URL:https://visit.chomutov.cz/kalendar/den-zeme-2/
LOCATION:Zoopark Chomutov\, Přemyslova 259\, Chomutov\, 43001
CATEGORIES:zábavní pořady
ATTACH;FMTTYPE=image/jpeg:https://visit.chomutov.cz/wp-content/uploads/2021/11/Zoopark_panda-cervena-Velke.jpg
END:VEVENT
END:VCALENDAR