BEGIN:VCALENDAR
VERSION:2.0
PRODID:-//Visit Chomutov - ECPv5.14.2.1//NONSGML v1.0//EN
CALSCALE:GREGORIAN
METHOD:PUBLISH
X-WR-CALNAME:Visit Chomutov
X-ORIGINAL-URL:https://visit.chomutov.cz
X-WR-CALDESC:Akce na Visit Chomutov
REFRESH-INTERVAL;VALUE=DURATION:PT1H
X-Robots-Tag:noindex
X-PUBLISHED-TTL:PT1H
BEGIN:VTIMEZONE
TZID:Europe/Prague
BEGIN:DAYLIGHT
TZOFFSETFROM:+0100
TZOFFSETTO:+0200
TZNAME:CEST
DTSTART:20250330T010000
END:DAYLIGHT
BEGIN:STANDARD
TZOFFSETFROM:+0200
TZOFFSETTO:+0100
TZNAME:CET
DTSTART:20251026T010000
END:STANDARD
END:VTIMEZONE
BEGIN:VEVENT
DTSTART;TZID=Europe/Prague:20250415T190000
DTEND;TZID=Europe/Prague:20250415T190000
DTSTAMP:20260423T134305
CREATED:20250326T144926Z
LAST-MODIFIED:20250326T145054Z
UID:9591-1744743600-1744743600@visit.chomutov.cz
SUMMARY:Techtle Mechtle - Hostinec u Maruny
DESCRIPTION:Co všechno se dá zažít v jedné vesnické hospůdce během přípravy hasičského plesu\, to uvidíte právě v české travesti hudební komedii. Chybět nebude pořádná dávka českého humoru\, láska\, hospodská rvačka a pivo poteče jak jinak než proudem. Samozřejmě zazní během večera české hospodské písničky\, které si budete broukat ještě na cestě domů a i celý druhý den…
URL:https://visit.chomutov.cz/kalendar/techtle-mechtle-hostinec-u-maruny/
LOCATION:Městské divadlo\, Boženy Němcové 552/32\, Chomutov
CATEGORIES:zábavní pořady
ATTACH;FMTTYPE=image/jpeg:https://visit.chomutov.cz/wp-content/uploads/2025/03/Hostinec-u-Maruny.jpeg
END:VEVENT
END:VCALENDAR