BEGIN:VCALENDAR
VERSION:2.0
PRODID:-//Visit Chomutov - ECPv5.14.2.1//NONSGML v1.0//EN
CALSCALE:GREGORIAN
METHOD:PUBLISH
X-WR-CALNAME:Visit Chomutov
X-ORIGINAL-URL:https://visit.chomutov.cz
X-WR-CALDESC:Akce na Visit Chomutov
REFRESH-INTERVAL;VALUE=DURATION:PT1H
X-Robots-Tag:noindex
X-PUBLISHED-TTL:PT1H
BEGIN:VTIMEZONE
TZID:Europe/Prague
BEGIN:DAYLIGHT
TZOFFSETFROM:+0100
TZOFFSETTO:+0200
TZNAME:CEST
DTSTART:20250330T010000
END:DAYLIGHT
BEGIN:STANDARD
TZOFFSETFROM:+0200
TZOFFSETTO:+0100
TZNAME:CET
DTSTART:20251026T010000
END:STANDARD
END:VTIMEZONE
BEGIN:VEVENT
DTSTART;TZID=Europe/Prague:20250412T090000
DTEND;TZID=Europe/Prague:20250412T170000
DTSTAMP:20260423T134220
CREATED:20250326T101713Z
LAST-MODIFIED:20250326T101713Z
UID:9507-1744448400-1744477200@visit.chomutov.cz
SUMMARY:Mezinárodní den památek a sídel 2025
DESCRIPTION:zpřístupnění chomutovských památek zdarma
URL:https://visit.chomutov.cz/kalendar/mezinarodni-den-pamatek-a-sidel-2025/
CATEGORIES:zábavní pořady
ATTACH;FMTTYPE=image/jpeg:https://visit.chomutov.cz/wp-content/uploads/2025/03/Mezinarodni-den-pamatek-a-sidel.jpg
ORGANIZER;CN="Statut%C3%A1rn%C3%AD%20m%C4%9Bsto%20Chomutov":MAILTO:infocentrum@chomutov.cz
END:VEVENT
BEGIN:VEVENT
DTSTART;TZID=Europe/Prague:20250412T200000
DTEND;TZID=Europe/Prague:20250412T220000
DTSTAMP:20260423T134220
CREATED:20250326T140959Z
LAST-MODIFIED:20250326T141111Z
UID:9549-1744488000-1744495200@visit.chomutov.cz
SUMMARY:Mezinárodní den kosmonautiky
DESCRIPTION:
URL:https://visit.chomutov.cz/kalendar/mezinarodni-den-kosmonautiky-2/
LOCATION:Hvězdárna F. J. Gerstnera\, Lipská 2207\, Chomutov
CATEGORIES:vzdělávání,zábavní pořady
ATTACH;FMTTYPE=image/jpeg:https://visit.chomutov.cz/wp-content/uploads/2025/03/pexels-pixabay-41006.jpg
END:VEVENT
END:VCALENDAR