BEGIN:VCALENDAR
VERSION:2.0
PRODID:-//Visit Chomutov - ECPv5.14.2.1//NONSGML v1.0//EN
CALSCALE:GREGORIAN
METHOD:PUBLISH
X-WR-CALNAME:Visit Chomutov
X-ORIGINAL-URL:https://visit.chomutov.cz
X-WR-CALDESC:Akce na Visit Chomutov
REFRESH-INTERVAL;VALUE=DURATION:PT1H
X-Robots-Tag:noindex
X-PUBLISHED-TTL:PT1H
BEGIN:VTIMEZONE
TZID:Europe/Prague
BEGIN:DAYLIGHT
TZOFFSETFROM:+0100
TZOFFSETTO:+0200
TZNAME:CEST
DTSTART:20250330T010000
END:DAYLIGHT
BEGIN:STANDARD
TZOFFSETFROM:+0200
TZOFFSETTO:+0100
TZNAME:CET
DTSTART:20251026T010000
END:STANDARD
END:VTIMEZONE
BEGIN:VEVENT
DTSTART;TZID=Europe/Prague:20250301T083000
DTEND;TZID=Europe/Prague:20250301T083000
DTSTAMP:20260423T153045
CREATED:20240220T125216Z
LAST-MODIFIED:20250225T090224Z
UID:6340-1740817800-1740817800@visit.chomutov.cz
SUMMARY:Den poezie
DESCRIPTION:Okresní kolo přehlídky dětské recitace. Chomutovská knihovna akci pořádá ve spolupráci se Střediskem volného času Domeček.
URL:https://visit.chomutov.cz/kalendar/den-poezie-2/
CATEGORIES:pro děti,zábavní pořady
ATTACH;FMTTYPE=image/jpeg:https://visit.chomutov.cz/wp-content/uploads/2024/02/pexels-suzy-hazelwood-1526049.jpg
END:VEVENT
BEGIN:VEVENT
DTSTART;TZID=Europe/Prague:20250301T180000
DTEND;TZID=Europe/Prague:20250301T180000
DTSTAMP:20260423T153045
CREATED:20250225T074058Z
LAST-MODIFIED:20250225T074347Z
UID:9159-1740852000-1740852000@visit.chomutov.cz
SUMMARY:Tradiční masopust v Kaféčku
DESCRIPTION:
URL:https://visit.chomutov.cz/kalendar/tradicni-masopust-v-kafecku/
LOCATION:Cafe 44\, Revoluční 44\, Chomutov\, 43001
CATEGORIES:zábavní pořady
ATTACH;FMTTYPE=image/jpeg:https://visit.chomutov.cz/wp-content/uploads/2025/02/masopust-v-Kafecku.jpg
END:VEVENT
END:VCALENDAR