BEGIN:VCALENDAR
VERSION:2.0
PRODID:-//Visit Chomutov - ECPv5.14.2.1//NONSGML v1.0//EN
CALSCALE:GREGORIAN
METHOD:PUBLISH
X-WR-CALNAME:Visit Chomutov
X-ORIGINAL-URL:https://visit.chomutov.cz
X-WR-CALDESC:Akce na Visit Chomutov
REFRESH-INTERVAL;VALUE=DURATION:PT1H
X-Robots-Tag:noindex
X-PUBLISHED-TTL:PT1H
BEGIN:VTIMEZONE
TZID:Europe/Prague
BEGIN:DAYLIGHT
TZOFFSETFROM:+0100
TZOFFSETTO:+0200
TZNAME:CEST
DTSTART:20250330T010000
END:DAYLIGHT
BEGIN:STANDARD
TZOFFSETFROM:+0200
TZOFFSETTO:+0100
TZNAME:CET
DTSTART:20251026T010000
END:STANDARD
END:VTIMEZONE
BEGIN:VEVENT
DTSTART;VALUE=DATE:20251104
DTEND;VALUE=DATE:20251106
DTSTAMP:20260423T010022
CREATED:20251103T153739Z
LAST-MODIFIED:20251103T153739Z
UID:11336-1762214400-1762387199@visit.chomutov.cz
SUMMARY:Veselá show Ády Dudka
DESCRIPTION:výtvarná představení Adolfa Dudka určená MŠ a ZŠ
URL:https://visit.chomutov.cz/kalendar/vesela-show-ady-dudka/
LOCATION:Chomutovská knihovna\, Palackého 4995\, Chomutov
CATEGORIES:pro děti,vzdělávání,zábavní pořady
ATTACH;FMTTYPE=image/jpeg:https://visit.chomutov.cz/wp-content/uploads/2025/11/dudek.jpg
END:VEVENT
BEGIN:VEVENT
DTSTART;TZID=Europe/Prague:20251104T170000
DTEND;TZID=Europe/Prague:20251104T170000
DTSTAMP:20260423T010022
CREATED:20251103T153324Z
LAST-MODIFIED:20251103T153324Z
UID:11330-1762275600-1762275600@visit.chomutov.cz
SUMMARY:Čechoameričané u US NAVY
DESCRIPTION:Kdo by neznal vesmírný program Apollo\, nebo TOPGUN… Přednáška PhDr. Daniela Švece se zaměřuje na osudy celkem deseti letců s českými kořeny\, kteří se významnou měrou zapsali do historie letectví US NAVY.
URL:https://visit.chomutov.cz/kalendar/cechoamericane-u-us-navy/
LOCATION:Oblastní muzeum v Chomutově – hlavní budova\, Palackého 86\, Chomutov\, Česká republika
CATEGORIES:vzdělávání,zábavní pořady
ATTACH;FMTTYPE=image/png:https://visit.chomutov.cz/wp-content/uploads/2025/11/us-navy.png
ORGANIZER;CN="Oblastn%C3%AD%20muzeum%20v%20Chomutov%C4%9B":MAILTO:sekretariat@muzeumchomutov.cz
END:VEVENT
BEGIN:VEVENT
DTSTART;TZID=Europe/Prague:20251108T110000
DTEND;TZID=Europe/Prague:20251108T190000
DTSTAMP:20260423T010022
CREATED:20251104T064913Z
LAST-MODIFIED:20251104T064913Z
UID:11365-1762599600-1762628400@visit.chomutov.cz
SUMMARY:Break Invasion
DESCRIPTION:II. ročník – breakdancové soutěže
URL:https://visit.chomutov.cz/kalendar/break-invasion/
LOCATION:Středisko volného času Domeček Chomutov\, Jiráskova 4140\, Chomutov
CATEGORIES:sportovní akce,zábavní pořady
ATTACH;FMTTYPE=image/jpeg:https://visit.chomutov.cz/wp-content/uploads/2025/11/Break-invasion.jpg
END:VEVENT
BEGIN:VEVENT
DTSTART;TZID=Europe/Prague:20251108T170000
DTEND;TZID=Europe/Prague:20251108T170000
DTSTAMP:20260423T010022
CREATED:20251104T071046Z
LAST-MODIFIED:20251104T071046Z
UID:11380-1762621200-1762621200@visit.chomutov.cz
SUMMARY:Vánoční loupež
DESCRIPTION:muzikál pro děti
URL:https://visit.chomutov.cz/kalendar/vanocni-loupez/
LOCATION:Městské divadlo\, Boženy Němcové 552/32\, Chomutov
CATEGORIES:pro děti,zábavní pořady
ATTACH;FMTTYPE=image/jpeg:https://visit.chomutov.cz/wp-content/uploads/2025/11/Vanocni-loupez.jpg
END:VEVENT
BEGIN:VEVENT
DTSTART;TZID=Europe/Prague:20251108T180000
DTEND;TZID=Europe/Prague:20251108T200000
DTSTAMP:20260423T010022
CREATED:20251104T065417Z
LAST-MODIFIED:20251104T065449Z
UID:11368-1762624800-1762632000@visit.chomutov.cz
SUMMARY:Naty Hrychová
DESCRIPTION:beseda a koncert se známou zpěvačkou\, herečkou a moderátorkou pod taktovkou divadla NaOko Chomutov
URL:https://visit.chomutov.cz/kalendar/naty-hrychova/
LOCATION:Kulturní dům KASS\, Zahradní 5341\, Chomutov
CATEGORIES:zábavní pořady
ATTACH;FMTTYPE=image/jpeg:https://visit.chomutov.cz/wp-content/uploads/2025/11/Naty-Hrychova.jpeg
ORGANIZER;CN="Divadlo%20NaOko":MAILTO:info@divadlonaoko.cz
END:VEVENT
BEGIN:VEVENT
DTSTART;TZID=Europe/Prague:20251111T110000
DTEND;TZID=Europe/Prague:20251111T110000
DTSTAMP:20260423T010022
CREATED:20251024T114932Z
LAST-MODIFIED:20251024T120442Z
UID:11320-1762858800-1762858800@visit.chomutov.cz
SUMMARY:Den válečných veteránů
DESCRIPTION:pietní akt
URL:https://visit.chomutov.cz/kalendar/den-valecnych-veteranu-4/
LOCATION:Památník padlých\, Lipská\, Chomutov
CATEGORIES:zábavní pořady
ATTACH;FMTTYPE=image/jpeg:https://visit.chomutov.cz/wp-content/uploads/2025/10/plakat.jpg
ORGANIZER;CN="Statut%C3%A1rn%C3%AD%20m%C4%9Bsto%20Chomutov":MAILTO:infocentrum@chomutov.cz
END:VEVENT
BEGIN:VEVENT
DTSTART;TZID=Europe/Prague:20251117T100000
DTEND;TZID=Europe/Prague:20251117T100000
DTSTAMP:20260423T010022
CREATED:20251024T113730Z
LAST-MODIFIED:20251024T113745Z
UID:11301-1763373600-1763373600@visit.chomutov.cz
SUMMARY:Den boje za svobodu a demokracii a mezinárodní den studenstva
DESCRIPTION:
URL:https://visit.chomutov.cz/kalendar/den-boje-za-svobodu-a-demokracii-a-mezinarodni-den-studenstva-2/
LOCATION:Památník padlých\, Lipská\, Chomutov
CATEGORIES:zábavní pořady
ATTACH;FMTTYPE=image/jpeg:https://visit.chomutov.cz/wp-content/uploads/2025/10/Den-boje-za-svobodu.jpg
ORGANIZER;CN="Statut%C3%A1rn%C3%AD%20m%C4%9Bsto%20Chomutov":MAILTO:infocentrum@chomutov.cz
END:VEVENT
BEGIN:VEVENT
DTSTART;TZID=Europe/Prague:20251117T170000
DTEND;TZID=Europe/Prague:20251117T170000
DTSTAMP:20260423T010022
CREATED:20251104T075445Z
LAST-MODIFIED:20251112T135418Z
UID:11412-1763398800-1763398800@visit.chomutov.cz
SUMMARY:Sametových 36
DESCRIPTION:
URL:https://visit.chomutov.cz/kalendar/sametovych-36/
LOCATION:Kostel sv. Kateřiny\, Chelčického 100\, Chomutov
CATEGORIES:zábavní pořady
ATTACH;FMTTYPE=image/jpeg:https://visit.chomutov.cz/wp-content/uploads/2025/11/11_17-Samet-scaled.jpg
ORGANIZER;CN="Oblastn%C3%AD%20muzeum%20v%20Chomutov%C4%9B":MAILTO:sekretariat@muzeumchomutov.cz
END:VEVENT
BEGIN:VEVENT
DTSTART;TZID=Europe/Prague:20251121T190000
DTEND;TZID=Europe/Prague:20251121T190000
DTSTAMP:20260423T010022
CREATED:20251024T114557Z
LAST-MODIFIED:20251024T114557Z
UID:11313-1763751600-1763751600@visit.chomutov.cz
SUMMARY:Benefiční slam poetry za duševní zdraví dětí
DESCRIPTION:
URL:https://visit.chomutov.cz/kalendar/beneficni-slam-poetry-za-dusevni-zdravi-deti/
LOCATION:Sklepení Osudu\, Revoluční 48/13\, Chomutov
CATEGORIES:zábavní pořady
ATTACH;FMTTYPE=image/png:https://visit.chomutov.cz/wp-content/uploads/2025/10/slam_poetry_21_11_25.png
END:VEVENT
BEGIN:VEVENT
DTSTART;TZID=Europe/Prague:20251122T130000
DTEND;TZID=Europe/Prague:20251122T130000
DTSTAMP:20260423T010022
CREATED:20251104T093118Z
LAST-MODIFIED:20251104T093118Z
UID:11468-1763816400-1763816400@visit.chomutov.cz
SUMMARY:Krvavá hodina odbila
DESCRIPTION:společenská hra\, účast je nutné potvrdit ve studovně předem
URL:https://visit.chomutov.cz/kalendar/krvava-hodina-odbila/
LOCATION:Galerie Lurago\, Palackého 85\, Chomutov
CATEGORIES:zábavní pořady
ATTACH;FMTTYPE=image/jpeg:https://visit.chomutov.cz/wp-content/uploads/2025/11/Krvava_-hodina_odbila.jpg
END:VEVENT
BEGIN:VEVENT
DTSTART;TZID=Europe/Prague:20251123T150000
DTEND;TZID=Europe/Prague:20251123T150000
DTSTAMP:20260423T010022
CREATED:20251104T090249Z
LAST-MODIFIED:20251104T090259Z
UID:11443-1763910000-1763910000@visit.chomutov.cz
SUMMARY:Chomutovské taneční gala
DESCRIPTION:moderuje Jan Onder a Jan Tománek\, předprodej vstupenek od 3.11. v Městském informačním centru v Chomutově
URL:https://visit.chomutov.cz/kalendar/chomutovske-tanecni-gala-2/
LOCATION:Městské divadlo\, Boženy Němcové 552/32\, Chomutov
CATEGORIES:zábavní pořady
ATTACH;FMTTYPE=image/jpeg:https://visit.chomutov.cz/wp-content/uploads/2025/11/Tanecni-gala-2025.jpg
ORGANIZER;CN="Statut%C3%A1rn%C3%AD%20m%C4%9Bsto%20Chomutov":MAILTO:infocentrum@chomutov.cz
END:VEVENT
BEGIN:VEVENT
DTSTART;TZID=Europe/Prague:20251124T180000
DTEND;TZID=Europe/Prague:20251124T180000
DTSTAMP:20260423T010022
CREATED:20250929T081115Z
LAST-MODIFIED:20251104T090404Z
UID:11047-1764007200-1764007200@visit.chomutov.cz
SUMMARY:Prodloužená tanečních kurzů
DESCRIPTION:
URL:https://visit.chomutov.cz/kalendar/prodlouzena-tanecnich-kurzu-3/
LOCATION:Městské divadlo\, Boženy Němcové 552/32\, Chomutov
CATEGORIES:vzdělávání,zábavní pořady
ATTACH;FMTTYPE=image/png:https://visit.chomutov.cz/wp-content/uploads/2024/09/ChatGPT-Image-29.-9.-2025-09_47_34.png
END:VEVENT
BEGIN:VEVENT
DTSTART;TZID=Europe/Prague:20251125T163000
DTEND;TZID=Europe/Prague:20251125T170000
DTSTAMP:20260423T010022
CREATED:20251104T090933Z
LAST-MODIFIED:20251104T090933Z
UID:11446-1764088200-1764090000@visit.chomutov.cz
SUMMARY:Renata Šindelářová křest knih
DESCRIPTION:Křest knih Kdo mi pije čaj( román pro dospělé)  a Chyť zloděje z Dobrolesa (gamebook pro děti).
URL:https://visit.chomutov.cz/kalendar/renata-sindelarova-krest-knih/
LOCATION:Café Atrium\, Palackého 85\, Chomutov
CATEGORIES:zábavní pořady
ATTACH;FMTTYPE=image/jpeg:https://visit.chomutov.cz/wp-content/uploads/2025/11/Kdo-mi-pije-cas-Sindelarova-Renata.jpg
ORGANIZER;CN="Masopust%2C%20z.s.":MAILTO:info@masopustspolek.cz
END:VEVENT
BEGIN:VEVENT
DTSTART;TZID=Europe/Prague:20251128T080000
DTEND;TZID=Europe/Prague:20251128T170000
DTSTAMP:20260423T010022
CREATED:20251128T114813Z
LAST-MODIFIED:20251128T114813Z
UID:11665-1764316800-1764349200@visit.chomutov.cz
SUMMARY:Mikulášská disco párty
DESCRIPTION:Srdečně zveme všechny děti na kouzelnou mikulášskou disco party plnou tance\, světýlek a skvělé zábavy!Během odpoledne nás navštíví Mikuláš\, čert i Anděl\, kteří dětem přinesou balíčky\, úsměvy a trochu toho kouzelného mikulášského dobrodružství.\nČekají vás soutěže\, oblíbené dětské písničky\, taneční hry a skvělá atmosféra v útulném sklípku.
URL:https://visit.chomutov.cz/kalendar/mikulasska-disco-party/
LOCATION:Music club Sklípek\, Boženy Němcové 552/32\, Chomutov
CATEGORIES:pro děti,Vánoce,zábavní pořady
ATTACH;FMTTYPE=image/jpeg:https://visit.chomutov.cz/wp-content/uploads/2025/11/Mikulasska-disco-Sklipek.jpg
END:VEVENT
BEGIN:VEVENT
DTSTART;VALUE=DATE:20251129
DTEND;VALUE=DATE:20251225
DTSTAMP:20260423T010022
CREATED:20221018T075356Z
LAST-MODIFIED:20251118T112906Z
UID:2673-1764374400-1766620799@visit.chomutov.cz
SUMMARY:Chomutovské Vánoce
DESCRIPTION:    \n \n \nStatutární město Chomutov děkuje za podporu skupině ČEZ a.s. při rozsvěcení vánočního stromu v našem městě na náměstí 1. máje. \nStatutární město Chomutov děkuje za podporu Severočeským dolům Group\, členu skupiny ČEZ pomáháme za podporu akce Chomutovské Vánoce 2025. \n     
URL:https://visit.chomutov.cz/kalendar/chomutovske-vanoce/
CATEGORIES:pro děti,Vánoce,zábavní pořady
ATTACH;FMTTYPE=image/jpeg:https://visit.chomutov.cz/wp-content/uploads/2022/10/chomutov_vanoce_A3_2025_1_PRESS-page-001-scaled.jpg
ORGANIZER;CN="Statut%C3%A1rn%C3%AD%20m%C4%9Bsto%20Chomutov":MAILTO:infocentrum@chomutov.cz
END:VEVENT
END:VCALENDAR