BEGIN:VCALENDAR
VERSION:2.0
PRODID:-//Visit Chomutov - ECPv5.14.2.1//NONSGML v1.0//EN
CALSCALE:GREGORIAN
METHOD:PUBLISH
X-WR-CALNAME:Visit Chomutov
X-ORIGINAL-URL:https://visit.chomutov.cz
X-WR-CALDESC:Akce na Visit Chomutov
REFRESH-INTERVAL;VALUE=DURATION:PT1H
X-Robots-Tag:noindex
X-PUBLISHED-TTL:PT1H
BEGIN:VTIMEZONE
TZID:Europe/Prague
BEGIN:DAYLIGHT
TZOFFSETFROM:+0100
TZOFFSETTO:+0200
TZNAME:CEST
DTSTART:20250330T010000
END:DAYLIGHT
BEGIN:STANDARD
TZOFFSETFROM:+0200
TZOFFSETTO:+0100
TZNAME:CET
DTSTART:20251026T010000
END:STANDARD
END:VTIMEZONE
BEGIN:VEVENT
DTSTART;TZID=Europe/Prague:20251003T170000
DTEND;TZID=Europe/Prague:20251003T200000
DTSTAMP:20260423T023104
CREATED:20250926T072728Z
LAST-MODIFIED:20250926T072728Z
UID:10947-1759510800-1759521600@visit.chomutov.cz
SUMMARY:CombatBall 6 – CombatBall vs. IAF
DESCRIPTION:Šesté pokračování jedinečné show je tady! Přijďte zažít večer\, kdy se proti sobě postaví týmy plné hvězd bojových sportů a k tomu vystoupí i známé tváře ze světa šoubyznysu. Čeká vás večer plný adrenalinu\, zábavy\, nečekaných momentů a hvězdné atmosféry. Akce je benefiční – výtěžek poputuje na pomoc dvěma dětem\, které naši podporu opravdu potřebují. Přijďte fandit\, bavit se a být součástí nezapomenutelné show\, která spojuje sport\, showbyznys a dobrou věc!
URL:https://visit.chomutov.cz/kalendar/combatball-6-combatball-vs-iaf/
LOCATION:Městská sportovní hala\, Mánesova 4980\, Chomutov
CATEGORIES:sportovní akce,zábavní pořady
ATTACH;FMTTYPE=image/jpeg:https://visit.chomutov.cz/wp-content/uploads/2025/09/Combatball-6-scaled.jpg
END:VEVENT
BEGIN:VEVENT
DTSTART;TZID=Europe/Prague:20251003T170000
DTEND;TZID=Europe/Prague:20251003T220000
DTSTAMP:20260423T023104
CREATED:20250926T082636Z
LAST-MODIFIED:20250926T082636Z
UID:10978-1759510800-1759528800@visit.chomutov.cz
SUMMARY:Pivní ochutnávka
DESCRIPTION:Vítejte na už třetí pivní ochutnávce ve Sklepení osudu. Opět se něco dozvíte o procesu výroby piva a pivních trendech a hlavně ochutnáte deset pivních vzorků různých pivních stylů\, možná i netradičních a rozšíříte si svoje obzory. Malé občerstvení bude připraveno. Kdo bude chtít pojíst něco většího\, k dispozici je kompletní nabídka restaurace U dvou rytířů.
URL:https://visit.chomutov.cz/kalendar/pivni-ochutnavka/
LOCATION:Sklepení Osudu\, Revoluční 48/13\, Chomutov
CATEGORIES:zábavní pořady
ATTACH;FMTTYPE=image/jpeg:https://visit.chomutov.cz/wp-content/uploads/2025/09/Pivni-ochutnavka-3.jpg
END:VEVENT
BEGIN:VEVENT
DTSTART;TZID=Europe/Prague:20251004T140000
DTEND;TZID=Europe/Prague:20251004T170000
DTSTAMP:20260423T023104
CREATED:20250926T075043Z
LAST-MODIFIED:20250926T075043Z
UID:10956-1759586400-1759597200@visit.chomutov.cz
SUMMARY:Den zvířat
DESCRIPTION:Přijďte s námi oslavit svět zvířat a přírody! Čeká vás pestrý program pro děti i dospělé plný hudby\, her a zajímavostí ze zvířecí říše. Přijďte strávit den plný zvířat\, přírody\, zábavy a dobré nálady!
URL:https://visit.chomutov.cz/kalendar/den-zvirat-4/
LOCATION:Zoopark Chomutov\, Přemyslova 259\, Chomutov\, 43001
CATEGORIES:pro děti,zábavní pořady
ATTACH;FMTTYPE=image/png:https://visit.chomutov.cz/wp-content/uploads/2025/09/Den-zvirat-2025.png
END:VEVENT
BEGIN:VEVENT
DTSTART;TZID=Europe/Prague:20251011T110000
DTEND;TZID=Europe/Prague:20251011T110000
DTSTAMP:20260423T023104
CREATED:20250926T072036Z
LAST-MODIFIED:20250926T072125Z
UID:10939-1760180400-1760180400@visit.chomutov.cz
SUMMARY:Ulice na podzim
DESCRIPTION:Ruská opět ožije. Místní podnikatelé otevřou dveře i stánky. Čeká nás všudypřítomná vůně jídla\, dobré pití. Také kreativní dílny\, divadlo\, živá hudba a další program\, který nabídne prostor pro volné plynutí\, sdílení i objevování. Přijďte se projít\, potkat\, zastavit se a být součástí další Ulice – takové\, jakou ji společně umíme vytvořit
URL:https://visit.chomutov.cz/kalendar/ulice-na-podzim/
LOCATION:Ruská ulice\, Ruská\, Chomutov\, 43001
CATEGORIES:zábavní pořady
ATTACH;FMTTYPE=image/jpeg:https://visit.chomutov.cz/wp-content/uploads/2025/09/Ulice-na-podzim.jpg
END:VEVENT
BEGIN:VEVENT
DTSTART;TZID=Europe/Prague:20251012T170000
DTEND;TZID=Europe/Prague:20251012T190000
DTSTAMP:20260423T023104
CREATED:20250926T092332Z
LAST-MODIFIED:20250926T092332Z
UID:11015-1760288400-1760295600@visit.chomutov.cz
SUMMARY:Pouť k sobě
DESCRIPTION:Karolina Maya. Ženy ve věku Babího Léta\, ať už jste po letní dovolené odpočaté nebo si naopak potřebujete oddychnout\, první poprázdninová Pouť k Sobě je tu pro Vás.\nPřijďte do kruhu sebe-vědomých žen\, které se rozhodly vyjít na cestu propojení s vlastní moudrostí a vrátit se ke své pravé podstatě.\nKdo jsme? Co opravdu chceme? Čeho se bojíme? A hlavně\, proč jsme právě tady a teď? Už nám není ani 30 ani 40. Jsme ve věku Babího léta. Čas největšího shonu a někdy i dřiny je za námi. Čas\, kdy odpovědnost za druhé ustupuje do pozadí\, a my konečně můžeme obrátit pozornost samy k sobě. Máme příležitost užít si moudrosti\, kterou jsme během života nasbíraly\, objevit nové role a s radostí plnit svá dlouho odkládaná přání.
URL:https://visit.chomutov.cz/kalendar/pout-k-sobe-4/
LOCATION:Prostor\, 28. října 1113/16\, Chomutov\, 43001
CATEGORIES:vzdělávání,zábavní pořady
ATTACH;FMTTYPE=image/jpeg:https://visit.chomutov.cz/wp-content/uploads/2025/09/Pout-k-sobe.jpg
END:VEVENT
BEGIN:VEVENT
DTSTART;TZID=Europe/Prague:20251017T000000
DTEND;TZID=Europe/Prague:20251017T000000
DTSTAMP:20260423T023104
CREATED:20250929T080101Z
LAST-MODIFIED:20250929T080101Z
UID:11038-1760659200-1760659200@visit.chomutov.cz
SUMMARY:DJ's Mike One a Maniac
DESCRIPTION:Večer věnovaný sedmipalcovým deskám a technickému djingu. Dva mistři svého oboru: DJ Mike One – šampion ve světové soutěži DMC a DJ MANIAC\, reprezentující západočeské uskupení SCRATCHPIONS.
URL:https://visit.chomutov.cz/kalendar/djs-mike-one-a-maniac/
LOCATION:Café Rouge\, Chelčického 100\, Chomutov
CATEGORIES:zábavní pořady
ATTACH;FMTTYPE=image/png:https://visit.chomutov.cz/wp-content/uploads/2025/09/RIJEN-2025-MIKE-MANIAC.png
END:VEVENT
BEGIN:VEVENT
DTSTART;VALUE=DATE:20251017
DTEND;VALUE=DATE:20251019
DTSTAMP:20260423T023104
CREATED:20250929T090222Z
LAST-MODIFIED:20250929T090222Z
UID:11085-1760659200-1760831999@visit.chomutov.cz
SUMMARY:Čtení Ginimo Geňiben
DESCRIPTION:Literární festival. \n17.10. od 18 h – číst bude Patrik Banga a zazpívá Natálie Kuchárová\n18.10. od 17 h – číst budou Klára Krásenská\, Helena Sudová a Jaroslav Švejda
URL:https://visit.chomutov.cz/kalendar/cteni-ginimo-geniben-3/
LOCATION:Farní Sbor Českobratrské církve evangelické\, 28. října 1071\, Chomutov
CATEGORIES:zábavní pořady
ATTACH;FMTTYPE=image/jpeg:https://visit.chomutov.cz/wp-content/uploads/2025/09/cteni25.jpg
END:VEVENT
BEGIN:VEVENT
DTSTART;TZID=Europe/Prague:20251018T193000
DTEND;TZID=Europe/Prague:20251018T193000
DTSTAMP:20260423T023104
CREATED:20250929T080501Z
LAST-MODIFIED:20250929T080518Z
UID:11041-1760815800-1760815800@visit.chomutov.cz
SUMMARY:Troubles + Marije + Carolina
DESCRIPTION:Tři písničkářky z Chomutova nám přijdou ukázat kam se posunula jejich vlastní tvorba. Troubles letos byla jedinou chomutovskou umělkyní na festivalu Moody Moon Noize. 
URL:https://visit.chomutov.cz/kalendar/troubles-marije-carolina/
LOCATION:Café Rouge\, Chelčického 100\, Chomutov
CATEGORIES:zábavní pořady
ATTACH;FMTTYPE=image/jpeg:https://visit.chomutov.cz/wp-content/uploads/2025/09/Troubles.jpg
END:VEVENT
BEGIN:VEVENT
DTSTART;TZID=Europe/Prague:20251019T130000
DTEND;TZID=Europe/Prague:20251019T170000
DTSTAMP:20260423T023104
CREATED:20250926T062940Z
LAST-MODIFIED:20250926T064133Z
UID:10918-1760878800-1760893200@visit.chomutov.cz
SUMMARY:Harampádí/Gerumpelausstellung
DESCRIPTION:Prodejní charitativní výstava.\nSoučástí výstavy je i přednáška „Sběr harampádí\, proč\, kdy a jak“ Martina Krska\, a divadelní představení pro děti.
URL:https://visit.chomutov.cz/kalendar/harampadi-gerumpelausstellung/
LOCATION:Kulisárna\, B. Němcové 552/32\, Chomutov
CATEGORIES:pro děti,vzdělávání,zábavní pořady
ATTACH;FMTTYPE=image/png:https://visit.chomutov.cz/wp-content/uploads/2025/09/Harampadi-vystava.png
ORGANIZER;CN="%C5%BDensk%C3%BD%20spolek%2C%20z.%20s.":MAILTO:zenskyspolek@seznam.cz
END:VEVENT
BEGIN:VEVENT
DTSTART;TZID=Europe/Prague:20251022T190000
DTEND;TZID=Europe/Prague:20251022T190000
DTSTAMP:20260423T023104
CREATED:20250929T084404Z
LAST-MODIFIED:20250929T084404Z
UID:11063-1761159600-1761159600@visit.chomutov.cz
SUMMARY:Švanci show - Já su já
DESCRIPTION:Zábavný pořad Petra Švancary. Čekají vás vtipné historky\, od kariéry fotbalisty\, velkolepé rozlučky za Lužánkami\, návštěv různých zábavních pořadů\, až po účast v reality show Survivor. Dále se těšte na prostor pro otázky na tělo\, autogramiádu\, focení a mnoho dalšího.
URL:https://visit.chomutov.cz/kalendar/svanci-show-ja-su-ja/
LOCATION:Městské divadlo\, Boženy Němcové 552/32\, Chomutov
CATEGORIES:zábavní pořady
ATTACH;FMTTYPE=image/jpeg:https://visit.chomutov.cz/wp-content/uploads/2025/09/Svanci-show.jpg
END:VEVENT
BEGIN:VEVENT
DTSTART;TZID=Europe/Prague:20251024T000000
DTEND;TZID=Europe/Prague:20251024T000000
DTSTAMP:20260423T023104
CREATED:20250929T085203Z
LAST-MODIFIED:20250929T085203Z
UID:11077-1761264000-1761264000@visit.chomutov.cz
SUMMARY:XPRMNTS
DESCRIPTION:DJ CLINICS a jeho hosté. Rodák z Března se opět vrátí do Rouge se svým rezidentním večerem a jako vždy se můžeme těšit na současnou klubovou hudbu\, která nemá hranice v žánrech ani tempu.
URL:https://visit.chomutov.cz/kalendar/xprmnts/
LOCATION:Café Rouge\, Chelčického 100\, Chomutov
CATEGORIES:zábavní pořady
ATTACH;FMTTYPE=image/png:https://visit.chomutov.cz/wp-content/uploads/2025/09/RIJEN-2025-CLINICS.png
END:VEVENT
BEGIN:VEVENT
DTSTART;TZID=Europe/Prague:20251024T090000
DTEND;TZID=Europe/Prague:20251024T170000
DTSTAMP:20260423T023104
CREATED:20250929T084518Z
LAST-MODIFIED:20250929T084518Z
UID:11067-1761296400-1761325200@visit.chomutov.cz
SUMMARY:Den turistických informačních center
DESCRIPTION:navštivte Městské informační centrum a můžete vyhrát zajímavé turistické ceny
URL:https://visit.chomutov.cz/kalendar/den-turistickych-informacnich-center-3/
LOCATION:Městské informační centrum\, U Městských mlýnů 5885\, Chomutov\, 43001
CATEGORIES:zábavní pořady
ATTACH;FMTTYPE=image/jpeg:https://visit.chomutov.cz/wp-content/uploads/2021/11/infocentrum.jpg
ORGANIZER;CN="Statut%C3%A1rn%C3%AD%20m%C4%9Bsto%20Chomutov":MAILTO:infocentrum@chomutov.cz
END:VEVENT
BEGIN:VEVENT
DTSTART;TZID=Europe/Prague:20251024T100000
DTEND;TZID=Europe/Prague:20251024T100000
DTSTAMP:20260423T023104
CREATED:20250929T084732Z
LAST-MODIFIED:20250929T084732Z
UID:11069-1761300000-1761300000@visit.chomutov.cz
SUMMARY:130. výročí narození mjr. Josefa Šulce
DESCRIPTION:vzpomínková pietní akce
URL:https://visit.chomutov.cz/kalendar/130-vyroci-narozeni-mjr-josefa-sulce/
LOCATION:Pomník Mjr. Šulce\, Mjr. Šulce\, Chomutov
CATEGORIES:zábavní pořady
ATTACH;FMTTYPE=image/jpeg:https://visit.chomutov.cz/wp-content/uploads/2025/09/pozvanka-2025-k-tisku.jpg
ORGANIZER;CN="Statut%C3%A1rn%C3%AD%20m%C4%9Bsto%20Chomutov":MAILTO:infocentrum@chomutov.cz
END:VEVENT
BEGIN:VEVENT
DTSTART;TZID=Europe/Prague:20251024T180000
DTEND;TZID=Europe/Prague:20251024T180000
DTSTAMP:20260423T023104
CREATED:20250929T085443Z
LAST-MODIFIED:20250929T085443Z
UID:11080-1761328800-1761328800@visit.chomutov.cz
SUMMARY:Líheň
DESCRIPTION:kombinované hudebně výtvarné vystoupe
URL:https://visit.chomutov.cz/kalendar/lihen/
LOCATION:Kostel sv. Kateřiny\, Chelčického 100\, Chomutov
CATEGORIES:koncert,zábavní pořady
ATTACH;FMTTYPE=image/jpeg:https://visit.chomutov.cz/wp-content/uploads/2022/05/DSC09775-HDR.jpg
ORGANIZER;CN="Oblastn%C3%AD%20muzeum%20v%20Chomutov%C4%9B":MAILTO:sekretariat@muzeumchomutov.cz
END:VEVENT
BEGIN:VEVENT
DTSTART;TZID=Europe/Prague:20251025T090000
DTEND;TZID=Europe/Prague:20251025T170000
DTSTAMP:20260423T023104
CREATED:20250929T093820Z
LAST-MODIFIED:20250929T093820Z
UID:11088-1761382800-1761411600@visit.chomutov.cz
SUMMARY:Workshop improvizovaného divadla
DESCRIPTION:
URL:https://visit.chomutov.cz/kalendar/workshop-improvizovaneho-divadla-2/
LOCATION:Druhé PATRO\, Ruská 17\, Chomutov
CATEGORIES:divadlo,vzdělávání,zábavní pořady
ATTACH;FMTTYPE=image/jpeg:https://visit.chomutov.cz/wp-content/uploads/2025/05/Workshop-improvizovaneho-divadla.jpg
ORGANIZER;CN="Kuprosp%C4%9Bchu%2C%20z.%20s.":MAILTO:info@kuprospechu.org
END:VEVENT
BEGIN:VEVENT
DTSTART;TZID=Europe/Prague:20251025T190000
DTEND;TZID=Europe/Prague:20251025T190000
DTSTAMP:20260423T023104
CREATED:20250926T071643Z
LAST-MODIFIED:20250926T071729Z
UID:10935-1761418800-1761418800@visit.chomutov.cz
SUMMARY:Slavnostní večer k 80. výročí ZUŠ T. G. Masaryka
DESCRIPTION:Srdečně vás zveme na slavnostní večer\, kterým oslavíme 80 let naší školy. Čeká vás bohatý a pestrý program plný hudby\, tance\, vzpomínek i překvapení. Hlavní kapela večera: The Elevators – živá hudba\, která provoní celý večer tancem a dobrou náladou. Přijďte s námi oslavit významné výročí školy\, která už 80 let přináší hudbu\, tanec\, výtvarné umění i divadlo do života Chomutova.
URL:https://visit.chomutov.cz/kalendar/slavnostni-vecer-k-80-vyroci-zus-t-g-masaryka/
LOCATION:Městské divadlo\, Boženy Němcové 552/32\, Chomutov
CATEGORIES:zábavní pořady
ATTACH;FMTTYPE=image/jpeg:https://visit.chomutov.cz/wp-content/uploads/2025/09/80-let-ZUS.jpg
END:VEVENT
BEGIN:VEVENT
DTSTART;TZID=Europe/Prague:20251028T120000
DTEND;TZID=Europe/Prague:20251028T120000
DTSTAMP:20260423T023104
CREATED:20250929T085009Z
LAST-MODIFIED:20250929T085009Z
UID:11074-1761652800-1761652800@visit.chomutov.cz
SUMMARY:Pietní akt k výročí vzniku samostatného československého státu
DESCRIPTION:
URL:https://visit.chomutov.cz/kalendar/pietni-akt-k-vyroci-vzniku-samostatneho-ceskoslovenskeho-statu-2/
LOCATION:Náměstí T. G. Masaryka\, náměstí T. G. Masaryka\, Chomutov\, 43001
CATEGORIES:zábavní pořady
ATTACH;FMTTYPE=image/jpeg:https://visit.chomutov.cz/wp-content/uploads/2025/09/plakat.jpg
ORGANIZER;CN="Statut%C3%A1rn%C3%AD%20m%C4%9Bsto%20Chomutov":MAILTO:infocentrum@chomutov.cz
END:VEVENT
END:VCALENDAR