BEGIN:VCALENDAR
VERSION:2.0
PRODID:-//Visit Chomutov - ECPv5.14.2.1//NONSGML v1.0//EN
CALSCALE:GREGORIAN
METHOD:PUBLISH
X-WR-CALNAME:Visit Chomutov
X-ORIGINAL-URL:https://visit.chomutov.cz
X-WR-CALDESC:Akce na Visit Chomutov
REFRESH-INTERVAL;VALUE=DURATION:PT1H
X-Robots-Tag:noindex
X-PUBLISHED-TTL:PT1H
BEGIN:VTIMEZONE
TZID:Europe/Prague
BEGIN:DAYLIGHT
TZOFFSETFROM:+0100
TZOFFSETTO:+0200
TZNAME:CEST
DTSTART:20250330T010000
END:DAYLIGHT
BEGIN:STANDARD
TZOFFSETFROM:+0200
TZOFFSETTO:+0100
TZNAME:CET
DTSTART:20251026T010000
END:STANDARD
END:VTIMEZONE
BEGIN:VEVENT
DTSTART;TZID=Europe/Prague:20250906T090000
DTEND;TZID=Europe/Prague:20250906T170000
DTSTAMP:20260423T041701
CREATED:20250828T105005Z
LAST-MODIFIED:20250828T105005Z
UID:10613-1757149200-1757178000@visit.chomutov.cz
SUMMARY:Den evropského dědictví
DESCRIPTION:zpřístupnění památek
URL:https://visit.chomutov.cz/kalendar/den-evropskeho-dedictvi-3/
CATEGORIES:zábavní pořady
ATTACH;FMTTYPE=image/jpeg:https://visit.chomutov.cz/wp-content/uploads/2025/08/den-evropskeho-dedictvi-doplneni-scaled.jpg
ORGANIZER;CN="Statut%C3%A1rn%C3%AD%20m%C4%9Bsto%20Chomutov":MAILTO:infocentrum@chomutov.cz
END:VEVENT
BEGIN:VEVENT
DTSTART;TZID=Europe/Prague:20250906T130000
DTEND;TZID=Europe/Prague:20250906T220000
DTSTAMP:20260423T041701
CREATED:20250828T105238Z
LAST-MODIFIED:20250828T105238Z
UID:10617-1757163600-1757196000@visit.chomutov.cz
SUMMARY:Chomutovský festival vína
DESCRIPTION:
URL:https://visit.chomutov.cz/kalendar/chomutovsky-festival-vina-4/
LOCATION:náměstí 1. máje Chomutov\, nám. 1. máje\, Chomutov
CATEGORIES:trhy,zábavní pořady
ATTACH;FMTTYPE=image/jpeg:https://visit.chomutov.cz/wp-content/uploads/2025/08/vino-plakat-chomutovsky-scaled.jpg
END:VEVENT
BEGIN:VEVENT
DTSTART;TZID=Europe/Prague:20250912T170000
DTEND;TZID=Europe/Prague:20250912T200000
DTSTAMP:20260423T041701
CREATED:20250904T071246Z
LAST-MODIFIED:20250904T071246Z
UID:10750-1757696400-1757707200@visit.chomutov.cz
SUMMARY:Malování vínem - Workshop s Adél
DESCRIPTION:
URL:https://visit.chomutov.cz/kalendar/malovani-vinem-workshop-s-adel/
LOCATION:Prostor\, 28. října 1113/16\, Chomutov\, 43001
CATEGORIES:vzdělávání,zábavní pořady
ATTACH;FMTTYPE=image/jpeg:https://visit.chomutov.cz/wp-content/uploads/2025/09/02.jpg
END:VEVENT
BEGIN:VEVENT
DTSTART;TZID=Europe/Prague:20250913T100000
DTEND;TZID=Europe/Prague:20250913T140000
DTSTAMP:20260423T041701
CREATED:20250904T071728Z
LAST-MODIFIED:20250904T071728Z
UID:10753-1757757600-1757772000@visit.chomutov.cz
SUMMARY:Uháčkuj si košík
DESCRIPTION:Zveme tě na pohodový kurz háčkování\, kde si během pár hodin vyrobíš vlastní košíček ze špagátu s dřevěným dnem. Naučíš se základy háčkování a domů si odneseš nejen hotový kousek\, ale i chuť tvořit dál. \nKurzem tě provede Ing. Gabriela Knoblochová\, která celý život něco tvoří – výtvarničí\, šperkaří\, zkouší různé materiály a techniky\, a hlavně háčkuje. Svou radost z tvoření ráda sdílí s ostatními a předává dál to\, co sama objevila.
URL:https://visit.chomutov.cz/kalendar/uhackuj-si-kosik/
LOCATION:Prostor\, 28. října 1113/16\, Chomutov\, 43001
CATEGORIES:vzdělávání,zábavní pořady
ATTACH;FMTTYPE=image/jpeg:https://visit.chomutov.cz/wp-content/uploads/2025/09/01.jpg
END:VEVENT
BEGIN:VEVENT
DTSTART;TZID=Europe/Prague:20250913T100000
DTEND;TZID=Europe/Prague:20250913T220000
DTSTAMP:20260423T041701
CREATED:20250828T113149Z
LAST-MODIFIED:20250829T073004Z
UID:10631-1757757600-1757800800@visit.chomutov.cz
SUMMARY:50 let Zooparku Chomutov
DESCRIPTION:staročeská vesnice a tradice ve Staré Vsi\, animační programy pro děti\, divadelní a hudební vystoupení\, komentované prohlídky zvířat v zooparku\, jezdecké exhibice\, voltiž\, parkur v jízdárně\, v programu dále vystoupí LENNY\, SEBASTIAN\, VANUA2\, LIKE-IT\, THE ELEVATORS
URL:https://visit.chomutov.cz/kalendar/50-let-zooparku-chomutov/
LOCATION:Zoopark Chomutov\, Přemyslova 259\, Chomutov\, 43001
CATEGORIES:koncert,pro děti,zábavní pořady
ATTACH;FMTTYPE=image/jpeg:https://visit.chomutov.cz/wp-content/uploads/2025/08/zoopark-plakat-A1-oslava-scaled.jpg
END:VEVENT
BEGIN:VEVENT
DTSTART;TZID=Europe/Prague:20250914T100000
DTEND;TZID=Europe/Prague:20250914T150000
DTSTAMP:20260423T041701
CREATED:20250904T073555Z
LAST-MODIFIED:20250904T073555Z
UID:10756-1757844000-1757862000@visit.chomutov.cz
SUMMARY:Ženské zdraví
DESCRIPTION:Přednáší MUDr. Veronika Honzíková. Oblastí\, kterou se zabývá nejčastěji\, je ženské zdraví\, pod kterým si můžeme představit širokou škálu témat – poruchy menstruace\, menopauzální obtíže\, poruchy plodnosti apod. Tam cítím\, že je nám alternativní přístup léčby velkým pomocníkem\, protože západní medicína v této oblasti mnohdy nabízí pouze léčbu hormony či návštěvu IVF kliniky.
URL:https://visit.chomutov.cz/kalendar/zenske-zdravi/
LOCATION:Prostor\, 28. října 1113/16\, Chomutov\, 43001
CATEGORIES:vzdělávání,zábavní pořady
ATTACH;FMTTYPE=image/jpeg:https://visit.chomutov.cz/wp-content/uploads/2025/09/04.jpg
END:VEVENT
BEGIN:VEVENT
DTSTART;TZID=Europe/Prague:20250914T170000
DTEND;TZID=Europe/Prague:20250914T190000
DTSTAMP:20260423T041701
CREATED:20250904T073814Z
LAST-MODIFIED:20250904T073814Z
UID:10759-1757869200-1757876400@visit.chomutov.cz
SUMMARY:Pouť k sobě
DESCRIPTION:Karolina Maya. Ženy ve věku Babího Léta\, ať už jste po letní dovolené odpočaté nebo si naopak potřebujete oddychnout\, první poprázdninová Pouť k Sobě je tu pro Vás.\nPřijďte do kruhu sebe-vědomých žen\, které se rozhodly vyjít na cestu propojení s vlastní moudrostí a vrátit se ke své pravé podstatě.\nKdo jsme? Co opravdu chceme? Čeho se bojíme? A hlavně\, proč jsme právě tady a teď? Už nám není ani 30 ani 40. Jsme ve věku Babího léta. Čas největšího shonu a někdy i dřiny je za námi. Čas\, kdy odpovědnost za druhé ustupuje do pozadí\, a my konečně můžeme obrátit pozornost samy k sobě. Máme příležitost užít si moudrosti\, kterou jsme během života nasbíraly\, objevit nové role a s radostí plnit svá dlouho odkládaná přání.
URL:https://visit.chomutov.cz/kalendar/pout-k-sobe-3/
LOCATION:Prostor\, 28. října 1113/16\, Chomutov\, 43001
CATEGORIES:vzdělávání,zábavní pořady
ATTACH;FMTTYPE=image/jpeg:https://visit.chomutov.cz/wp-content/uploads/2025/09/06.jpg
END:VEVENT
BEGIN:VEVENT
DTSTART;TZID=Europe/Prague:20250917T190000
DTEND;TZID=Europe/Prague:20250917T190000
DTSTAMP:20260423T041701
CREATED:20250904T074229Z
LAST-MODIFIED:20250904T074229Z
UID:10765-1758135600-1758135600@visit.chomutov.cz
SUMMARY:Noc literatury
DESCRIPTION:současná literatura – netradiční místa
URL:https://visit.chomutov.cz/kalendar/noc-literatury-5/
CATEGORIES:zábavní pořady
ATTACH;FMTTYPE=image/jpeg:https://visit.chomutov.cz/wp-content/uploads/2025/09/Noc-literatury-scaled.jpg
END:VEVENT
END:VCALENDAR