BEGIN:VCALENDAR
VERSION:2.0
PRODID:-//Visit Chomutov - ECPv5.14.2.1//NONSGML v1.0//EN
CALSCALE:GREGORIAN
METHOD:PUBLISH
X-WR-CALNAME:Visit Chomutov
X-ORIGINAL-URL:https://visit.chomutov.cz
X-WR-CALDESC:Akce na Visit Chomutov
REFRESH-INTERVAL;VALUE=DURATION:PT1H
X-Robots-Tag:noindex
X-PUBLISHED-TTL:PT1H
BEGIN:VTIMEZONE
TZID:Europe/Prague
BEGIN:DAYLIGHT
TZOFFSETFROM:+0100
TZOFFSETTO:+0200
TZNAME:CEST
DTSTART:20250330T010000
END:DAYLIGHT
BEGIN:STANDARD
TZOFFSETFROM:+0200
TZOFFSETTO:+0100
TZNAME:CET
DTSTART:20251026T010000
END:STANDARD
END:VTIMEZONE
BEGIN:VEVENT
DTSTART;TZID=Europe/Prague:20250702T100000
DTEND;TZID=Europe/Prague:20250702T140000
DTSTAMP:20260423T073435
CREATED:20241216T141501Z
LAST-MODIFIED:20250626T114610Z
UID:8849-1751450400-1751464800@visit.chomutov.cz
SUMMARY:Zpřístupnění Klenotnice
DESCRIPTION:V 10 a 14 hodin v rámci běžné prohlídky muzea v budově radnice zpřístupněna i Klenotnice v prvním patře. Místnost je zdobená unikátními renesančními malbami z roku 1590\, jež zobrazují příběh Tobiášovy legendy.
URL:https://visit.chomutov.cz/kalendar/zpristupneni-klenotnice-2/
LOCATION:Oblastní muzeum v Chomutově – radnice\, nám. 1. máje 1\, Chomutov
CATEGORIES:zábavní pořady
ATTACH;FMTTYPE=image/jpeg:https://visit.chomutov.cz/wp-content/uploads/2024/09/DSC00035.jpg
ORGANIZER;CN="Oblastn%C3%AD%20muzeum%20v%20Chomutov%C4%9B":MAILTO:sekretariat@muzeumchomutov.cz
END:VEVENT
BEGIN:VEVENT
DTSTART;TZID=Europe/Prague:20250705T091500
DTEND;TZID=Europe/Prague:20250705T091500
DTSTAMP:20260423T073435
CREATED:20250626T125301Z
LAST-MODIFIED:20250626T125301Z
UID:10387-1751706900-1751706900@visit.chomutov.cz
SUMMARY:Historickým vlakem do Krušných hor
DESCRIPTION:Tradiční prázdninové jízdy pro cyklisty\, turisty\, milovníky krušnohorské přírody a železniční nadšence jsou tu! Přijeďte se v létě svézt historickým motoráčkem po třetí nejvýše položené železniční trati v České republice. \nOblíbený historický cyklovlak vyjede na začátku prázdnin do své třinácté sezony. Letos pojedeme celkem devětkrát\, z toho pět jízd proběhne v červenci a čtyři jízdy budou v srpnu. V čele se představí všem jistě dobře známý Hurvínek – červený motorák M131.1513 z roku 1955. „Na háku“ bude mít cyklovůz řady Ztrc. \nTrasa zůstává stejná jako v letech minulých: ráno vyrazíme z Klášterce nad Ohří přes Chomutov a Křimov do Vejprt\, odpoledne pojedeme po stejné trase zpět. V Křimově bude tradiční hodinová pauza na občerstvení\, opékání špekáčků a komentovanou prohlídku výtopny. \nVezměte rodinu či kamarády\, přibalte do batůžku dobrou náladu a těšíme se na vás na palubě historických cyklovlaků!
URL:https://visit.chomutov.cz/kalendar/historickym-vlakem-do-krusnych-hor-3/
LOCATION:Vlakové nádraží Chomutov\, Nádražní\, Chomutov
CATEGORIES:zábavní pořady
ATTACH;FMTTYPE=image/jpeg:https://visit.chomutov.cz/wp-content/uploads/2025/06/cyklovlaky2025.jpg
ORGANIZER;CN="LOKO-MOTIV%20Chomutov":MAILTO:loko-motiv@email.cz
END:VEVENT
BEGIN:VEVENT
DTSTART;TZID=Europe/Prague:20250706T091500
DTEND;TZID=Europe/Prague:20250706T091500
DTSTAMP:20260423T073435
CREATED:20250626T125313Z
LAST-MODIFIED:20250626T125313Z
UID:10390-1751793300-1751793300@visit.chomutov.cz
SUMMARY:Historickým vlakem do Krušných hor
DESCRIPTION:Tradiční prázdninové jízdy pro cyklisty\, turisty\, milovníky krušnohorské přírody a železniční nadšence jsou tu! Přijeďte se v létě svézt historickým motoráčkem po třetí nejvýše položené železniční trati v České republice. \nOblíbený historický cyklovlak vyjede na začátku prázdnin do své třinácté sezony. Letos pojedeme celkem devětkrát\, z toho pět jízd proběhne v červenci a čtyři jízdy budou v srpnu. V čele se představí všem jistě dobře známý Hurvínek – červený motorák M131.1513 z roku 1955. „Na háku“ bude mít cyklovůz řady Ztrc. \nTrasa zůstává stejná jako v letech minulých: ráno vyrazíme z Klášterce nad Ohří přes Chomutov a Křimov do Vejprt\, odpoledne pojedeme po stejné trase zpět. V Křimově bude tradiční hodinová pauza na občerstvení\, opékání špekáčků a komentovanou prohlídku výtopny. \nVezměte rodinu či kamarády\, přibalte do batůžku dobrou náladu a těšíme se na vás na palubě historických cyklovlaků!
URL:https://visit.chomutov.cz/kalendar/historickym-vlakem-do-krusnych-hor-4/
LOCATION:Vlakové nádraží Chomutov\, Nádražní\, Chomutov
CATEGORIES:zábavní pořady
ATTACH;FMTTYPE=image/jpeg:https://visit.chomutov.cz/wp-content/uploads/2025/06/cyklovlaky2025.jpg
ORGANIZER;CN="LOKO-MOTIV%20Chomutov":MAILTO:loko-motiv@email.cz
END:VEVENT
BEGIN:VEVENT
DTSTART;TZID=Europe/Prague:20250711T160000
DTEND;TZID=Europe/Prague:20250711T210000
DTSTAMP:20260423T073436
CREATED:20250626T115025Z
LAST-MODIFIED:20250626T115203Z
UID:10337-1752249600-1752267600@visit.chomutov.cz
SUMMARY:2. narozeniny kavárny Sister'sweater
DESCRIPTION:pohodová narozeninová party se vším všudy: kávička\, něco na zub\, drinky a hlavně skvělá hudba lokální DJs\, a v 18.00 přebírají pulty DJs Bratři
URL:https://visit.chomutov.cz/kalendar/2-narozeniny-kavarny-sistersweater/
LOCATION:Sister’sweater\, Ruská 77\, Chomutov\, 43001
CATEGORIES:zábavní pořady
ATTACH;FMTTYPE=image/png:https://visit.chomutov.cz/wp-content/uploads/2025/06/2.-narozeniny-Sisters-Sweater.png
END:VEVENT
BEGIN:VEVENT
DTSTART;TZID=Europe/Prague:20250712T091500
DTEND;TZID=Europe/Prague:20250712T091500
DTSTAMP:20260423T073436
CREATED:20250626T125326Z
LAST-MODIFIED:20250626T125326Z
UID:10392-1752311700-1752311700@visit.chomutov.cz
SUMMARY:Historickým vlakem do Krušných hor
DESCRIPTION:Tradiční prázdninové jízdy pro cyklisty\, turisty\, milovníky krušnohorské přírody a železniční nadšence jsou tu! Přijeďte se v létě svézt historickým motoráčkem po třetí nejvýše položené železniční trati v České republice. \nOblíbený historický cyklovlak vyjede na začátku prázdnin do své třinácté sezony. Letos pojedeme celkem devětkrát\, z toho pět jízd proběhne v červenci a čtyři jízdy budou v srpnu. V čele se představí všem jistě dobře známý Hurvínek – červený motorák M131.1513 z roku 1955. „Na háku“ bude mít cyklovůz řady Ztrc. \nTrasa zůstává stejná jako v letech minulých: ráno vyrazíme z Klášterce nad Ohří přes Chomutov a Křimov do Vejprt\, odpoledne pojedeme po stejné trase zpět. V Křimově bude tradiční hodinová pauza na občerstvení\, opékání špekáčků a komentovanou prohlídku výtopny. \nVezměte rodinu či kamarády\, přibalte do batůžku dobrou náladu a těšíme se na vás na palubě historických cyklovlaků!
URL:https://visit.chomutov.cz/kalendar/historickym-vlakem-do-krusnych-hor-5/
LOCATION:Vlakové nádraží Chomutov\, Nádražní\, Chomutov
CATEGORIES:zábavní pořady
ATTACH;FMTTYPE=image/jpeg:https://visit.chomutov.cz/wp-content/uploads/2025/06/cyklovlaky2025.jpg
ORGANIZER;CN="LOKO-MOTIV%20Chomutov":MAILTO:loko-motiv@email.cz
END:VEVENT
BEGIN:VEVENT
DTSTART;TZID=Europe/Prague:20250712T100000
DTEND;TZID=Europe/Prague:20250712T100000
DTSTAMP:20260423T073436
CREATED:20250627T071725Z
LAST-MODIFIED:20250627T071725Z
UID:10433-1752314400-1752314400@visit.chomutov.cz
SUMMARY:Procházky městem a jeho historií
DESCRIPTION:Pravidelné prázdninové procházky městem a jeho historií s poutavým výkladem historika chomutovského muzea. Letošní procházky jsme věnovali právě jeho nové knize „POVÁLEČNÁ\nPŘESTAVBA CHOMUTOVA V LETECH 1945-1989“.
URL:https://visit.chomutov.cz/kalendar/prochazky-mestem-a-jeho-historii/
LOCATION:Městské informační centrum\, U Městských mlýnů 5885\, Chomutov\, 43001
CATEGORIES:vzdělávání,zábavní pořady
ATTACH;FMTTYPE=image/jpeg:https://visit.chomutov.cz/wp-content/uploads/2022/06/chomutov-prochazky-A3-2505.jpg
ORGANIZER;CN="Statut%C3%A1rn%C3%AD%20m%C4%9Bsto%20Chomutov":MAILTO:infocentrum@chomutov.cz
END:VEVENT
BEGIN:VEVENT
DTSTART;TZID=Europe/Prague:20250719T100000
DTEND;TZID=Europe/Prague:20250719T100000
DTSTAMP:20260423T073436
CREATED:20250627T071751Z
LAST-MODIFIED:20250627T071751Z
UID:10436-1752919200-1752919200@visit.chomutov.cz
SUMMARY:Procházky městem a jeho historií
DESCRIPTION:Pravidelné prázdninové procházky městem a jeho historií s poutavým výkladem historika chomutovského muzea. Letošní procházky jsme věnovali právě jeho nové knize „POVÁLEČNÁ\nPŘESTAVBA CHOMUTOVA V LETECH 1945-1989“.
URL:https://visit.chomutov.cz/kalendar/prochazky-mestem-a-jeho-historii-2/
LOCATION:Městské informační centrum\, U Městských mlýnů 5885\, Chomutov\, 43001
CATEGORIES:vzdělávání,zábavní pořady
ATTACH;FMTTYPE=image/jpeg:https://visit.chomutov.cz/wp-content/uploads/2022/06/chomutov-prochazky-A3-2505.jpg
ORGANIZER;CN="Statut%C3%A1rn%C3%AD%20m%C4%9Bsto%20Chomutov":MAILTO:infocentrum@chomutov.cz
END:VEVENT
BEGIN:VEVENT
DTSTART;VALUE=DATE:20250725
DTEND;VALUE=DATE:20250726
DTSTAMP:20260423T073436
CREATED:20250626T125904Z
LAST-MODIFIED:20250715T105040Z
UID:10398-1753401600-1753487999@visit.chomutov.cz
SUMMARY:Léto v Cafe Kolečko - Jazzový večer
DESCRIPTION:
URL:https://visit.chomutov.cz/kalendar/leto-v-cafe-kolecko-jazzovy-vecer/
LOCATION:Cafe Kolečko\, nám. 1. máje 7\, Chomutov\, 43001
CATEGORIES:zábavní pořady
ATTACH;FMTTYPE=image/jpeg:https://visit.chomutov.cz/wp-content/uploads/2025/06/Jazz-night.jpg
END:VEVENT
BEGIN:VEVENT
DTSTART;TZID=Europe/Prague:20250726T091500
DTEND;TZID=Europe/Prague:20250726T091500
DTSTAMP:20260423T073436
CREATED:20250626T125352Z
LAST-MODIFIED:20250626T125352Z
UID:10396-1753521300-1753521300@visit.chomutov.cz
SUMMARY:Historickým vlakem do Krušných hor
DESCRIPTION:Tradiční prázdninové jízdy pro cyklisty\, turisty\, milovníky krušnohorské přírody a železniční nadšence jsou tu! Přijeďte se v létě svézt historickým motoráčkem po třetí nejvýše položené železniční trati v České republice. \nOblíbený historický cyklovlak vyjede na začátku prázdnin do své třinácté sezony. Letos pojedeme celkem devětkrát\, z toho pět jízd proběhne v červenci a čtyři jízdy budou v srpnu. V čele se představí všem jistě dobře známý Hurvínek – červený motorák M131.1513 z roku 1955. „Na háku“ bude mít cyklovůz řady Ztrc. \nTrasa zůstává stejná jako v letech minulých: ráno vyrazíme z Klášterce nad Ohří přes Chomutov a Křimov do Vejprt\, odpoledne pojedeme po stejné trase zpět. V Křimově bude tradiční hodinová pauza na občerstvení\, opékání špekáčků a komentovanou prohlídku výtopny. \nVezměte rodinu či kamarády\, přibalte do batůžku dobrou náladu a těšíme se na vás na palubě historických cyklovlaků!
URL:https://visit.chomutov.cz/kalendar/historickym-vlakem-do-krusnych-hor-7/
LOCATION:Vlakové nádraží Chomutov\, Nádražní\, Chomutov
CATEGORIES:zábavní pořady
ATTACH;FMTTYPE=image/jpeg:https://visit.chomutov.cz/wp-content/uploads/2025/06/cyklovlaky2025.jpg
ORGANIZER;CN="LOKO-MOTIV%20Chomutov":MAILTO:loko-motiv@email.cz
END:VEVENT
END:VCALENDAR