BEGIN:VCALENDAR
VERSION:2.0
PRODID:-//Visit Chomutov - ECPv5.14.2.1//NONSGML v1.0//EN
CALSCALE:GREGORIAN
METHOD:PUBLISH
X-WR-CALNAME:Visit Chomutov
X-ORIGINAL-URL:https://visit.chomutov.cz
X-WR-CALDESC:Akce na Visit Chomutov
REFRESH-INTERVAL;VALUE=DURATION:PT1H
X-Robots-Tag:noindex
X-PUBLISHED-TTL:PT1H
BEGIN:VTIMEZONE
TZID:Europe/Prague
BEGIN:DAYLIGHT
TZOFFSETFROM:+0100
TZOFFSETTO:+0200
TZNAME:CEST
DTSTART:20250330T010000
END:DAYLIGHT
BEGIN:STANDARD
TZOFFSETFROM:+0200
TZOFFSETTO:+0100
TZNAME:CET
DTSTART:20251026T010000
END:STANDARD
END:VTIMEZONE
BEGIN:VEVENT
DTSTART;TZID=Europe/Prague:20250301T083000
DTEND;TZID=Europe/Prague:20250301T083000
DTSTAMP:20260423T134050
CREATED:20240220T125216Z
LAST-MODIFIED:20250225T090224Z
UID:6340-1740817800-1740817800@visit.chomutov.cz
SUMMARY:Den poezie
DESCRIPTION:Okresní kolo přehlídky dětské recitace. Chomutovská knihovna akci pořádá ve spolupráci se Střediskem volného času Domeček.
URL:https://visit.chomutov.cz/kalendar/den-poezie-2/
CATEGORIES:pro děti,zábavní pořady
ATTACH;FMTTYPE=image/jpeg:https://visit.chomutov.cz/wp-content/uploads/2024/02/pexels-suzy-hazelwood-1526049.jpg
END:VEVENT
BEGIN:VEVENT
DTSTART;TZID=Europe/Prague:20250301T180000
DTEND;TZID=Europe/Prague:20250301T180000
DTSTAMP:20260423T134050
CREATED:20250225T074058Z
LAST-MODIFIED:20250225T074347Z
UID:9159-1740852000-1740852000@visit.chomutov.cz
SUMMARY:Tradiční masopust v Kaféčku
DESCRIPTION:
URL:https://visit.chomutov.cz/kalendar/tradicni-masopust-v-kafecku/
LOCATION:Cafe 44\, Revoluční 44\, Chomutov\, 43001
CATEGORIES:zábavní pořady
ATTACH;FMTTYPE=image/jpeg:https://visit.chomutov.cz/wp-content/uploads/2025/02/masopust-v-Kafecku.jpg
END:VEVENT
BEGIN:VEVENT
DTSTART;TZID=Europe/Prague:20250302T140000
DTEND;TZID=Europe/Prague:20250302T160000
DTSTAMP:20260423T134050
CREATED:20250225T091203Z
LAST-MODIFIED:20250225T091235Z
UID:9190-1740924000-1740931200@visit.chomutov.cz
SUMMARY:Masopustní veselice
DESCRIPTION:3. akce Rodinného zápolení 2025
URL:https://visit.chomutov.cz/kalendar/masopustni-veselice/
LOCATION:Zoopark Chomutov\, Přemyslova 259\, Chomutov\, 43001
CATEGORIES:pro děti,zábavní pořady
ATTACH;FMTTYPE=image/jpeg:https://visit.chomutov.cz/wp-content/uploads/2025/02/chomutov-rz-A3-masopust-2502.jpg
ORGANIZER;CN="Statut%C3%A1rn%C3%AD%20m%C4%9Bsto%20Chomutov":MAILTO:infocentrum@chomutov.cz
END:VEVENT
BEGIN:VEVENT
DTSTART;TZID=Europe/Prague:20250304T190000
DTEND;TZID=Europe/Prague:20250304T190000
DTSTAMP:20260423T134050
CREATED:20250225T074946Z
LAST-MODIFIED:20250225T114256Z
UID:9162-1741114800-1741114800@visit.chomutov.cz
SUMMARY:Magic Show Tour - Radek Bakalář
DESCRIPTION:neopakovatelná strhující show\, která se vás dotkne a přepíše vaši realitu\, show\, ve které nebudete pouhými diváky\, ale skrytými aktéry nepochopitelné iluze
URL:https://visit.chomutov.cz/kalendar/magic-show-tour-radek-bakalar/
LOCATION:Městské divadlo\, Boženy Němcové 552/32\, Chomutov
CATEGORIES:zábavní pořady
ATTACH;FMTTYPE=image/jpeg:https://visit.chomutov.cz/wp-content/uploads/2025/02/Bakalar.jpg
END:VEVENT
BEGIN:VEVENT
DTSTART;TZID=Europe/Prague:20250305T180000
DTEND;TZID=Europe/Prague:20250305T180000
DTSTAMP:20260423T134050
CREATED:20250225T080702Z
LAST-MODIFIED:20250225T081215Z
UID:9168-1741197600-1741197600@visit.chomutov.cz
SUMMARY:Ještě nejsem\, kým chci být
DESCRIPTION:promítání českého dokumentárního filmu režisérky Kláry Tasovské\, který je portrétem fotografky Libuše Jarcovjákové
URL:https://visit.chomutov.cz/kalendar/jeste-nejsem-kym-chci-byt/
LOCATION:Druhé PATRO\, Ruská 17\, Chomutov
CATEGORIES:zábavní pořady
ATTACH;FMTTYPE=image/jpeg:https://visit.chomutov.cz/wp-content/uploads/2025/02/jeste-nejsem-kym-chci-byt.jpg
END:VEVENT
BEGIN:VEVENT
DTSTART;TZID=Europe/Prague:20250307T120000
DTEND;TZID=Europe/Prague:20250307T120000
DTSTAMP:20260423T134050
CREATED:20230130T141957Z
LAST-MODIFIED:20250307T114242Z
UID:3180-1741348800-1741348800@visit.chomutov.cz
SUMMARY:175. výročí narození T. G. Masaryka
DESCRIPTION:
URL:https://visit.chomutov.cz/kalendar/175-vyroci-narozeni-t-g-masraryka/
CATEGORIES:zábavní pořady
ATTACH;FMTTYPE=image/jpeg:https://visit.chomutov.cz/wp-content/uploads/2023/01/TGM.jpg
ORGANIZER;CN="Statut%C3%A1rn%C3%AD%20m%C4%9Bsto%20Chomutov":MAILTO:infocentrum@chomutov.cz
END:VEVENT
BEGIN:VEVENT
DTSTART;TZID=Europe/Prague:20250307T170000
DTEND;TZID=Europe/Prague:20250307T210000
DTSTAMP:20260423T134050
CREATED:20250225T083624Z
LAST-MODIFIED:20250225T083628Z
UID:9180-1741366800-1741381200@visit.chomutov.cz
SUMMARY:Den hvězdáren a planetárií ČR
DESCRIPTION:
URL:https://visit.chomutov.cz/kalendar/den-hvezdaren-a-planetarii/
LOCATION:Hvězdárna F. J. Gerstnera\, Lipská 2207\, Chomutov
CATEGORIES:pro děti,vzdělávání,zábavní pořady
ATTACH;FMTTYPE=image/jpeg:https://visit.chomutov.cz/wp-content/uploads/2025/02/2025-3-7-Pozvanka-letak-page-001.jpg
END:VEVENT
BEGIN:VEVENT
DTSTART;TZID=Europe/Prague:20250307T190000
DTEND;TZID=Europe/Prague:20250307T190000
DTSTAMP:20260423T134050
CREATED:20220906T054729Z
LAST-MODIFIED:20250225T084933Z
UID:2315-1741374000-1741374000@visit.chomutov.cz
SUMMARY:Brutus
DESCRIPTION:česká rocková a taneční skupina\, která pro svůj styl razí termín pravý bigbít
URL:https://visit.chomutov.cz/kalendar/brutus/
LOCATION:Městské divadlo\, Boženy Němcové 552/32\, Chomutov
CATEGORIES:zábavní pořady
ATTACH;FMTTYPE=image/png:https://visit.chomutov.cz/wp-content/uploads/2022/09/y563xr78mv_Brutus_560x560.png
END:VEVENT
BEGIN:VEVENT
DTSTART;VALUE=DATE:20250310
DTEND;VALUE=DATE:20250315
DTSTAMP:20260423T134050
CREATED:20250304T101717Z
LAST-MODIFIED:20250304T101717Z
UID:9262-1741564800-1741996799@visit.chomutov.cz
SUMMARY:Jarní prázdniny v Kině Svět
DESCRIPTION:10.3. 11.00 JEŽEK SONIC 3 / animovaný\, komedie / USA / 2024 / 111 min. / CZ dabing\n10.3. 15.00 JAKO Z DIVOKÝCH VAJEC / animovaný\, rodinný / Thajsko / 2024 / 84 min. / CZ dabing\n11.3. 11.00 JÁ\, REBELKA / animovaný\, rodinný / Velká Británie / 2025 / 94 min. / CZ dabing\n11.3. 15.00 DOGMAN / animovaný\, komedie / USA / 2025 / 94 min. / CZ dabing\n12.3. 11.00 MUFASA: LVÍ KRÁL / animovaný\, rodinný / USA / 2024 / 118 min. / CZ dabing\n12.3. 15.00 CAPTAIN AMERICA: NOVÝ SVĚT / akční\, sci-fi / USA / 2025/ 120 min. / nevhodné pro děti do 12 let / CZ dabing\n13.3. 11.00 PADDINGTON V DŽUNGLI /animovaný / USA / 2025 / 107 min. / přístupné bez omezení / CZ dabing\n13.3. 15.00 AGENT ČUNÍK / rodinný\, animovaný / Velká Británie\, Kanada / 2025 / 86 min. / CZ dabing\n14.3. 11.00 CAPTAIN AMERICA: NOVÝ SVĚT 3D / akční\, sci-fi / USA / 2025/ 120 min. / nevhodné pro děti do 12 let / CZ dabing\n14.3. 15.00 ODVÁŽNÁ VAIANA 2 / animovaný / USA / 2024 / 95 min. / CZ
URL:https://visit.chomutov.cz/kalendar/jarni-prazdniny-v-kine-svet-2/
LOCATION:Kino Svět
CATEGORIES:pro děti,zábavní pořady
ATTACH;FMTTYPE=image/jpeg:https://visit.chomutov.cz/wp-content/uploads/2025/03/rebelka.jpg
END:VEVENT
BEGIN:VEVENT
DTSTART;TZID=Europe/Prague:20250311T170000
DTEND;TZID=Europe/Prague:20250311T170000
DTSTAMP:20260423T134050
CREATED:20250304T102531Z
LAST-MODIFIED:20250304T102531Z
UID:9271-1741712400-1741712400@visit.chomutov.cz
SUMMARY:Komentovaná prohlídka výstavy Slepá víra
DESCRIPTION:za účasti Matěje Hrbka\, Eduarda Lary a kurátorky Jolany Pastor
URL:https://visit.chomutov.cz/kalendar/komentovana-prohlidka-vystavy-slepa-vira/
LOCATION:Galerie Špejchar\, Palackého 85\, Chomutov
CATEGORIES:výstavy,zábavní pořady
ATTACH;FMTTYPE=image/jpeg:https://visit.chomutov.cz/wp-content/uploads/2025/03/Slepa-vira-koment.prohl_-scaled.jpg
END:VEVENT
BEGIN:VEVENT
DTSTART;TZID=Europe/Prague:20250314T183000
DTEND;TZID=Europe/Prague:20250314T183000
DTSTAMP:20260423T134050
CREATED:20250306T123457Z
LAST-MODIFIED:20250306T123457Z
UID:9355-1741977000-1741977000@visit.chomutov.cz
SUMMARY:Kolečko slaví 1. rok
DESCRIPTION:Cafe Kolečko a Swing Mustard
URL:https://visit.chomutov.cz/kalendar/kolecko-slavi-1-rok/
LOCATION:Cafe Kolečko\, nám. 1. máje 7\, Chomutov\, 43001
CATEGORIES:koncert,zábavní pořady
ATTACH;FMTTYPE=image/jpeg:https://visit.chomutov.cz/wp-content/uploads/2025/03/Swing-Mustard-A5-page-001.jpg
END:VEVENT
BEGIN:VEVENT
DTSTART;TZID=Europe/Prague:20250315T100000
DTEND;TZID=Europe/Prague:20250315T160000
DTSTAMP:20260423T134050
CREATED:20250304T104430Z
LAST-MODIFIED:20250304T104430Z
UID:9280-1742032800-1742054400@visit.chomutov.cz
SUMMARY:Jarní dílna k výstavě Folklor žije
DESCRIPTION:dílna bude inspirována jarními obyčeji a starými krušnohorskými textilními technikami
URL:https://visit.chomutov.cz/kalendar/jarni-dilna-k-vystave-folklor-zije/
LOCATION:Oblastní muzeum v Chomutově – hlavní budova\, Palackého 86\, Chomutov\, Česká republika
CATEGORIES:vzdělávání,zábavní pořady
ATTACH;FMTTYPE=image/jpeg:https://visit.chomutov.cz/wp-content/uploads/2025/03/pexels-karolina-grabowska-4207679.jpg
ORGANIZER;CN="Oblastn%C3%AD%20muzeum%20v%20Chomutov%C4%9B":MAILTO:sekretariat@muzeumchomutov.cz
END:VEVENT
BEGIN:VEVENT
DTSTART;TZID=Europe/Prague:20250315T140000
DTEND;TZID=Europe/Prague:20250315T190000
DTSTAMP:20260423T134050
CREATED:20250304T104559Z
LAST-MODIFIED:20250304T104559Z
UID:9283-1742047200-1742065200@visit.chomutov.cz
SUMMARY:Deskovky
DESCRIPTION:odpoledne plné deskových her\, nutná rezervace
URL:https://visit.chomutov.cz/kalendar/deskovky-2/
LOCATION:Prostor\, 28. října 1113/16\, Chomutov\, 43001
CATEGORIES:zábavní pořady
ATTACH;FMTTYPE=image/jpeg:https://visit.chomutov.cz/wp-content/uploads/2025/03/480490651_17899064178112292_5573129399755762353_n.jpg
END:VEVENT
BEGIN:VEVENT
DTSTART;TZID=Europe/Prague:20250315T190000
DTEND;TZID=Europe/Prague:20250315T190000
DTSTAMP:20260423T134050
CREATED:20250304T094543Z
LAST-MODIFIED:20250304T094543Z
UID:9245-1742065200-1742065200@visit.chomutov.cz
SUMMARY:Abba Revival show ABBORN
DESCRIPTION:koncert
URL:https://visit.chomutov.cz/kalendar/abba-revival-show-abborn/
LOCATION:Městské divadlo\, Boženy Němcové 552/32\, Chomutov
CATEGORIES:koncert,zábavní pořady
ATTACH;FMTTYPE=image/jpeg:https://visit.chomutov.cz/wp-content/uploads/2025/03/ABBA_Revival_Show_ABBORN.jpg
END:VEVENT
BEGIN:VEVENT
DTSTART;TZID=Europe/Prague:20250319T190000
DTEND;TZID=Europe/Prague:20250319T190000
DTSTAMP:20260423T134050
CREATED:20250304T122043Z
LAST-MODIFIED:20250304T122043Z
UID:9309-1742410800-1742410800@visit.chomutov.cz
SUMMARY:Rozhlas jede za vámi
DESCRIPTION:u příležitosti oslav 120. výročí Městského divadla v Chomutově proběhne natáčení zábavné show Aleše Cibulky a jeho hostů\, kterými budou kromě generálního ředitele Českého rozhlasu Reného Zavorala také zpěvačka Bára Basiková a legendy českého divadla a filmu Petr Kostka a Carmen Mayerová.
URL:https://visit.chomutov.cz/kalendar/rozhlas-jede-za-vami/
LOCATION:Městské divadlo\, Boženy Němcové 552/32\, Chomutov
CATEGORIES:zábavní pořady
ATTACH;FMTTYPE=image/jpeg:https://visit.chomutov.cz/wp-content/uploads/2025/03/Rozhlas-jede.jpg
END:VEVENT
BEGIN:VEVENT
DTSTART;TZID=Europe/Prague:20250320T173000
DTEND;TZID=Europe/Prague:20250320T173000
DTSTAMP:20260423T134050
CREATED:20250304T124034Z
LAST-MODIFIED:20250304T124102Z
UID:9315-1742491800-1742491800@visit.chomutov.cz
SUMMARY:Drž se!
DESCRIPTION:zájezd do Městského divadla v Mostě\, přihlašování zájemců s okamžitou platbou je možné v oddělení naučné literatury do 10.03.2025
URL:https://visit.chomutov.cz/kalendar/drz-se/
CATEGORIES:divadlo,zábavní pořady
ATTACH;FMTTYPE=image/jpeg:https://visit.chomutov.cz/wp-content/uploads/2025/03/Drz-se_divadlo-scaled.jpg
END:VEVENT
BEGIN:VEVENT
DTSTART;TZID=Europe/Prague:20250321T200000
DTEND;TZID=Europe/Prague:20250321T200000
DTSTAMP:20260423T134050
CREATED:20250113T144436Z
LAST-MODIFIED:20250218T195658Z
UID:8957-1742587200-1742587200@visit.chomutov.cz
SUMMARY:Reprezentační ples statutárního města Chomutova
DESCRIPTION:
URL:https://visit.chomutov.cz/kalendar/reprezentacni-ples-statutarniho-mesta-chomutova-3/
LOCATION:Městské divadlo\, Boženy Němcové 552/32\, Chomutov
CATEGORIES:plesy,zábavní pořady
ATTACH;FMTTYPE=image/jpeg:https://visit.chomutov.cz/wp-content/uploads/2025/01/Finale-chomutov-ples-A3-2501-page-001.jpg
ORGANIZER;CN="Statut%C3%A1rn%C3%AD%20m%C4%9Bsto%20Chomutov":MAILTO:infocentrum@chomutov.cz
END:VEVENT
BEGIN:VEVENT
DTSTART;TZID=Europe/Prague:20250323T163000
DTEND;TZID=Europe/Prague:20250323T163000
DTSTAMP:20260423T134050
CREATED:20250304T125035Z
LAST-MODIFIED:20250304T125035Z
UID:9321-1742747400-1742747400@visit.chomutov.cz
SUMMARY:LiStOVáNí
DESCRIPTION:cyklus scénického čtení – SVĚTSKÁ MAFIE\, spoluúčinkuje Jaroslav Kment
URL:https://visit.chomutov.cz/kalendar/listovani/
LOCATION:Cafe 44\, Revoluční 44\, Chomutov\, 43001
CATEGORIES:zábavní pořady
ATTACH;FMTTYPE=image/jpeg:https://visit.chomutov.cz/wp-content/uploads/2025/03/Listovani.jpg
END:VEVENT
BEGIN:VEVENT
DTSTART;TZID=Europe/Prague:20250323T170000
DTEND;TZID=Europe/Prague:20250323T210000
DTSTAMP:20260423T134050
CREATED:20250304T124533Z
LAST-MODIFIED:20250304T124533Z
UID:9318-1742749200-1742763600@visit.chomutov.cz
SUMMARY:Mezinárodní den meteorologie
DESCRIPTION:
URL:https://visit.chomutov.cz/kalendar/mezinarodni-den-meteorologie/
LOCATION:Hvězdárna F. J. Gerstnera\, Lipská 2207\, Chomutov
CATEGORIES:zábavní pořady
ATTACH;FMTTYPE=image/jpeg:https://visit.chomutov.cz/wp-content/uploads/2025/03/pexels-tdcat-67102.jpg
END:VEVENT
BEGIN:VEVENT
DTSTART;TZID=Europe/Prague:20250324T090000
DTEND;TZID=Europe/Prague:20250326T180000
DTSTAMP:20260423T134050
CREATED:20250304T125355Z
LAST-MODIFIED:20250304T130757Z
UID:9324-1742806800-1743012000@visit.chomutov.cz
SUMMARY:Výprodej vyřazených knih
DESCRIPTION:
URL:https://visit.chomutov.cz/kalendar/vyprodej-vyrazenych-knih-4/
LOCATION:Chomutovská knihovna\, Palackého 4995\, Chomutov
CATEGORIES:zábavní pořady
ATTACH;FMTTYPE=image/jpeg:https://visit.chomutov.cz/wp-content/uploads/2025/03/Burza-brezen-scaled.jpg
END:VEVENT
BEGIN:VEVENT
DTSTART;TZID=Europe/Prague:20250326T143000
DTEND;TZID=Europe/Prague:20250327T000000
DTSTAMP:20260423T134050
CREATED:20250304T131032Z
LAST-MODIFIED:20250304T131032Z
UID:9329-1742999400-1743033600@visit.chomutov.cz
SUMMARY:Mateřinka 2025
DESCRIPTION:přehlídka tvořivosti dětí mateřských škol
URL:https://visit.chomutov.cz/kalendar/materinka-2025/
LOCATION:Městské divadlo\, Boženy Němcové 552/32\, Chomutov
CATEGORIES:pro děti,zábavní pořady
ATTACH;FMTTYPE=image/jpeg:https://visit.chomutov.cz/wp-content/uploads/2023/05/Materinka1.jpg
END:VEVENT
BEGIN:VEVENT
DTSTART;TZID=Europe/Prague:20250326T180000
DTEND;TZID=Europe/Prague:20250326T180000
DTSTAMP:20260423T134050
CREATED:20250304T131734Z
LAST-MODIFIED:20250304T131734Z
UID:9331-1743012000-1743012000@visit.chomutov.cz
SUMMARY:Anishort
DESCRIPTION:Nejlepší krátké animované filmy z celého světa. Výběr filmů oceněných na mezinárodních festivalech. Mix různých animačních technik\, žánrů\, příběhů a zábavy. Celkem 18 nejlepších animací z 9 zemí!
URL:https://visit.chomutov.cz/kalendar/anishort/
LOCATION:Druhé PATRO\, Ruská 17\, Chomutov
CATEGORIES:zábavní pořady
ATTACH;FMTTYPE=image/jpeg:https://visit.chomutov.cz/wp-content/uploads/2025/03/Anishort-10-let.jpg
END:VEVENT
BEGIN:VEVENT
DTSTART;TZID=Europe/Prague:20250329T110000
DTEND;TZID=Europe/Prague:20250329T131500
DTSTAMP:20260423T134050
CREATED:20250304T123627Z
LAST-MODIFIED:20250304T123627Z
UID:9312-1743246000-1743254100@visit.chomutov.cz
SUMMARY:Částečné zatmění Slunce
DESCRIPTION:veřejné pozorování astronomického jevu
URL:https://visit.chomutov.cz/kalendar/castecne-zatmeni-slunce/
LOCATION:Hvězdárna F. J. Gerstnera\, Lipská 2207\, Chomutov
CATEGORIES:vzdělávání,zábavní pořady
ATTACH;FMTTYPE=image/jpeg:https://visit.chomutov.cz/wp-content/uploads/2025/03/pexels-juan-carlos-duran-1545653195-27559754.jpg
END:VEVENT
BEGIN:VEVENT
DTSTART;TZID=Europe/Prague:20250329T140000
DTEND;TZID=Europe/Prague:20250329T180000
DTSTAMP:20260423T134050
CREATED:20250318T120326Z
LAST-MODIFIED:20250318T120326Z
UID:9361-1743256800-1743271200@visit.chomutov.cz
SUMMARY:Slavnostní otevření Drmalky
DESCRIPTION:
URL:https://visit.chomutov.cz/kalendar/slavnostni-otevreni-drmalky/
LOCATION:Městský park\, Čelakovského\, Chomutov
CATEGORIES:zábavní pořady
ATTACH;FMTTYPE=image/jpeg:https://visit.chomutov.cz/wp-content/uploads/2025/03/Drmalka.jpg
END:VEVENT
BEGIN:VEVENT
DTSTART;TZID=Europe/Prague:20250329T170000
DTEND;TZID=Europe/Prague:20250329T170000
DTSTAMP:20260423T134050
CREATED:20250304T132253Z
LAST-MODIFIED:20250304T132253Z
UID:9337-1743267600-1743267600@visit.chomutov.cz
SUMMARY:Kollárovci CZ Tour 2025
DESCRIPTION:
URL:https://visit.chomutov.cz/kalendar/kollarovci-cz-tour-2025/
LOCATION:Městské divadlo\, Boženy Němcové 552/32\, Chomutov
CATEGORIES:koncert,zábavní pořady
ATTACH;FMTTYPE=image/jpeg:https://visit.chomutov.cz/wp-content/uploads/2025/03/Kollarovci.jpg
END:VEVENT
BEGIN:VEVENT
DTSTART;TZID=Europe/Prague:20250331T190000
DTEND;TZID=Europe/Prague:20250331T190000
DTSTAMP:20260423T134050
CREATED:20250304T131939Z
LAST-MODIFIED:20250304T132023Z
UID:9334-1743447600-1743447600@visit.chomutov.cz
SUMMARY:Vojtěch Dyk - Intimity s klavírem
DESCRIPTION:
URL:https://visit.chomutov.cz/kalendar/vojtech-dyk-intimity-s-klavirem/
LOCATION:Městské divadlo\, Boženy Němcové 552/32\, Chomutov
CATEGORIES:koncert,zábavní pořady
ATTACH;FMTTYPE=image/jpeg:https://visit.chomutov.cz/wp-content/uploads/2025/03/Vojtech-Dyk.jpg
END:VEVENT
END:VCALENDAR