BEGIN:VCALENDAR
VERSION:2.0
PRODID:-//Visit Chomutov - ECPv5.14.2.1//NONSGML v1.0//EN
CALSCALE:GREGORIAN
METHOD:PUBLISH
X-WR-CALNAME:Visit Chomutov
X-ORIGINAL-URL:https://visit.chomutov.cz
X-WR-CALDESC:Akce na Visit Chomutov
REFRESH-INTERVAL;VALUE=DURATION:PT1H
X-Robots-Tag:noindex
X-PUBLISHED-TTL:PT1H
BEGIN:VTIMEZONE
TZID:Europe/Prague
BEGIN:DAYLIGHT
TZOFFSETFROM:+0100
TZOFFSETTO:+0200
TZNAME:CEST
DTSTART:20250330T010000
END:DAYLIGHT
BEGIN:STANDARD
TZOFFSETFROM:+0200
TZOFFSETTO:+0100
TZNAME:CET
DTSTART:20251026T010000
END:STANDARD
END:VTIMEZONE
BEGIN:VEVENT
DTSTART;TZID=Europe/Prague:20250201T200000
DTEND;TZID=Europe/Prague:20250201T200000
DTSTAMP:20260423T151645
CREATED:20250130T111555Z
LAST-MODIFIED:20250130T111602Z
UID:9022-1738440000-1738440000@visit.chomutov.cz
SUMMARY:Ples Chomutovského dětského nadačního fondu
DESCRIPTION:Výtěžek plesu bude věnován opět do sbírky Chomutovského dětského nadačního fondu a prostředky využity pro dětské oddělení chomutovské nemocnice.
URL:https://visit.chomutov.cz/kalendar/ples-chomutovskeho-detskeho-nadacniho-fondu-3/
LOCATION:Městské divadlo\, Boženy Němcové 552/32\, Chomutov
CATEGORIES:plesy,zábavní pořady
ATTACH;FMTTYPE=image/jpeg:https://visit.chomutov.cz/wp-content/uploads/2021/11/Divadlo_2-Velke.jpg
END:VEVENT
BEGIN:VEVENT
DTSTART;TZID=Europe/Prague:20250203T170000
DTEND;TZID=Europe/Prague:20250203T170000
DTSTAMP:20260423T151645
CREATED:20250130T112057Z
LAST-MODIFIED:20250130T112057Z
UID:9024-1738602000-1738602000@visit.chomutov.cz
SUMMARY:Večerníček s Markétou a Romanem
DESCRIPTION:tradiční taneční podvečer s hosty z Tv Šlágr
URL:https://visit.chomutov.cz/kalendar/vecernicek-s-marketou-a-romanem/
LOCATION:Městské divadlo\, Boženy Němcové 552/32\, Chomutov
CATEGORIES:zábavní pořady
ATTACH;FMTTYPE=image/jpeg:https://visit.chomutov.cz/wp-content/uploads/2025/01/Marketa-a-Roman.jpg
END:VEVENT
BEGIN:VEVENT
DTSTART;TZID=Europe/Prague:20250206T170000
DTEND;TZID=Europe/Prague:20250206T170000
DTSTAMP:20260423T151645
CREATED:20250131T091105Z
LAST-MODIFIED:20250131T091105Z
UID:9097-1738861200-1738861200@visit.chomutov.cz
SUMMARY:Křest knihy Poválečná přestavba Chomutova 1945-1989
DESCRIPTION:
URL:https://visit.chomutov.cz/kalendar/krest-knihy-povalecna-prestavba-chomutova-1945-1989/
LOCATION:Oblastní muzeum v Chomutově – hlavní budova\, Palackého 86\, Chomutov\, Česká republika
CATEGORIES:zábavní pořady
ATTACH;FMTTYPE=image/jpeg:https://visit.chomutov.cz/wp-content/uploads/2025/01/Krest_knihy-Povalecna-prestavba.jpg
ORGANIZER;CN="Oblastn%C3%AD%20muzeum%20v%20Chomutov%C4%9B":MAILTO:sekretariat@muzeumchomutov.cz
END:VEVENT
BEGIN:VEVENT
DTSTART;TZID=Europe/Prague:20250212T190000
DTEND;TZID=Europe/Prague:20250212T210000
DTSTAMP:20260423T151645
CREATED:20250130T114446Z
LAST-MODIFIED:20250130T114446Z
UID:9036-1739386800-1739394000@visit.chomutov.cz
SUMMARY:Sněžný úplněk
DESCRIPTION:
URL:https://visit.chomutov.cz/kalendar/snezny-uplnek/
LOCATION:Hvězdárna F. J. Gerstnera\, Lipská 2207\, Chomutov
CATEGORIES:vzdělávání,zábavní pořady
ATTACH;FMTTYPE=image/jpeg:https://visit.chomutov.cz/wp-content/uploads/2025/01/pexels-frank-cone-140140-2361600.jpg
END:VEVENT
BEGIN:VEVENT
DTSTART;TZID=Europe/Prague:20250218T190000
DTEND;TZID=Europe/Prague:20250218T190000
DTSTAMP:20260423T151645
CREATED:20250130T120503Z
LAST-MODIFIED:20250130T120503Z
UID:9042-1739905200-1739905200@visit.chomutov.cz
SUMMARY:Ladislav Zibura - Prázdniny v Evropě
DESCRIPTION:cestovatelský stand-up
URL:https://visit.chomutov.cz/kalendar/ladislav-zibura-prazdniny-v-evrope/
LOCATION:Městské divadlo\, Boženy Němcové 552/32\, Chomutov
CATEGORIES:zábavní pořady
ATTACH;FMTTYPE=image/jpeg:https://visit.chomutov.cz/wp-content/uploads/2025/01/Zibura.jpg
END:VEVENT
BEGIN:VEVENT
DTSTART;TZID=Europe/Prague:20250223T100000
DTEND;TZID=Europe/Prague:20250223T120000
DTSTAMP:20260423T151645
CREATED:20250131T100435Z
LAST-MODIFIED:20250131T100435Z
UID:9121-1740304800-1740312000@visit.chomutov.cz
SUMMARY:Muzikoladění
DESCRIPTION:působení hudby k harmonizaci\, hra na nevšední nástroje\, nutná rezervace
URL:https://visit.chomutov.cz/kalendar/muzikoladeni-2/
LOCATION:Prostor\, 28. října 1113/16\, Chomutov\, 43001
CATEGORIES:vzdělávání,zábavní pořady
ATTACH;FMTTYPE=image/jpeg:https://visit.chomutov.cz/wp-content/uploads/2025/01/07_muzikoladeni.jpg
END:VEVENT
BEGIN:VEVENT
DTSTART;TZID=Europe/Prague:20250224T140000
DTEND;TZID=Europe/Prague:20250224T190000
DTSTAMP:20260423T151645
CREATED:20250131T091640Z
LAST-MODIFIED:20250515T084311Z
UID:9103-1740405600-1740423600@visit.chomutov.cz
SUMMARY:Dračí doupě
DESCRIPTION:
URL:https://visit.chomutov.cz/kalendar/draci-doupe-2/
LOCATION:Prostor\, 28. října 1113/16\, Chomutov\, 43001
CATEGORIES:zábavní pořady
ATTACH;FMTTYPE=image/jpeg:https://visit.chomutov.cz/wp-content/uploads/2025/01/491512403_17905909374112292_8277796323903347448_n.jpg
END:VEVENT
BEGIN:VEVENT
DTSTART;TZID=Europe/Prague:20250227T180000
DTEND;TZID=Europe/Prague:20250227T200000
DTSTAMP:20260423T151645
CREATED:20250130T122715Z
LAST-MODIFIED:20250130T122715Z
UID:9062-1740679200-1740686400@visit.chomutov.cz
SUMMARY:Beseda s Lukefrym
DESCRIPTION:informační beseda se známým českým youtuberem v divadle NaOko Chomutov
URL:https://visit.chomutov.cz/kalendar/beseda-s-lukefrym/
LOCATION:Kulturní dům KASS\, Zahradní 5341\, Chomutov
CATEGORIES:zábavní pořady
ATTACH;FMTTYPE=image/jpeg:https://visit.chomutov.cz/wp-content/uploads/2025/01/lukefry.jpg
ORGANIZER;CN="Divadlo%20NaOko":MAILTO:info@divadlonaoko.cz
END:VEVENT
BEGIN:VEVENT
DTSTART;TZID=Europe/Prague:20250228T190000
DTEND;TZID=Europe/Prague:20250228T190000
DTSTAMP:20260423T151645
CREATED:20250130T122905Z
LAST-MODIFIED:20250130T122914Z
UID:9065-1740769200-1740769200@visit.chomutov.cz
SUMMARY:Minus123minut a Bitches from Eden
DESCRIPTION:koncert
URL:https://visit.chomutov.cz/kalendar/minus123minut-a-bitches-from-eden/
LOCATION:Druhé PATRO\, Ruská 17\, Chomutov
CATEGORIES:koncert,zábavní pořady
ATTACH;FMTTYPE=image/jpeg:https://visit.chomutov.cz/wp-content/uploads/2025/01/Minus123minut-a-Bitches-from-Eden.jpg
END:VEVENT
END:VCALENDAR