BEGIN:VCALENDAR
VERSION:2.0
PRODID:-//Visit Chomutov - ECPv5.14.2.1//NONSGML v1.0//EN
CALSCALE:GREGORIAN
METHOD:PUBLISH
X-WR-CALNAME:Visit Chomutov
X-ORIGINAL-URL:https://visit.chomutov.cz
X-WR-CALDESC:Akce na Visit Chomutov
REFRESH-INTERVAL;VALUE=DURATION:PT1H
X-Robots-Tag:noindex
X-PUBLISHED-TTL:PT1H
BEGIN:VTIMEZONE
TZID:Europe/Prague
BEGIN:DAYLIGHT
TZOFFSETFROM:+0100
TZOFFSETTO:+0200
TZNAME:CEST
DTSTART:20220327T010000
END:DAYLIGHT
BEGIN:STANDARD
TZOFFSETFROM:+0200
TZOFFSETTO:+0100
TZNAME:CET
DTSTART:20221030T010000
END:STANDARD
END:VTIMEZONE
BEGIN:VEVENT
DTSTART;VALUE=DATE:20220615
DTEND;VALUE=DATE:20220616
DTSTAMP:20260423T194824
CREATED:20220523T162316Z
LAST-MODIFIED:20220523T162316Z
UID:1344-1655251200-1655251200@visit.chomutov.cz
SUMMARY:Mediální gramotnost pro žáky
DESCRIPTION:Mediální gramotnost pro žáky 8. tříd základních škol – lektor Josef Džubák. \nNutné se předem objednat!
URL:https://visit.chomutov.cz/kalendar/medialni-gramotnost-pro-zaky/
LOCATION:Chomutovská knihovna\, Palackého 4995\, Chomutov
CATEGORIES:vzdělávání
ATTACH;FMTTYPE=image/jpeg:https://visit.chomutov.cz/wp-content/uploads/2022/05/pexels-pixabay-267350-scaled.jpg
END:VEVENT
BEGIN:VEVENT
DTSTART;TZID=Europe/Prague:20220614T100000
DTEND;TZID=Europe/Prague:20220614T100000
DTSTAMP:20260423T194824
CREATED:20220523T161952Z
LAST-MODIFIED:20220523T161952Z
UID:1341-1655200800-1655200800@visit.chomutov.cz
SUMMARY:Workshop - cestovní ruch
DESCRIPTION:Workshop o aktuálním vývoji a trendech cestovního ruchu.
URL:https://visit.chomutov.cz/kalendar/workshop-cestovni-ruch/
LOCATION:Horský areál Lesná\, Svahová 22\, Boleboř
CATEGORIES:vzdělávání
ATTACH;FMTTYPE=image/jpeg:https://visit.chomutov.cz/wp-content/uploads/2022/05/horsky_hotel_lesna_01.jpg
END:VEVENT
BEGIN:VEVENT
DTSTART;TZID=Europe/Prague:20220608T170000
DTEND;TZID=Europe/Prague:20220608T170000
DTSTAMP:20260423T194824
CREATED:20220523T161455Z
LAST-MODIFIED:20220523T161455Z
UID:1337-1654707600-1654707600@visit.chomutov.cz
SUMMARY:Keramika pro veřejnost
DESCRIPTION:Akce je určena dospělým a mládeži od 14 let\, kteří se nemohou zúčastňovat pravidelných kroužků.
URL:https://visit.chomutov.cz/kalendar/keramika-pro-verejnost/
LOCATION:Středisko volného času Domeček Chomutov\, Jiráskova 4140\, Chomutov
CATEGORIES:vzdělávání
ATTACH;FMTTYPE=image/jpeg:https://visit.chomutov.cz/wp-content/uploads/2022/05/earl-wilcox-iUbsw_VOkbM-unsplash-scaled.jpg
END:VEVENT
BEGIN:VEVENT
DTSTART;TZID=Europe/Prague:20220608T110000
DTEND;TZID=Europe/Prague:20220608T110000
DTSTAMP:20260423T194824
CREATED:20220523T161348Z
LAST-MODIFIED:20220523T161348Z
UID:1334-1654686000-1654686000@visit.chomutov.cz
SUMMARY:Makovec
DESCRIPTION:Koncert country kapely u příležitosti zakončení 22. ročníku Akademie 3. věku
URL:https://visit.chomutov.cz/kalendar/makovec/
LOCATION:Chomutovská knihovna\, Palackého 4995\, Chomutov
CATEGORIES:vzdělávání
ATTACH;FMTTYPE=image/jpeg:https://visit.chomutov.cz/wp-content/uploads/2022/05/country-scaled.jpg
END:VEVENT
BEGIN:VEVENT
DTSTART;TZID=Europe/Prague:20220527T170000
DTEND;TZID=Europe/Prague:20220527T170000
DTSTAMP:20260423T194824
CREATED:20220518T091831Z
LAST-MODIFIED:20220519T093940Z
UID:1001-1653670800-1653670800@visit.chomutov.cz
SUMMARY:Chomutovský kalamář
DESCRIPTION:slavnostní vyhlášení vítězů literární soutěže
URL:https://visit.chomutov.cz/kalendar/chomutovsky-kalamar/
LOCATION:Chomutovská knihovna\, Palackého 4995\, Chomutov
CATEGORIES:vzdělávání
ATTACH;FMTTYPE=image/jpeg:https://visit.chomutov.cz/wp-content/uploads/2022/05/kalamar-scaled.jpg
END:VEVENT
BEGIN:VEVENT
DTSTART;TZID=Europe/Prague:20220525T170000
DTEND;TZID=Europe/Prague:20220525T200000
DTSTAMP:20260423T194824
CREATED:20220518T091113Z
LAST-MODIFIED:20220519T174343Z
UID:979-1653498000-1653508800@visit.chomutov.cz
SUMMARY:Keramika pro veřejnost
DESCRIPTION:Akce je určena dospělým a mládeži od 14 let\, kteří se nemohou zúčastňovat pravidelných kroužků.
URL:https://visit.chomutov.cz/kalendar/keramika-pro-verejnost-4/
LOCATION:Středisko volného času Domeček Chomutov\, Jiráskova 4140\, Chomutov
CATEGORIES:vzdělávání
ATTACH;FMTTYPE=image/jpeg:https://visit.chomutov.cz/wp-content/uploads/2022/05/earl-wilcox-iUbsw_VOkbM-unsplash-scaled.jpg
END:VEVENT
BEGIN:VEVENT
DTSTART;TZID=Europe/Prague:20220525T170000
DTEND;TZID=Europe/Prague:20220525T170000
DTSTAMP:20260423T194824
CREATED:20220518T091719Z
LAST-MODIFIED:20220519T175222Z
UID:996-1653498000-1653498000@visit.chomutov.cz
SUMMARY:DOMA nebo DOMOV?
DESCRIPTION:Plánování péče s sebou nese mnoho různých otázek. Zorientovat se v dostupných možnostech\, najít způsob péče a podpory\, který bude příjemný jak člověku s demencí tak i jeho blízkým\, a připravit se na možné změny v budoucnu nebývá zpočátku snadné.\nJak tedy s plánováním péče začít\, na co se zaměřit? Jak nad péčí přemýšlet a jak o ní společně mluvit? Co obnáší péče doma a co dělat\, když péče doma není možná? Jak postupovat dál? Jak komunikovat s blízkým o přemístění do domova? Jaká jsou kritéria výběru vhodného domova? Jak pomoci obtížnému procesu přechodu z domova do zařízení? Jak vybavit pokoj a co mít s sebou? Jak podpořit klienta a adaptační proces?\nNa tyto a další otázky bude odpovídat Mgr. Adéla Jirglová\, individuální poradkyně projektu Pečujeme o ty\, kteří pečují II.\nPořádá ALZHEIMER CAFE (příjemné a neformální místo pro setkávání lidí s demencí\, jejich blízkých a odborníků)\, Alzheimer nadační fond a Nadační fond Seňorina.
URL:https://visit.chomutov.cz/kalendar/doma-nebo-domov/
LOCATION:Café Atrium\, Palackého 85\, Chomutov
CATEGORIES:vzdělávání
ATTACH;FMTTYPE=image/jpeg:https://visit.chomutov.cz/wp-content/uploads/2022/05/Doma.jpg
END:VEVENT
BEGIN:VEVENT
DTSTART;TZID=Europe/Prague:20220525T093000
DTEND;TZID=Europe/Prague:20220525T093000
DTSTAMP:20260423T194824
CREATED:20220518T091633Z
LAST-MODIFIED:20220519T175531Z
UID:994-1653471000-1653471000@visit.chomutov.cz
SUMMARY:A3V - Přírodní prameny zdraví a současnost II.
DESCRIPTION:Přednáška v rámci Akademie třetího věku. Přednáší Mgr. Oldřich Hahn. Velký sál knihovny.
URL:https://visit.chomutov.cz/kalendar/a3v-prirodni-prameny-zdravi-a-soucasnost-ii/
LOCATION:Chomutovská knihovna\, Palackého 4995\, Chomutov
CATEGORIES:vzdělávání
ATTACH;FMTTYPE=image/jpeg:https://visit.chomutov.cz/wp-content/uploads/2022/05/olda-hahn-a3v-scaled.jpg
END:VEVENT
BEGIN:VEVENT
DTSTART;VALUE=DATE:20220521
DTEND;VALUE=DATE:20220522
DTSTAMP:20260423T194824
CREATED:20220518T091502Z
LAST-MODIFIED:20220519T185757Z
UID:990-1653091200-1653177599@visit.chomutov.cz
SUMMARY:Technický klub - otevřená dílna
DESCRIPTION:Akce pro zájemce o robotiku a stolní hry\, přijít mohou děti samotné i rodiče s dětmi.
URL:https://visit.chomutov.cz/kalendar/technicky-klub-otevrena-dilna/
LOCATION:Středisko volného času Domeček Chomutov\, Jiráskova 4140\, Chomutov
CATEGORIES:vzdělávání
ATTACH;FMTTYPE=image/jpeg:https://visit.chomutov.cz/wp-content/uploads/2022/05/sufyan-JUJzjthZnYU-unsplash-scaled.jpg
END:VEVENT
BEGIN:VEVENT
DTSTART;VALUE=DATE:20220507
DTEND;VALUE=DATE:20220901
DTSTAMP:20260423T194824
CREATED:20220610T130824Z
LAST-MODIFIED:20220610T131036Z
UID:1848-1651881600-1661990399@visit.chomutov.cz
SUMMARY:Školička wakeboardingu
DESCRIPTION:Veřejná školička wakeboardingu. Výuka probíhá na malém vleku a je určena dětem od 7 do 15 let. \nKaždá sobota dopoledne 8:30 až 10:00 od 7.5. \nDětem se věnujeme individuálně v rámci skupiny. Cena je 259 Kč za trénink a obsahuje jízdné\, trenér a zapůjčení vybavení. Z důvodu omezené kapacity míst a vybavení pro děti své registrace do školy prosím posílejte na adresu info@wakechomutov.cz.\nPokud máte nějaké dotazy\, tak mi zavolejte na tel.: 778 500 800 a vše probereme. \n 
URL:https://visit.chomutov.cz/kalendar/skolicka-wakeboardingu/
LOCATION:Wakepark Chomutov\, Mostecká č.e. 22\, Chomutov\, 43001
CATEGORIES:pro děti,sportovní akce,vzdělávání
ATTACH;FMTTYPE=image/jpeg:https://visit.chomutov.cz/wp-content/uploads/2021/11/Wakepark_2-Velke.jpg
END:VEVENT
END:VCALENDAR