BEGIN:VCALENDAR
VERSION:2.0
PRODID:-//Visit Chomutov - ECPv5.14.2.1//NONSGML v1.0//EN
CALSCALE:GREGORIAN
METHOD:PUBLISH
X-WR-CALNAME:Visit Chomutov
X-ORIGINAL-URL:https://visit.chomutov.cz
X-WR-CALDESC:Akce na Visit Chomutov
REFRESH-INTERVAL;VALUE=DURATION:PT1H
X-Robots-Tag:noindex
X-PUBLISHED-TTL:PT1H
BEGIN:VTIMEZONE
TZID:Europe/Prague
BEGIN:DAYLIGHT
TZOFFSETFROM:+0100
TZOFFSETTO:+0200
TZNAME:CEST
DTSTART:20220327T010000
END:DAYLIGHT
BEGIN:STANDARD
TZOFFSETFROM:+0200
TZOFFSETTO:+0100
TZNAME:CET
DTSTART:20221030T010000
END:STANDARD
END:VTIMEZONE
BEGIN:VEVENT
DTSTART;TZID=Europe/Prague:20221015T100000
DTEND;TZID=Europe/Prague:20221015T100000
DTSTAMP:20260423T164721
CREATED:20220523T164508Z
LAST-MODIFIED:20220926T124511Z
UID:1352-1665828000-1665828000@visit.chomutov.cz
SUMMARY:Technický klub - otevřená dílna
DESCRIPTION:Akce pro zájemce o robotiku a stolní hry\, přijít mohou děti samotné i rodiče s dětmi.
URL:https://visit.chomutov.cz/kalendar/technicky-klub-otevrena-dilna-2/
LOCATION:Středisko volného času Domeček Chomutov\, Jiráskova 4140\, Chomutov
CATEGORIES:vzdělávání
ATTACH;FMTTYPE=image/jpeg:https://visit.chomutov.cz/wp-content/uploads/2022/05/sufyan-JUJzjthZnYU-unsplash-scaled.jpg
END:VEVENT
BEGIN:VEVENT
DTSTART;TZID=Europe/Prague:20221012T170000
DTEND;TZID=Europe/Prague:20221012T170000
DTSTAMP:20260423T164721
CREATED:20220921T082103Z
LAST-MODIFIED:20220921T082220Z
UID:2456-1665594000-1665594000@visit.chomutov.cz
SUMMARY:Nebojte se historie - Talk show Vlastimila Vondrušky
DESCRIPTION:Talk show o tom\, co vlastně víme o životě středověkých lidí\, co nám prameny mohou říci a co se už zjistit nedá a proč jsou učebnice dějepisu nuda.
URL:https://visit.chomutov.cz/kalendar/nebojte-se-historie-talk-show-vlastimila-vondrusky/
LOCATION:Kostel sv. Kateřiny\, Chelčického 100\, Chomutov
CATEGORIES:vzdělávání,zábavní pořady
ATTACH;FMTTYPE=image/png:https://visit.chomutov.cz/wp-content/uploads/2022/09/vondruskaplakatfinale.png
ORGANIZER;CN="Oblastn%C3%AD%20muzeum%20v%20Chomutov%C4%9B":MAILTO:sekretariat@muzeumchomutov.cz
END:VEVENT
BEGIN:VEVENT
DTSTART;TZID=Europe/Prague:20221012T100000
DTEND;TZID=Europe/Prague:20221012T100000
DTSTAMP:20260423T164721
CREATED:20220926T085200Z
LAST-MODIFIED:20220926T085200Z
UID:2484-1665568800-1665568800@visit.chomutov.cz
SUMMARY:Vzdělávací cyklus pro seniory - Úvod do mediální gramotnosti
DESCRIPTION:Zdravý selský rozum pro dobu informační aneb Jak se vyznat v mediálním chaosu
URL:https://visit.chomutov.cz/kalendar/vzdelavaci-cyklus-pro-seniory-uvod-do-medialni-gramotnosti/
LOCATION:Chomutovská knihovna\, Palackého 4995\, Chomutov
CATEGORIES:vzdělávání
ATTACH;FMTTYPE=image/jpeg:https://visit.chomutov.cz/wp-content/uploads/2022/09/1.-Medialni-gramotnost.jpg
END:VEVENT
BEGIN:VEVENT
DTSTART;TZID=Europe/Prague:20221011T100000
DTEND;TZID=Europe/Prague:20221011T170000
DTSTAMP:20260423T164721
CREATED:20220929T071731Z
LAST-MODIFIED:20220929T071738Z
UID:2603-1665482400-1665507600@visit.chomutov.cz
SUMMARY:Počítačová gramotnost pro seniory II.
DESCRIPTION:
URL:https://visit.chomutov.cz/kalendar/pocitacova-gramotnost-pro-seniory-ii/
LOCATION:Chomutovská knihovna\, Palackého 4995\, Chomutov
CATEGORIES:vzdělávání
ATTACH;FMTTYPE=image/jpeg:https://visit.chomutov.cz/wp-content/uploads/2022/09/pc-seniori.jpg
END:VEVENT
BEGIN:VEVENT
DTSTART;TZID=Europe/Prague:20221006T090000
DTEND;TZID=Europe/Prague:20221006T090000
DTSTAMP:20260423T164721
CREATED:20220906T063633Z
LAST-MODIFIED:20220926T125501Z
UID:2354-1665046800-1665046800@visit.chomutov.cz
SUMMARY:Virtuální univerzita třetího věku
DESCRIPTION:kurz Dějiny oděvní kultury II.
URL:https://visit.chomutov.cz/kalendar/virtualni-univerzita-tretiho-veku/
LOCATION:Chomutovská knihovna\, Palackého 4995\, Chomutov
CATEGORIES:vzdělávání
ATTACH;FMTTYPE=image/jpeg:https://visit.chomutov.cz/wp-content/uploads/2022/09/pc-seniori.jpg
END:VEVENT
BEGIN:VEVENT
DTSTART;VALUE=DATE:20221006
DTEND;VALUE=DATE:20221101
DTSTAMP:20260423T164721
CREATED:20221004T101252Z
LAST-MODIFIED:20221004T101252Z
UID:2664-1665014400-1667260799@visit.chomutov.cz
SUMMARY:Angličtina pro seniory
DESCRIPTION:
URL:https://visit.chomutov.cz/kalendar/anglictina-pro-seniory/
LOCATION:Chomutovská knihovna\, Palackého 4995\, Chomutov
CATEGORIES:vzdělávání
ATTACH;FMTTYPE=image/jpeg:https://visit.chomutov.cz/wp-content/uploads/2022/10/anglictina-pro-seniory.jpg
END:VEVENT
BEGIN:VEVENT
DTSTART;TZID=Europe/Prague:20220922T160000
DTEND;TZID=Europe/Prague:20220922T160000
DTSTAMP:20260423T164721
CREATED:20220518T091421Z
LAST-MODIFIED:20220921T081645Z
UID:988-1663862400-1663862400@visit.chomutov.cz
SUMMARY:Pojďte s námi do přírody
DESCRIPTION:Zajímavé i běžné dřeviny v parku Čs. armády v Chomutově a jeho okolí \n 
URL:https://visit.chomutov.cz/kalendar/botanicko-archeologicka-exkurze/
CATEGORIES:vzdělávání
ATTACH;FMTTYPE=image/jpeg:https://visit.chomutov.cz/wp-content/uploads/2022/05/prirodavychazka22922.jpg
ORGANIZER;CN="Oblastn%C3%AD%20muzeum%20v%20Chomutov%C4%9B":MAILTO:sekretariat@muzeumchomutov.cz
END:VEVENT
BEGIN:VEVENT
DTSTART;TZID=Europe/Prague:20220920T100000
DTEND;TZID=Europe/Prague:20220920T150000
DTSTAMP:20260423T164721
CREATED:20220906T063354Z
LAST-MODIFIED:20220906T063450Z
UID:2351-1663668000-1663686000@visit.chomutov.cz
SUMMARY:Cestovní ruch v Krušnohoří - konference
DESCRIPTION:
URL:https://visit.chomutov.cz/kalendar/cestovni-ruch-v-krusnohori-konference/
LOCATION:Městské divadlo\, Boženy Němcové 552/32\, Chomutov
CATEGORIES:vzdělávání
ATTACH;FMTTYPE=image/jpeg:https://visit.chomutov.cz/wp-content/uploads/2022/09/Pozvanka_Cestovni_Ruch_Krusnohori_CZ-1024x722-1.jpg
ORGANIZER;CN="Okresn%C3%AD%20hospod%C3%A1%C5%99sk%C3%A1%20komora%20v%20Chomutov%C4%9B":MAILTO:info@ohkcv.cz
END:VEVENT
BEGIN:VEVENT
DTSTART;TZID=Europe/Prague:20220916T090000
DTEND;TZID=Europe/Prague:20220916T110000
DTSTAMP:20260423T164721
CREATED:20220906T062755Z
LAST-MODIFIED:20220906T062755Z
UID:2343-1663318800-1663326000@visit.chomutov.cz
SUMMARY:Tvořivá dílna - malování na kameny
DESCRIPTION:
URL:https://visit.chomutov.cz/kalendar/tvoriva-dilna-malovani-na-kameny/
LOCATION:Atrium\, nám. 1. máje\, Chomutov
CATEGORIES:vzdělávání
ATTACH;FMTTYPE=image/jpeg:https://visit.chomutov.cz/wp-content/uploads/2022/09/kameny.jpg
END:VEVENT
BEGIN:VEVENT
DTSTART;TZID=Europe/Prague:20220915T170000
DTEND;TZID=Europe/Prague:20220915T170000
DTSTAMP:20260423T164721
CREATED:20220906T062404Z
LAST-MODIFIED:20220906T073607Z
UID:2341-1663261200-1663261200@visit.chomutov.cz
SUMMARY:Jak se skamarádit se svými emocemi
DESCRIPTION:přednáška J. Matouškové a H. Ferencové
URL:https://visit.chomutov.cz/kalendar/jak-se-skamaradit-se-svymi-emocemi/
LOCATION:Café Atrium\, Palackého 85\, Chomutov
CATEGORIES:vzdělávání
ATTACH;FMTTYPE=image/png:https://visit.chomutov.cz/wp-content/uploads/2022/09/2022-masopust-logo.png
ORGANIZER;CN="Masopust%2C%20z.s.":MAILTO:info@masopustspolek.cz
END:VEVENT
BEGIN:VEVENT
DTSTART;TZID=Europe/Prague:20220915T083000
DTEND;TZID=Europe/Prague:20220915T083000
DTSTAMP:20260423T164721
CREATED:20220906T062123Z
LAST-MODIFIED:20220906T062130Z
UID:2337-1663230600-1663230600@visit.chomutov.cz
SUMMARY:Výlet do královského města Žatce
DESCRIPTION:prohlídka města s průvodcem\, návštěva Mederova domu (nutná rezervace ve studovně knihovny)
URL:https://visit.chomutov.cz/kalendar/vylet-do-kralovskeho-mesta-zatec/
CATEGORIES:vzdělávání
ATTACH;FMTTYPE=image/jpeg:https://visit.chomutov.cz/wp-content/uploads/2022/09/slider-2022-01.jpg
END:VEVENT
BEGIN:VEVENT
DTSTART;VALUE=DATE:20220915
DTEND;VALUE=DATE:20221216
DTSTAMP:20260423T164721
CREATED:20220915T101947Z
LAST-MODIFIED:20220915T101947Z
UID:2446-1663200000-1671148799@visit.chomutov.cz
SUMMARY:Tvůrčí psaní pro děti
DESCRIPTION:
URL:https://visit.chomutov.cz/kalendar/tvurci-psani-pro-deti/
LOCATION:Chomutovská knihovna\, Palackého 4995\, Chomutov
CATEGORIES:pro děti,vzdělávání
ATTACH;FMTTYPE=image/jpeg:https://visit.chomutov.cz/wp-content/uploads/2022/09/Tvurci-psani-pro-deti.jpg
END:VEVENT
BEGIN:VEVENT
DTSTART;TZID=Europe/Prague:20220913T090000
DTEND;TZID=Europe/Prague:20220913T180000
DTSTAMP:20260423T164721
CREATED:20220906T061746Z
LAST-MODIFIED:20220906T061746Z
UID:2334-1663059600-1663092000@visit.chomutov.cz
SUMMARY:Podzimní květinový SWAP
DESCRIPTION:výměna květin\, semen\, cibulek\, ovoce\, zeleniny \n9.00-13.00 v atriu \n13.00-18.00 v naučném oddělení
URL:https://visit.chomutov.cz/kalendar/podzimni-kvetinovy-swap/
LOCATION:Chomutovská knihovna\, Palackého 4995\, Chomutov
CATEGORIES:vzdělávání
ATTACH;FMTTYPE=image/jpeg:https://visit.chomutov.cz/wp-content/uploads/2022/09/DSC04055.jpg
END:VEVENT
BEGIN:VEVENT
DTSTART;VALUE=DATE:20220912
DTEND;VALUE=DATE:20220917
DTSTAMP:20260423T164721
CREATED:20220906T061338Z
LAST-MODIFIED:20220906T115834Z
UID:2332-1662940800-1663372799@visit.chomutov.cz
SUMMARY:Babí léto
DESCRIPTION:aktivní týden pro seniory
URL:https://visit.chomutov.cz/kalendar/babi-leto/
LOCATION:Chomutovská knihovna\, Palackého 4995\, Chomutov
CATEGORIES:vzdělávání
ATTACH;FMTTYPE=image/jpeg:https://visit.chomutov.cz/wp-content/uploads/2022/09/Babi-leto3-1.jpg
END:VEVENT
BEGIN:VEVENT
DTSTART;TZID=Europe/Prague:20220908T100000
DTEND;TZID=Europe/Prague:20220908T150000
DTSTAMP:20260423T164721
CREATED:20220906T060828Z
LAST-MODIFIED:20220906T061040Z
UID:2327-1662631200-1662649200@visit.chomutov.cz
SUMMARY:Jak na fotovoltaiku
DESCRIPTION:seminář pro města\, obce i podnikatele \n10.00-12.00 pro obce a města \n13.00-15.00 pro podnikatele
URL:https://visit.chomutov.cz/kalendar/jak-na-fotovoltaiku/
CATEGORIES:vzdělávání
ATTACH;FMTTYPE=image/jpeg:https://visit.chomutov.cz/wp-content/uploads/2022/09/solar.jpg
ORGANIZER;CN="Hospod%C3%A1%C5%99sk%C3%A1%20a%20soci%C3%A1ln%C3%AD%20rada%20Chomutovska%2C%20z.s.":MAILTO:info@hsrch.cz
END:VEVENT
BEGIN:VEVENT
DTSTART;TZID=Europe/Prague:20220808T210000
DTEND;TZID=Europe/Prague:20220814T000000
DTSTAMP:20260423T164721
CREATED:20220805T182704Z
LAST-MODIFIED:20220805T183227Z
UID:2176-1659992400-1660435200@visit.chomutov.cz
SUMMARY:Perseidy 2022
DESCRIPTION:Veřejné pozorování nejznámějšího meteorického roje. \nMísto konání: Na hvězdárně v Chomutově – louka vedle parkoviště před kinem Oko (Lipská ul. naproti kostelu Sv. Barbory) \nPro sledování úkazu není třeba žádný dalekohled – meteory vylétají náhodně po celé obloze a jsou dost výrazné na spatření pouhýma očima. Úkaz lze úspěšně pozorovat pouze za příznivého počasí. Předpokládané maximum nastane v noci Pá 12.8 – So 13.8. \nNezapomeňte si vzít: Teplé oblečení\, vhodnou obuv. Pokud se zdržíte déle – přineste si kempinkovou židli nebo rybářskou stoličku. Prosíme\, žádný alkohol a cigarety. Našich akcí se účastní i děti. Pod noční oblohu přicházíme s úctou a pokorou. Chováme se slušně a ohleduplně k sobě navzájem a k okolní přírodě. Svým pozorováním nerušíme okolí. \nVstup zdarma
URL:https://visit.chomutov.cz/kalendar/perseidy-2022/
CATEGORIES:pro děti,vzdělávání,zábavní pořady
ATTACH;FMTTYPE=image/jpeg:https://visit.chomutov.cz/wp-content/uploads/2022/08/pexels-neale-lasalle-631477.jpg
END:VEVENT
BEGIN:VEVENT
DTSTART;TZID=Europe/Prague:20220807T210000
DTEND;TZID=Europe/Prague:20220814T000000
DTSTAMP:20260423T164721
CREATED:20230717T061121Z
LAST-MODIFIED:20230717T061158Z
UID:4321-1659906000-1660435200@visit.chomutov.cz
SUMMARY:Perseidy 2023
DESCRIPTION:Veřejné pozorování nejznámějšího meteorického roje.
URL:https://visit.chomutov.cz/kalendar/perseidy-2023/
LOCATION:Hvězdárna F. J. Gerstnera\, Lipská 2207\, Chomutov
CATEGORIES:pro děti,vzdělávání,zábavní pořady
ATTACH;FMTTYPE=image/jpeg:https://visit.chomutov.cz/wp-content/uploads/2023/07/Perseidy-2023-page-001.jpg
END:VEVENT
BEGIN:VEVENT
DTSTART;VALUE=DATE:20220801
DTEND;VALUE=DATE:20220901
DTSTAMP:20260423T164721
CREATED:20220608T054512Z
LAST-MODIFIED:20220608T054512Z
UID:1804-1659312000-1661990399@visit.chomutov.cz
SUMMARY:Procházka městem a jeho historií - srpen
DESCRIPTION:Komentované prohlídky historickým centrem Chomutova. \nčervenec-srpen každá sobota a neděle od 14.00 hodin. \n100\,-Kč \n50\,-Kč senioři a děti do 15 let
URL:https://visit.chomutov.cz/kalendar/prochazka-mestem-a-jeho-historii-srpen/
CATEGORIES:vzdělávání,zábavní pořady
ATTACH;FMTTYPE=image/jpeg:https://visit.chomutov.cz/wp-content/uploads/2022/06/chomutov-770let-prochazky-A3-2206-page-002.jpg
ORGANIZER;CN="Statut%C3%A1rn%C3%AD%20m%C4%9Bsto%20Chomutov":MAILTO:infocentrum@chomutov.cz
END:VEVENT
BEGIN:VEVENT
DTSTART;TZID=Europe/Prague:20220630T100000
DTEND;TZID=Europe/Prague:20220630T100000
DTSTAMP:20260423T164721
CREATED:20220523T165718Z
LAST-MODIFIED:20220530T133953Z
UID:1359-1656583200-1656583200@visit.chomutov.cz
SUMMARY:S vysvědčením na věž
DESCRIPTION:Vstup zdarma na městskou věž po předložení vysvědčení (děti do 15 let pouze v doprovodu dospělého\, 1 dospělý také vstup zdarma).
URL:https://visit.chomutov.cz/kalendar/s-vysvedcenim-na-vez/
LOCATION:Městská věž\, nám. 1. máje 3\, Chomutov
CATEGORIES:vzdělávání
ATTACH;FMTTYPE=image/jpeg:https://visit.chomutov.cz/wp-content/uploads/2022/05/Na-vez-s-vysvedcenim-scaled.jpg
END:VEVENT
BEGIN:VEVENT
DTSTART;TZID=Europe/Prague:20220616T163000
DTEND;TZID=Europe/Prague:20220616T163000
DTSTAMP:20260423T164721
CREATED:20220523T164145Z
LAST-MODIFIED:20220523T164217Z
UID:1347-1655397000-1655397000@visit.chomutov.cz
SUMMARY:Jak mikrobiom ovlivňuje naše zdraví
DESCRIPTION:Přednáška A. Jeřábkové.
URL:https://visit.chomutov.cz/kalendar/jak-mikrobiom-ovlivnuje-nase-zdravi/
LOCATION:Chomutovská knihovna\, Palackého 4995\, Chomutov
CATEGORIES:vzdělávání
ATTACH;FMTTYPE=image/jpeg:https://visit.chomutov.cz/wp-content/uploads/2022/05/pexels-fayette-reynolds-ms-11210286-scaled.jpg
END:VEVENT
BEGIN:VEVENT
DTSTART;TZID=Europe/Prague:20220615T170000
DTEND;TZID=Europe/Prague:20220615T170000
DTSTAMP:20260423T164721
CREATED:20220523T161525Z
LAST-MODIFIED:20220523T161525Z
UID:1339-1655312400-1655312400@visit.chomutov.cz
SUMMARY:Keramika pro veřejnost
DESCRIPTION:Akce je určena dospělým a mládeži od 14 let\, kteří se nemohou zúčastňovat pravidelných kroužků.
URL:https://visit.chomutov.cz/kalendar/keramika-pro-verejnost-2/
LOCATION:Středisko volného času Domeček Chomutov\, Jiráskova 4140\, Chomutov
CATEGORIES:vzdělávání
ATTACH;FMTTYPE=image/jpeg:https://visit.chomutov.cz/wp-content/uploads/2022/05/earl-wilcox-iUbsw_VOkbM-unsplash-scaled.jpg
END:VEVENT
BEGIN:VEVENT
DTSTART;VALUE=DATE:20220615
DTEND;VALUE=DATE:20220616
DTSTAMP:20260423T164721
CREATED:20220523T162316Z
LAST-MODIFIED:20220523T162316Z
UID:1344-1655251200-1655251200@visit.chomutov.cz
SUMMARY:Mediální gramotnost pro žáky
DESCRIPTION:Mediální gramotnost pro žáky 8. tříd základních škol – lektor Josef Džubák. \nNutné se předem objednat!
URL:https://visit.chomutov.cz/kalendar/medialni-gramotnost-pro-zaky/
LOCATION:Chomutovská knihovna\, Palackého 4995\, Chomutov
CATEGORIES:vzdělávání
ATTACH;FMTTYPE=image/jpeg:https://visit.chomutov.cz/wp-content/uploads/2022/05/pexels-pixabay-267350-scaled.jpg
END:VEVENT
BEGIN:VEVENT
DTSTART;TZID=Europe/Prague:20220614T100000
DTEND;TZID=Europe/Prague:20220614T100000
DTSTAMP:20260423T164721
CREATED:20220523T161952Z
LAST-MODIFIED:20220523T161952Z
UID:1341-1655200800-1655200800@visit.chomutov.cz
SUMMARY:Workshop - cestovní ruch
DESCRIPTION:Workshop o aktuálním vývoji a trendech cestovního ruchu.
URL:https://visit.chomutov.cz/kalendar/workshop-cestovni-ruch/
LOCATION:Horský areál Lesná\, Svahová 22\, Boleboř
CATEGORIES:vzdělávání
ATTACH;FMTTYPE=image/jpeg:https://visit.chomutov.cz/wp-content/uploads/2022/05/horsky_hotel_lesna_01.jpg
END:VEVENT
BEGIN:VEVENT
DTSTART;TZID=Europe/Prague:20220608T170000
DTEND;TZID=Europe/Prague:20220608T170000
DTSTAMP:20260423T164721
CREATED:20220523T161455Z
LAST-MODIFIED:20220523T161455Z
UID:1337-1654707600-1654707600@visit.chomutov.cz
SUMMARY:Keramika pro veřejnost
DESCRIPTION:Akce je určena dospělým a mládeži od 14 let\, kteří se nemohou zúčastňovat pravidelných kroužků.
URL:https://visit.chomutov.cz/kalendar/keramika-pro-verejnost/
LOCATION:Středisko volného času Domeček Chomutov\, Jiráskova 4140\, Chomutov
CATEGORIES:vzdělávání
ATTACH;FMTTYPE=image/jpeg:https://visit.chomutov.cz/wp-content/uploads/2022/05/earl-wilcox-iUbsw_VOkbM-unsplash-scaled.jpg
END:VEVENT
BEGIN:VEVENT
DTSTART;TZID=Europe/Prague:20220608T110000
DTEND;TZID=Europe/Prague:20220608T110000
DTSTAMP:20260423T164721
CREATED:20220523T161348Z
LAST-MODIFIED:20220523T161348Z
UID:1334-1654686000-1654686000@visit.chomutov.cz
SUMMARY:Makovec
DESCRIPTION:Koncert country kapely u příležitosti zakončení 22. ročníku Akademie 3. věku
URL:https://visit.chomutov.cz/kalendar/makovec/
LOCATION:Chomutovská knihovna\, Palackého 4995\, Chomutov
CATEGORIES:vzdělávání
ATTACH;FMTTYPE=image/jpeg:https://visit.chomutov.cz/wp-content/uploads/2022/05/country-scaled.jpg
END:VEVENT
BEGIN:VEVENT
DTSTART;TZID=Europe/Prague:20220527T170000
DTEND;TZID=Europe/Prague:20220527T170000
DTSTAMP:20260423T164721
CREATED:20220518T091831Z
LAST-MODIFIED:20220519T093940Z
UID:1001-1653670800-1653670800@visit.chomutov.cz
SUMMARY:Chomutovský kalamář
DESCRIPTION:slavnostní vyhlášení vítězů literární soutěže
URL:https://visit.chomutov.cz/kalendar/chomutovsky-kalamar/
LOCATION:Chomutovská knihovna\, Palackého 4995\, Chomutov
CATEGORIES:vzdělávání
ATTACH;FMTTYPE=image/jpeg:https://visit.chomutov.cz/wp-content/uploads/2022/05/kalamar-scaled.jpg
END:VEVENT
BEGIN:VEVENT
DTSTART;TZID=Europe/Prague:20220525T170000
DTEND;TZID=Europe/Prague:20220525T200000
DTSTAMP:20260423T164721
CREATED:20220518T091113Z
LAST-MODIFIED:20220519T174343Z
UID:979-1653498000-1653508800@visit.chomutov.cz
SUMMARY:Keramika pro veřejnost
DESCRIPTION:Akce je určena dospělým a mládeži od 14 let\, kteří se nemohou zúčastňovat pravidelných kroužků.
URL:https://visit.chomutov.cz/kalendar/keramika-pro-verejnost-4/
LOCATION:Středisko volného času Domeček Chomutov\, Jiráskova 4140\, Chomutov
CATEGORIES:vzdělávání
ATTACH;FMTTYPE=image/jpeg:https://visit.chomutov.cz/wp-content/uploads/2022/05/earl-wilcox-iUbsw_VOkbM-unsplash-scaled.jpg
END:VEVENT
BEGIN:VEVENT
DTSTART;TZID=Europe/Prague:20220525T170000
DTEND;TZID=Europe/Prague:20220525T170000
DTSTAMP:20260423T164721
CREATED:20220518T091719Z
LAST-MODIFIED:20220519T175222Z
UID:996-1653498000-1653498000@visit.chomutov.cz
SUMMARY:DOMA nebo DOMOV?
DESCRIPTION:Plánování péče s sebou nese mnoho různých otázek. Zorientovat se v dostupných možnostech\, najít způsob péče a podpory\, který bude příjemný jak člověku s demencí tak i jeho blízkým\, a připravit se na možné změny v budoucnu nebývá zpočátku snadné.\nJak tedy s plánováním péče začít\, na co se zaměřit? Jak nad péčí přemýšlet a jak o ní společně mluvit? Co obnáší péče doma a co dělat\, když péče doma není možná? Jak postupovat dál? Jak komunikovat s blízkým o přemístění do domova? Jaká jsou kritéria výběru vhodného domova? Jak pomoci obtížnému procesu přechodu z domova do zařízení? Jak vybavit pokoj a co mít s sebou? Jak podpořit klienta a adaptační proces?\nNa tyto a další otázky bude odpovídat Mgr. Adéla Jirglová\, individuální poradkyně projektu Pečujeme o ty\, kteří pečují II.\nPořádá ALZHEIMER CAFE (příjemné a neformální místo pro setkávání lidí s demencí\, jejich blízkých a odborníků)\, Alzheimer nadační fond a Nadační fond Seňorina.
URL:https://visit.chomutov.cz/kalendar/doma-nebo-domov/
LOCATION:Café Atrium\, Palackého 85\, Chomutov
CATEGORIES:vzdělávání
ATTACH;FMTTYPE=image/jpeg:https://visit.chomutov.cz/wp-content/uploads/2022/05/Doma.jpg
END:VEVENT
BEGIN:VEVENT
DTSTART;TZID=Europe/Prague:20220525T093000
DTEND;TZID=Europe/Prague:20220525T093000
DTSTAMP:20260423T164721
CREATED:20220518T091633Z
LAST-MODIFIED:20220519T175531Z
UID:994-1653471000-1653471000@visit.chomutov.cz
SUMMARY:A3V - Přírodní prameny zdraví a současnost II.
DESCRIPTION:Přednáška v rámci Akademie třetího věku. Přednáší Mgr. Oldřich Hahn. Velký sál knihovny.
URL:https://visit.chomutov.cz/kalendar/a3v-prirodni-prameny-zdravi-a-soucasnost-ii/
LOCATION:Chomutovská knihovna\, Palackého 4995\, Chomutov
CATEGORIES:vzdělávání
ATTACH;FMTTYPE=image/jpeg:https://visit.chomutov.cz/wp-content/uploads/2022/05/olda-hahn-a3v-scaled.jpg
END:VEVENT
BEGIN:VEVENT
DTSTART;VALUE=DATE:20220521
DTEND;VALUE=DATE:20220522
DTSTAMP:20260423T164721
CREATED:20220518T091502Z
LAST-MODIFIED:20220519T185757Z
UID:990-1653091200-1653177599@visit.chomutov.cz
SUMMARY:Technický klub - otevřená dílna
DESCRIPTION:Akce pro zájemce o robotiku a stolní hry\, přijít mohou děti samotné i rodiče s dětmi.
URL:https://visit.chomutov.cz/kalendar/technicky-klub-otevrena-dilna/
LOCATION:Středisko volného času Domeček Chomutov\, Jiráskova 4140\, Chomutov
CATEGORIES:vzdělávání
ATTACH;FMTTYPE=image/jpeg:https://visit.chomutov.cz/wp-content/uploads/2022/05/sufyan-JUJzjthZnYU-unsplash-scaled.jpg
END:VEVENT
END:VCALENDAR