BEGIN:VCALENDAR
VERSION:2.0
PRODID:-//Visit Chomutov - ECPv5.14.2.1//NONSGML v1.0//EN
CALSCALE:GREGORIAN
METHOD:PUBLISH
X-WR-CALNAME:Visit Chomutov
X-ORIGINAL-URL:https://visit.chomutov.cz
X-WR-CALDESC:Akce na Visit Chomutov
REFRESH-INTERVAL;VALUE=DURATION:PT1H
X-Robots-Tag:noindex
X-PUBLISHED-TTL:PT1H
BEGIN:VTIMEZONE
TZID:Europe/Prague
BEGIN:DAYLIGHT
TZOFFSETFROM:+0100
TZOFFSETTO:+0200
TZNAME:CEST
DTSTART:20250330T010000
END:DAYLIGHT
BEGIN:STANDARD
TZOFFSETFROM:+0200
TZOFFSETTO:+0100
TZNAME:CET
DTSTART:20251026T010000
END:STANDARD
END:VTIMEZONE
BEGIN:VEVENT
DTSTART;TZID=Europe/Prague:20251219T170000
DTEND;TZID=Europe/Prague:20251219T200000
DTSTAMP:20260422T225430
CREATED:20251201T084011Z
LAST-MODIFIED:20251201T084011Z
UID:11777-1766163600-1766174400@visit.chomutov.cz
SUMMARY:Workshopy s Adél: Malování akrylem
DESCRIPTION:Přijď si vyzkoušet malbu akrylem a ponoř se do světa barev\, tvarů a tvoření\, které tě pohltí!\nNa našem předvánočním workshopu tě čeká kouzelné\, klidný podvečer\, během kterého se na chvíli zastavíš uprostřed předvánočního shonu. Krok za krokem se naučíš\, jak přenést obraz z předlohy na plátno – a přitom si zachovat svůj jedinečný styl.
URL:https://visit.chomutov.cz/kalendar/workshopy-s-adel-malovani-akrylem/
LOCATION:Prostor\, 28. října 1113/16\, Chomutov\, 43001
CATEGORIES:vzdělávání
ATTACH;FMTTYPE=image/jpeg:https://visit.chomutov.cz/wp-content/uploads/2025/12/Malovani-akrylem.jpg
END:VEVENT
END:VCALENDAR