BEGIN:VCALENDAR
VERSION:2.0
PRODID:-//Visit Chomutov - ECPv5.14.2.1//NONSGML v1.0//EN
CALSCALE:GREGORIAN
METHOD:PUBLISH
X-WR-CALNAME:Visit Chomutov
X-ORIGINAL-URL:https://visit.chomutov.cz
X-WR-CALDESC:Akce na Visit Chomutov
REFRESH-INTERVAL;VALUE=DURATION:PT1H
X-Robots-Tag:noindex
X-PUBLISHED-TTL:PT1H
BEGIN:VTIMEZONE
TZID:Europe/Prague
BEGIN:DAYLIGHT
TZOFFSETFROM:+0100
TZOFFSETTO:+0200
TZNAME:CEST
DTSTART:20250330T010000
END:DAYLIGHT
BEGIN:STANDARD
TZOFFSETFROM:+0200
TZOFFSETTO:+0100
TZNAME:CET
DTSTART:20251026T010000
END:STANDARD
END:VTIMEZONE
BEGIN:VEVENT
DTSTART;TZID=Europe/Prague:20251213T100000
DTEND;TZID=Europe/Prague:20251213T120000
DTSTAMP:20260422T225529
CREATED:20251201T081419Z
LAST-MODIFIED:20251201T081419Z
UID:11762-1765620000-1765627200@visit.chomutov.cz
SUMMARY:Workshop výroby dřevěných stromečků
DESCRIPTION:Přírodní materiály jsou nejpřirozenější výzdobou našich interiérů\, proto i my vyrábíme dekorace hlavně ze dřeva. Na workshopu si nazdobíte dřevěné stromečky pomocí svých oblíbených barev a dalších přírodnin.\nVytvoříte si moderní dekoraci v podobě tří stromečků\, která se hodí jak na období adventu\, tak jako celoroční doplněk vašeho domova.\nNic není potřeba si přinést\, vše připravíme za vás. Nezapomeneme ani na drobné občerstvení.\nWorkshop je vhodný pro děti i dospělé.
URL:https://visit.chomutov.cz/kalendar/workshop-vyroby-drevenych-stromecku/
LOCATION:Prostor\, 28. října 1113/16\, Chomutov\, 43001
CATEGORIES:vzdělávání
ATTACH;FMTTYPE=image/jpeg:https://visit.chomutov.cz/wp-content/uploads/2025/12/587536538_17931952401112292_4814854352011779134_n.jpg
END:VEVENT
BEGIN:VEVENT
DTSTART;TZID=Europe/Prague:20251213T100000
DTEND;TZID=Europe/Prague:20251213T123000
DTSTAMP:20260422T225529
CREATED:20251201T080011Z
LAST-MODIFIED:20251201T080011Z
UID:11751-1765620000-1765629000@visit.chomutov.cz
SUMMARY:Vánoční aranžování
DESCRIPTION:Přijďte si vyrobit vánoční dekoraci na sváteční stůl. Přihlášky a informace: Alena Petriková
URL:https://visit.chomutov.cz/kalendar/vanocni-aranzovani/
LOCATION:Středisko volného času Domeček Chomutov\, Jiráskova 4140\, Chomutov
CATEGORIES:Vánoce,vzdělávání
ATTACH;FMTTYPE=image/jpeg:https://visit.chomutov.cz/wp-content/uploads/2025/12/pexels-marko-klaric-6163749.jpg
END:VEVENT
BEGIN:VEVENT
DTSTART;TZID=Europe/Prague:20251213T130000
DTEND;TZID=Europe/Prague:20251213T170000
DTSTAMP:20260422T225529
CREATED:20251128T101557Z
LAST-MODIFIED:20251128T101621Z
UID:11627-1765630800-1765645200@visit.chomutov.cz
SUMMARY:Rukodělná dřevěná dílna
DESCRIPTION:k výstavě Dřevěné drahokamy z Krušných hor
URL:https://visit.chomutov.cz/kalendar/rukodelna-drevena-dilna/
LOCATION:Oblastní muzeum v Chomutově – hlavní budova\, Palackého 86\, Chomutov\, Česká republika
CATEGORIES:pro děti,vzdělávání
ATTACH;FMTTYPE=image/jpeg:https://visit.chomutov.cz/wp-content/uploads/2025/11/Dilna-drevene-drahokamy.jpg
ORGANIZER;CN="Oblastn%C3%AD%20muzeum%20v%20Chomutov%C4%9B":MAILTO:sekretariat@muzeumchomutov.cz
END:VEVENT
BEGIN:VEVENT
DTSTART;TZID=Europe/Prague:20251213T170000
DTEND;TZID=Europe/Prague:20251213T200000
DTSTAMP:20260422T225529
CREATED:20251201T082606Z
LAST-MODIFIED:20251201T082606Z
UID:11772-1765645200-1765656000@visit.chomutov.cz
SUMMARY:Ženský kruh
DESCRIPTION:Michaela PomajslováPřijďte si odpočinout a načerpat novou energii během relaxace se zvuky léčivých křišťálových mís. Před ní nás čeká velice jemné jógové protažení Light Alchemy Yoga vedené (velice) těhotnou lektorkou . Pojďme se napojit samy na sebe\, nechat myšlenky odplout a dopřát si chvíli klidu i lásky k sobě samým.
URL:https://visit.chomutov.cz/kalendar/zensky-kruh/
LOCATION:Prostor\, 28. října 1113/16\, Chomutov\, 43001
CATEGORIES:vzdělávání
ATTACH;FMTTYPE=image/jpeg:https://visit.chomutov.cz/wp-content/uploads/2025/12/586893486_17931622065112292_7379461833292212685_n.jpg
END:VEVENT
END:VCALENDAR