BEGIN:VCALENDAR
VERSION:2.0
PRODID:-//Visit Chomutov - ECPv5.14.2.1//NONSGML v1.0//EN
CALSCALE:GREGORIAN
METHOD:PUBLISH
X-WR-CALNAME:Visit Chomutov
X-ORIGINAL-URL:https://visit.chomutov.cz
X-WR-CALDESC:Akce na Visit Chomutov
REFRESH-INTERVAL;VALUE=DURATION:PT1H
X-Robots-Tag:noindex
X-PUBLISHED-TTL:PT1H
BEGIN:VTIMEZONE
TZID:Europe/Prague
BEGIN:DAYLIGHT
TZOFFSETFROM:+0100
TZOFFSETTO:+0200
TZNAME:CEST
DTSTART:20250330T010000
END:DAYLIGHT
BEGIN:STANDARD
TZOFFSETFROM:+0200
TZOFFSETTO:+0100
TZNAME:CET
DTSTART:20251026T010000
END:STANDARD
END:VTIMEZONE
BEGIN:VEVENT
DTSTART;TZID=Europe/Prague:20251210T160000
DTEND;TZID=Europe/Prague:20251210T160000
DTSTAMP:20260422T225432
CREATED:20251201T080132Z
LAST-MODIFIED:20251201T080312Z
UID:11754-1765382400-1765382400@visit.chomutov.cz
SUMMARY:A3V - Emoce\, stres a naše vnitřní psychická podstata
DESCRIPTION:přednáší Radim Žáček
URL:https://visit.chomutov.cz/kalendar/a3v-emoce-stres-a-nase-vnitrni-psychicka-postata/
LOCATION:Chomutovská knihovna\, Palackého 4995\, Chomutov
CATEGORIES:vzdělávání
ATTACH;FMTTYPE=image/jpeg:https://visit.chomutov.cz/wp-content/uploads/2023/02/logo-nove-512.jpg
END:VEVENT
END:VCALENDAR