BEGIN:VCALENDAR
VERSION:2.0
PRODID:-//Visit Chomutov - ECPv5.14.2.1//NONSGML v1.0//EN
CALSCALE:GREGORIAN
METHOD:PUBLISH
X-WR-CALNAME:Visit Chomutov
X-ORIGINAL-URL:https://visit.chomutov.cz
X-WR-CALDESC:Akce na Visit Chomutov
REFRESH-INTERVAL;VALUE=DURATION:PT1H
X-Robots-Tag:noindex
X-PUBLISHED-TTL:PT1H
BEGIN:VTIMEZONE
TZID:Europe/Prague
BEGIN:DAYLIGHT
TZOFFSETFROM:+0100
TZOFFSETTO:+0200
TZNAME:CEST
DTSTART:20250330T010000
END:DAYLIGHT
BEGIN:STANDARD
TZOFFSETFROM:+0200
TZOFFSETTO:+0100
TZNAME:CET
DTSTART:20251026T010000
END:STANDARD
END:VTIMEZONE
BEGIN:VEVENT
DTSTART;TZID=Europe/Prague:20251203T180000
DTEND;TZID=Europe/Prague:20251203T180000
DTSTAMP:20260422T225529
CREATED:20230323T114002Z
LAST-MODIFIED:20251128T123801Z
UID:3597-1764784800-1764784800@visit.chomutov.cz
SUMMARY:Povídání o bylinkách
DESCRIPTION:Pravidelné měsíční setkání se světem léčivek a jejich využitím s PaedDr. Jiřím Rothem.\nChomutovská knihovna\, 3. patro\, učebna č. 66.
URL:https://visit.chomutov.cz/kalendar/povidani-o-bylinkach-2/
LOCATION:Chomutovská knihovna\, Palackého 4995\, Chomutov
CATEGORIES:vzdělávání
ATTACH;FMTTYPE=image/jpeg:https://visit.chomutov.cz/wp-content/uploads/2022/05/bylinky-scaled.jpg
END:VEVENT
END:VCALENDAR