BEGIN:VCALENDAR
VERSION:2.0
PRODID:-//Visit Chomutov - ECPv5.14.2.1//NONSGML v1.0//EN
CALSCALE:GREGORIAN
METHOD:PUBLISH
X-WR-CALNAME:Visit Chomutov
X-ORIGINAL-URL:https://visit.chomutov.cz
X-WR-CALDESC:Akce na Visit Chomutov
REFRESH-INTERVAL;VALUE=DURATION:PT1H
X-Robots-Tag:noindex
X-PUBLISHED-TTL:PT1H
BEGIN:VTIMEZONE
TZID:Europe/Prague
BEGIN:DAYLIGHT
TZOFFSETFROM:+0100
TZOFFSETTO:+0200
TZNAME:CEST
DTSTART:20250330T010000
END:DAYLIGHT
BEGIN:STANDARD
TZOFFSETFROM:+0200
TZOFFSETTO:+0100
TZNAME:CET
DTSTART:20251026T010000
END:STANDARD
END:VTIMEZONE
BEGIN:VEVENT
DTSTART;TZID=Europe/Prague:20251031T150000
DTEND;TZID=Europe/Prague:20251031T160000
DTSTAMP:20260423T003937
CREATED:20250926T063850Z
LAST-MODIFIED:20250926T064045Z
UID:10924-1761922800-1761926400@visit.chomutov.cz
SUMMARY:Odhalení pamětní desky Karla Maye v Chomutově
DESCRIPTION:
URL:https://visit.chomutov.cz/kalendar/odhaleni-pametni-desky-karla-maye-v-chomutove/
LOCATION:Dům Scherber\, Chelčického 98\, Chomutov\, 43001
CATEGORIES:vzdělávání
ATTACH;FMTTYPE=image/jpeg:https://visit.chomutov.cz/wp-content/uploads/2025/09/may-deska.jpg
ORGANIZER;CN="%C5%BDensk%C3%BD%20spolek%2C%20z.%20s.":MAILTO:zenskyspolek@seznam.cz
END:VEVENT
BEGIN:VEVENT
DTSTART;TZID=Europe/Prague:20251031T180000
DTEND;TZID=Europe/Prague:20251031T200000
DTSTAMP:20260423T003937
CREATED:20250929T100233Z
LAST-MODIFIED:20250929T100233Z
UID:11097-1761933600-1761940800@visit.chomutov.cz
SUMMARY:Svět výběrové kávy
DESCRIPTION:Káva není pouze obyčejným nápojem. Je to pro mnohé z nás rituál\, zdroj inspirace či povzbuzení. Výběrová káva otevírá dveře do světa bohatých chutí a vůní\, její cesta od kávové třešně na plantáži přes pražírnu až do vašeho šálku je dlouhá a na rozdíl od komoditní kávy je o ni důkladně pečováno. \nNa naší přednášce Vám představíme původ kávy\, metody jejího zpracování\, pěstitelské regiony\, druhy pražení\, faktory ovlivňující chuť i možnosti alternativní přípravy kávy. Zároveň budete mít příležitost několik výběrových káv ochutnat a porovnat tak rozdíl oproti kávě komoditní.
URL:https://visit.chomutov.cz/kalendar/svet-vyberove-kavy-2/
LOCATION:Prostor\, 28. října 1113/16\, Chomutov\, 43001
CATEGORIES:vzdělávání
ATTACH;FMTTYPE=image/jpeg:https://visit.chomutov.cz/wp-content/uploads/2025/03/483648971_1790173227.jpg
END:VEVENT
END:VCALENDAR