BEGIN:VCALENDAR
VERSION:2.0
PRODID:-//Visit Chomutov - ECPv5.14.2.1//NONSGML v1.0//EN
CALSCALE:GREGORIAN
METHOD:PUBLISH
X-WR-CALNAME:Visit Chomutov
X-ORIGINAL-URL:https://visit.chomutov.cz
X-WR-CALDESC:Akce na Visit Chomutov
REFRESH-INTERVAL;VALUE=DURATION:PT1H
X-Robots-Tag:noindex
X-PUBLISHED-TTL:PT1H
BEGIN:VTIMEZONE
TZID:Europe/Prague
BEGIN:DAYLIGHT
TZOFFSETFROM:+0100
TZOFFSETTO:+0200
TZNAME:CEST
DTSTART:20250330T010000
END:DAYLIGHT
BEGIN:STANDARD
TZOFFSETFROM:+0200
TZOFFSETTO:+0100
TZNAME:CET
DTSTART:20251026T010000
END:STANDARD
END:VTIMEZONE
BEGIN:VEVENT
DTSTART;TZID=Europe/Prague:20251024T180000
DTEND;TZID=Europe/Prague:20251024T200000
DTSTAMP:20260423T020954
CREATED:20250926T091023Z
LAST-MODIFIED:20250926T091023Z
UID:11006-1761328800-1761336000@visit.chomutov.cz
SUMMARY:Jak zvládat životní krize
DESCRIPTION:Procházíte náročným obdobím? Potřebujete si vytvořit vnitřní oporu? Chcete sami sobě porozumět? Ať už jde o ztrátu\, rozchod\, vyhoření\, nemoc nebo náhlou změnu\, krize přicházejí nečekaně a často nás mohou zaskočit svou silou. Přednáškou Vás provedou Mgr. Michaela Nechalová a Mgr. Eliška Palečková.
URL:https://visit.chomutov.cz/kalendar/jak-zvladat-zivotni-krize/
LOCATION:Prostor\, 28. října 1113/16\, Chomutov\, 43001
CATEGORIES:vzdělávání
ATTACH;FMTTYPE=image/jpeg:https://visit.chomutov.cz/wp-content/uploads/2025/09/Jak-zvladat-zivotni-krize.jpg
END:VEVENT
END:VCALENDAR