BEGIN:VCALENDAR
VERSION:2.0
PRODID:-//Visit Chomutov - ECPv5.14.2.1//NONSGML v1.0//EN
CALSCALE:GREGORIAN
METHOD:PUBLISH
X-WR-CALNAME:Visit Chomutov
X-ORIGINAL-URL:https://visit.chomutov.cz
X-WR-CALDESC:Akce na Visit Chomutov
REFRESH-INTERVAL;VALUE=DURATION:PT1H
X-Robots-Tag:noindex
X-PUBLISHED-TTL:PT1H
BEGIN:VTIMEZONE
TZID:Europe/Prague
BEGIN:DAYLIGHT
TZOFFSETFROM:+0100
TZOFFSETTO:+0200
TZNAME:CEST
DTSTART:20250330T010000
END:DAYLIGHT
BEGIN:STANDARD
TZOFFSETFROM:+0200
TZOFFSETTO:+0100
TZNAME:CET
DTSTART:20251026T010000
END:STANDARD
END:VTIMEZONE
BEGIN:VEVENT
DTSTART;TZID=Europe/Prague:20251007T160000
DTEND;TZID=Europe/Prague:20251007T160000
DTSTAMP:20260423T021342
CREATED:20250925T124149Z
LAST-MODIFIED:20250926T055925Z
UID:10874-1759852800-1759852800@visit.chomutov.cz
SUMMARY:Úvod do umělé inteligence základní práce s Gemini
DESCRIPTION:
URL:https://visit.chomutov.cz/kalendar/uvod-do-umele-inteligence-a-zakladni-prace-s-gemini/
LOCATION:Chomutovská knihovna\, Palackého 4995\, Chomutov
CATEGORIES:vzdělávání
ATTACH;FMTTYPE=image/jpeg:https://visit.chomutov.cz/wp-content/uploads/2025/09/Umela-inteligence-workshop-scaled.jpg
END:VEVENT
BEGIN:VEVENT
DTSTART;TZID=Europe/Prague:20251007T193000
DTEND;TZID=Europe/Prague:20251007T210000
DTSTAMP:20260423T021342
CREATED:20250926T093541Z
LAST-MODIFIED:20250926T093557Z
UID:11023-1759865400-1759870800@visit.chomutov.cz
SUMMARY:Veřejné pozorování "Loveckého" úplňku Měsíce
DESCRIPTION:
URL:https://visit.chomutov.cz/kalendar/verejne-pozorovani-loveckeho-uplnku-mesice/
LOCATION:Hvězdárna F. J. Gerstnera\, Lipská 2207\, Chomutov
CATEGORIES:vzdělávání
ATTACH;FMTTYPE=image/jpeg:https://visit.chomutov.cz/wp-content/uploads/2025/09/pexels-david-besh-884788.jpg
END:VEVENT
END:VCALENDAR