BEGIN:VCALENDAR
VERSION:2.0
PRODID:-//Visit Chomutov - ECPv5.14.2.1//NONSGML v1.0//EN
CALSCALE:GREGORIAN
METHOD:PUBLISH
X-WR-CALNAME:Visit Chomutov
X-ORIGINAL-URL:https://visit.chomutov.cz
X-WR-CALDESC:Akce na Visit Chomutov
REFRESH-INTERVAL;VALUE=DURATION:PT1H
X-Robots-Tag:noindex
X-PUBLISHED-TTL:PT1H
BEGIN:VTIMEZONE
TZID:Europe/Prague
BEGIN:DAYLIGHT
TZOFFSETFROM:+0100
TZOFFSETTO:+0200
TZNAME:CEST
DTSTART:20250330T010000
END:DAYLIGHT
BEGIN:STANDARD
TZOFFSETFROM:+0200
TZOFFSETTO:+0100
TZNAME:CET
DTSTART:20251026T010000
END:STANDARD
END:VTIMEZONE
BEGIN:VEVENT
DTSTART;TZID=Europe/Prague:20251001T170000
DTEND;TZID=Europe/Prague:20251001T170000
DTSTAMP:20260423T021341
CREATED:20250925T123411Z
LAST-MODIFIED:20250925T123411Z
UID:10861-1759338000-1759338000@visit.chomutov.cz
SUMMARY:Vše o životě po životě
DESCRIPTION:Přednáška s názvem „ROZŠÍŘENÉ VĚDOMÍ – Vše o životě po životě“\, která vám otevře dveře do neznámého světa požitků a zkušeností lidí\, kteří prodělali zkušenost klinické smrti. Tato projekce a přednáškou je výsledkem dlouhého a pečlivého výzkumu Dalibora Stacha\, autora dokumentů „Vše o životě po životě“.
URL:https://visit.chomutov.cz/kalendar/vse-o-zivote-po-zivote/
LOCATION:Chomutovská knihovna\, Palackého 4995\, Chomutov
CATEGORIES:vzdělávání
ATTACH;FMTTYPE=image/png:https://visit.chomutov.cz/wp-content/uploads/2025/09/O-zivote-po-zivote.png
END:VEVENT
END:VCALENDAR