BEGIN:VCALENDAR
VERSION:2.0
PRODID:-//Visit Chomutov - ECPv5.14.2.1//NONSGML v1.0//EN
CALSCALE:GREGORIAN
METHOD:PUBLISH
X-WR-CALNAME:Visit Chomutov
X-ORIGINAL-URL:https://visit.chomutov.cz
X-WR-CALDESC:Akce na Visit Chomutov
REFRESH-INTERVAL;VALUE=DURATION:PT1H
X-Robots-Tag:noindex
X-PUBLISHED-TTL:PT1H
BEGIN:VTIMEZONE
TZID:Europe/Prague
BEGIN:DAYLIGHT
TZOFFSETFROM:+0100
TZOFFSETTO:+0200
TZNAME:CEST
DTSTART:20250330T010000
END:DAYLIGHT
BEGIN:STANDARD
TZOFFSETFROM:+0200
TZOFFSETTO:+0100
TZNAME:CET
DTSTART:20251026T010000
END:STANDARD
END:VTIMEZONE
BEGIN:VEVENT
DTSTART;TZID=Europe/Prague:20250905T173000
DTEND;TZID=Europe/Prague:20250905T190000
DTSTAMP:20260423T021307
CREATED:20250828T120920Z
LAST-MODIFIED:20250828T120920Z
UID:10637-1757093400-1757098800@visit.chomutov.cz
SUMMARY:Mindfulness
DESCRIPTION:Na prakticky zaměřené přednášce se zkušenou lektorkou mindfulness a emoční první pomoci Mgr. Lenkou Krejčovou se dozvíte\, jak mindfulness efektivně rozvíjet pomocí meditací a jednoduchých cvičení do každodenního života. Zažijete si vedenou mindfulness meditaci s následným prostorem pro dobrovolné sdílení prožitků a pokládání otázek. Získáte spoustu inspirace\, jak si dopřávat spočinutí v přítomném okamžiku. A pokud vás mindfulness zaujme\, můžete se těšit i na navazující pravidelná setkávání v Prostoru.
URL:https://visit.chomutov.cz/kalendar/mindfulness/
LOCATION:Prostor\, 28. října 1113/16\, Chomutov\, 43001
CATEGORIES:vzdělávání
ATTACH;FMTTYPE=image/jpeg:https://visit.chomutov.cz/wp-content/uploads/2025/08/03.jpg
END:VEVENT
BEGIN:VEVENT
DTSTART;TZID=Europe/Prague:20250906T093000
DTEND;TZID=Europe/Prague:20250906T093000
DTSTAMP:20260423T021307
CREATED:20250828T112553Z
LAST-MODIFIED:20250828T112553Z
UID:10625-1757151000-1757151000@visit.chomutov.cz
SUMMARY:Batologická exkurze
DESCRIPTION:exkurze zaměřená na ostružiníky včetně kriticky ohroženého ostružiníku modrozeleného v oblasti Zelená u Chomutova
URL:https://visit.chomutov.cz/kalendar/batologicka-exkurze/
CATEGORIES:vzdělávání
ATTACH;FMTTYPE=image/jpeg:https://visit.chomutov.cz/wp-content/uploads/2025/08/Batologicka-exkurze.jpg
ORGANIZER;CN="Oblastn%C3%AD%20muzeum%20v%20Chomutov%C4%9B":MAILTO:sekretariat@muzeumchomutov.cz
END:VEVENT
BEGIN:VEVENT
DTSTART;TZID=Europe/Prague:20250906T100000
DTEND;TZID=Europe/Prague:20250906T170000
DTSTAMP:20260423T021307
CREATED:20250806T153205Z
LAST-MODIFIED:20250828T105103Z
UID:10523-1757152800-1757178000@visit.chomutov.cz
SUMMARY:Prohlídky pevností Na Kočičáku
DESCRIPTION:
URL:https://visit.chomutov.cz/kalendar/prohlidky-pevnosti-na-kocicaku-8/
LOCATION:Muzeum Na Kočičáku\, Blatno - Hrádečná
CATEGORIES:vzdělávání
ATTACH;FMTTYPE=image/jpeg:https://visit.chomutov.cz/wp-content/uploads/2021/11/Kocicak_1-Velke.jpg
END:VEVENT
BEGIN:VEVENT
DTSTART;TZID=Europe/Prague:20250907T193000
DTEND;TZID=Europe/Prague:20250907T220000
DTSTAMP:20260423T021307
CREATED:20250828T112910Z
LAST-MODIFIED:20250828T112910Z
UID:10628-1757273400-1757282400@visit.chomutov.cz
SUMMARY:Veřejné pozorování úplného zatmění měsíce
DESCRIPTION:
URL:https://visit.chomutov.cz/kalendar/verejne-pozorovani-uplneho-zatmeni-mesice/
LOCATION:Hvězdárna F. J. Gerstnera\, Lipská 2207\, Chomutov
CATEGORIES:vzdělávání
ATTACH;FMTTYPE=image/jpeg:https://visit.chomutov.cz/wp-content/uploads/2025/08/pexels-eclipse-chasers-716719984-20209009.jpg
END:VEVENT
BEGIN:VEVENT
DTSTART;TZID=Europe/Prague:20250909T170000
DTEND;TZID=Europe/Prague:20250909T170000
DTSTAMP:20260423T021307
CREATED:20250904T071124Z
LAST-MODIFIED:20250904T071124Z
UID:10748-1757437200-1757437200@visit.chomutov.cz
SUMMARY:Kdy je toho moc... A kdy už je to nemoc?
DESCRIPTION:interaktivní přednáška
URL:https://visit.chomutov.cz/kalendar/kdy-je-toho-moc-a-kdy-uz-je-to-nemoc/
LOCATION:Café Atrium\, Palackého 85\, Chomutov
CATEGORIES:vzdělávání
ATTACH;FMTTYPE=image/jpeg:https://visit.chomutov.cz/wp-content/uploads/2022/05/cafe-atrium.jpg
ORGANIZER;CN="Masopust%2C%20z.s.":MAILTO:info@masopustspolek.cz
END:VEVENT
BEGIN:VEVENT
DTSTART;TZID=Europe/Prague:20250912T170000
DTEND;TZID=Europe/Prague:20250912T200000
DTSTAMP:20260423T021307
CREATED:20250904T071246Z
LAST-MODIFIED:20250904T071246Z
UID:10750-1757696400-1757707200@visit.chomutov.cz
SUMMARY:Malování vínem - Workshop s Adél
DESCRIPTION:
URL:https://visit.chomutov.cz/kalendar/malovani-vinem-workshop-s-adel/
LOCATION:Prostor\, 28. října 1113/16\, Chomutov\, 43001
CATEGORIES:vzdělávání,zábavní pořady
ATTACH;FMTTYPE=image/jpeg:https://visit.chomutov.cz/wp-content/uploads/2025/09/02.jpg
END:VEVENT
BEGIN:VEVENT
DTSTART;TZID=Europe/Prague:20250913T090000
DTEND;TZID=Europe/Prague:20250913T180000
DTSTAMP:20260423T021307
CREATED:20250829T072859Z
LAST-MODIFIED:20250829T072918Z
UID:10662-1757754000-1757786400@visit.chomutov.cz
SUMMARY:První ochranářský festival
DESCRIPTION:přednášky\, živá zvířata\, zábava pro děti i dospělé
URL:https://visit.chomutov.cz/kalendar/prvni-ochranarsky-festival/
LOCATION:REPTILclub\, Jiráskova 4140\, Chomutov\, 43003
CATEGORIES:pro děti,vzdělávání
ATTACH;FMTTYPE=image/jpeg:https://visit.chomutov.cz/wp-content/uploads/2025/08/Ochranarsky-festival.jpg
END:VEVENT
BEGIN:VEVENT
DTSTART;TZID=Europe/Prague:20250913T100000
DTEND;TZID=Europe/Prague:20250913T140000
DTSTAMP:20260423T021307
CREATED:20250904T071728Z
LAST-MODIFIED:20250904T071728Z
UID:10753-1757757600-1757772000@visit.chomutov.cz
SUMMARY:Uháčkuj si košík
DESCRIPTION:Zveme tě na pohodový kurz háčkování\, kde si během pár hodin vyrobíš vlastní košíček ze špagátu s dřevěným dnem. Naučíš se základy háčkování a domů si odneseš nejen hotový kousek\, ale i chuť tvořit dál. \nKurzem tě provede Ing. Gabriela Knoblochová\, která celý život něco tvoří – výtvarničí\, šperkaří\, zkouší různé materiály a techniky\, a hlavně háčkuje. Svou radost z tvoření ráda sdílí s ostatními a předává dál to\, co sama objevila.
URL:https://visit.chomutov.cz/kalendar/uhackuj-si-kosik/
LOCATION:Prostor\, 28. října 1113/16\, Chomutov\, 43001
CATEGORIES:vzdělávání,zábavní pořady
ATTACH;FMTTYPE=image/jpeg:https://visit.chomutov.cz/wp-content/uploads/2025/09/01.jpg
END:VEVENT
BEGIN:VEVENT
DTSTART;TZID=Europe/Prague:20250913T100000
DTEND;TZID=Europe/Prague:20250913T170000
DTSTAMP:20260423T021307
CREATED:20250806T153151Z
LAST-MODIFIED:20250828T105113Z
UID:10521-1757757600-1757782800@visit.chomutov.cz
SUMMARY:Prohlídky pevností Na Kočičáku
DESCRIPTION:
URL:https://visit.chomutov.cz/kalendar/prohlidky-pevnosti-na-kocicaku-7/
LOCATION:Muzeum Na Kočičáku\, Blatno - Hrádečná
CATEGORIES:vzdělávání
ATTACH;FMTTYPE=image/jpeg:https://visit.chomutov.cz/wp-content/uploads/2021/11/Kocicak_1-Velke.jpg
END:VEVENT
BEGIN:VEVENT
DTSTART;TZID=Europe/Prague:20250914T100000
DTEND;TZID=Europe/Prague:20250914T150000
DTSTAMP:20260423T021307
CREATED:20250904T073555Z
LAST-MODIFIED:20250904T073555Z
UID:10756-1757844000-1757862000@visit.chomutov.cz
SUMMARY:Ženské zdraví
DESCRIPTION:Přednáší MUDr. Veronika Honzíková. Oblastí\, kterou se zabývá nejčastěji\, je ženské zdraví\, pod kterým si můžeme představit širokou škálu témat – poruchy menstruace\, menopauzální obtíže\, poruchy plodnosti apod. Tam cítím\, že je nám alternativní přístup léčby velkým pomocníkem\, protože západní medicína v této oblasti mnohdy nabízí pouze léčbu hormony či návštěvu IVF kliniky.
URL:https://visit.chomutov.cz/kalendar/zenske-zdravi/
LOCATION:Prostor\, 28. října 1113/16\, Chomutov\, 43001
CATEGORIES:vzdělávání,zábavní pořady
ATTACH;FMTTYPE=image/jpeg:https://visit.chomutov.cz/wp-content/uploads/2025/09/04.jpg
END:VEVENT
BEGIN:VEVENT
DTSTART;TZID=Europe/Prague:20250914T170000
DTEND;TZID=Europe/Prague:20250914T190000
DTSTAMP:20260423T021307
CREATED:20250904T073814Z
LAST-MODIFIED:20250904T073814Z
UID:10759-1757869200-1757876400@visit.chomutov.cz
SUMMARY:Pouť k sobě
DESCRIPTION:Karolina Maya. Ženy ve věku Babího Léta\, ať už jste po letní dovolené odpočaté nebo si naopak potřebujete oddychnout\, první poprázdninová Pouť k Sobě je tu pro Vás.\nPřijďte do kruhu sebe-vědomých žen\, které se rozhodly vyjít na cestu propojení s vlastní moudrostí a vrátit se ke své pravé podstatě.\nKdo jsme? Co opravdu chceme? Čeho se bojíme? A hlavně\, proč jsme právě tady a teď? Už nám není ani 30 ani 40. Jsme ve věku Babího léta. Čas největšího shonu a někdy i dřiny je za námi. Čas\, kdy odpovědnost za druhé ustupuje do pozadí\, a my konečně můžeme obrátit pozornost samy k sobě. Máme příležitost užít si moudrosti\, kterou jsme během života nasbíraly\, objevit nové role a s radostí plnit svá dlouho odkládaná přání.
URL:https://visit.chomutov.cz/kalendar/pout-k-sobe-3/
LOCATION:Prostor\, 28. října 1113/16\, Chomutov\, 43001
CATEGORIES:vzdělávání,zábavní pořady
ATTACH;FMTTYPE=image/jpeg:https://visit.chomutov.cz/wp-content/uploads/2025/09/06.jpg
END:VEVENT
BEGIN:VEVENT
DTSTART;TZID=Europe/Prague:20250917T170000
DTEND;TZID=Europe/Prague:20250917T170000
DTSTAMP:20260423T021307
CREATED:20250904T074050Z
LAST-MODIFIED:20250904T074050Z
UID:10762-1758128400-1758128400@visit.chomutov.cz
SUMMARY:Téma lázně - historie/budoucnost
DESCRIPTION:
URL:https://visit.chomutov.cz/kalendar/tema-lazne-historie-budoucnost/
CATEGORIES:vzdělávání
ATTACH;FMTTYPE=image/png:https://visit.chomutov.cz/wp-content/uploads/2025/09/tema-lazne.png
END:VEVENT
BEGIN:VEVENT
DTSTART;TZID=Europe/Prague:20250927T100000
DTEND;TZID=Europe/Prague:20250927T170000
DTSTAMP:20260423T021307
CREATED:20250626T124521Z
LAST-MODIFIED:20250828T105122Z
UID:10382-1758967200-1758992400@visit.chomutov.cz
SUMMARY:Prohlídky pevností Na Kočičáku
DESCRIPTION:
URL:https://visit.chomutov.cz/kalendar/prohlidky-pevnosti-na-kocicaku-6/
LOCATION:Muzeum Na Kočičáku\, Blatno - Hrádečná
CATEGORIES:vzdělávání
ATTACH;FMTTYPE=image/jpeg:https://visit.chomutov.cz/wp-content/uploads/2021/11/Kocicak_1-Velke.jpg
END:VEVENT
END:VCALENDAR