BEGIN:VCALENDAR
VERSION:2.0
PRODID:-//Visit Chomutov - ECPv5.14.2.1//NONSGML v1.0//EN
CALSCALE:GREGORIAN
METHOD:PUBLISH
X-WR-CALNAME:Visit Chomutov
X-ORIGINAL-URL:https://visit.chomutov.cz
X-WR-CALDESC:Akce na Visit Chomutov
REFRESH-INTERVAL;VALUE=DURATION:PT1H
X-Robots-Tag:noindex
X-PUBLISHED-TTL:PT1H
BEGIN:VTIMEZONE
TZID:Europe/Prague
BEGIN:DAYLIGHT
TZOFFSETFROM:+0100
TZOFFSETTO:+0200
TZNAME:CEST
DTSTART:20230326T010000
END:DAYLIGHT
BEGIN:STANDARD
TZOFFSETFROM:+0200
TZOFFSETTO:+0100
TZNAME:CET
DTSTART:20231029T010000
END:STANDARD
BEGIN:DAYLIGHT
TZOFFSETFROM:+0100
TZOFFSETTO:+0200
TZNAME:CEST
DTSTART:20240331T010000
END:DAYLIGHT
BEGIN:STANDARD
TZOFFSETFROM:+0200
TZOFFSETTO:+0100
TZNAME:CET
DTSTART:20241027T010000
END:STANDARD
END:VTIMEZONE
BEGIN:VEVENT
DTSTART;VALUE=DATE:20240227
DTEND;VALUE=DATE:20240331
DTSTAMP:20260421T194612
CREATED:20240206T112320Z
LAST-MODIFIED:20240206T112320Z
UID:6215-1708992000-1711843199@visit.chomutov.cz
SUMMARY:Tomáš Jetela - Sunset
DESCRIPTION:Vernisáž výstavy 27.2. v 17.00 hodin.
URL:https://visit.chomutov.cz/kalendar/tomas-jetela-sunset/
LOCATION:Galerie Špejchar\, Palackého 85\, Chomutov
CATEGORIES:výstavy
ATTACH;FMTTYPE=image/jpeg:https://visit.chomutov.cz/wp-content/uploads/2024/02/Jetela.jpg
END:VEVENT
BEGIN:VEVENT
DTSTART;TZID=Europe/Prague:20240226T170000
DTEND;TZID=Europe/Prague:20240226T170000
DTSTAMP:20260421T194612
CREATED:20240206T111959Z
LAST-MODIFIED:20240206T111959Z
UID:6213-1708966800-1708966800@visit.chomutov.cz
SUMMARY:Milan Ambrůžek - vernisáž výstavy Labyrint
DESCRIPTION:
URL:https://visit.chomutov.cz/kalendar/milan-ambruzek-vernisaz-vystavy-labyrint/
LOCATION:Café Atrium\, Palackého 85\, Chomutov
CATEGORIES:výstavy
ATTACH;FMTTYPE=image/png:https://visit.chomutov.cz/wp-content/uploads/2022/09/2022-masopust-logo.png
ORGANIZER;CN="Masopust%2C%20z.s.":MAILTO:info@masopustspolek.cz
END:VEVENT
BEGIN:VEVENT
DTSTART;VALUE=DATE:20240216
DTEND;VALUE=DATE:20240316
DTSTAMP:20260421T194612
CREATED:20240206T111546Z
LAST-MODIFIED:20240206T111546Z
UID:6210-1708041600-1710547199@visit.chomutov.cz
SUMMARY:Jakub Vyplel - K moři a pak domů
DESCRIPTION:Vernisáž výstavy 16.2. v 17.00 hodin
URL:https://visit.chomutov.cz/kalendar/jakub-vyplel-k-mori-a-pak-domu/
LOCATION:Galerie Lurago\, Palackého 85\, Chomutov
CATEGORIES:výstavy
ATTACH;FMTTYPE=image/jpeg:https://visit.chomutov.cz/wp-content/uploads/2024/02/Vyplel.jpg
END:VEVENT
BEGIN:VEVENT
DTSTART;VALUE=DATE:20240118
DTEND;VALUE=DATE:20240218
DTSTAMP:20260421T194612
CREATED:20231218T085340Z
LAST-MODIFIED:20231218T085340Z
UID:6062-1705536000-1708214399@visit.chomutov.cz
SUMMARY:Šárka Coganová - Souznění
DESCRIPTION:Vernisáž výstavy 18.1. v 17.00 hodin.
URL:https://visit.chomutov.cz/kalendar/sarka-coganova-souzneni/
LOCATION:Galerie Špejchar\, Palackého 85\, Chomutov
CATEGORIES:výstavy
ATTACH;FMTTYPE=image/png:https://visit.chomutov.cz/wp-content/uploads/2023/12/Coganova.png
END:VEVENT
BEGIN:VEVENT
DTSTART;TZID=Europe/Prague:20240112T170000
DTEND;TZID=Europe/Prague:20240112T170000
DTSTAMP:20260421T194612
CREATED:20231218T083617Z
LAST-MODIFIED:20231218T083617Z
UID:6060-1705078800-1705078800@visit.chomutov.cz
SUMMARY:Fototoulky Reginy Kopečné
DESCRIPTION:
URL:https://visit.chomutov.cz/kalendar/fototoulky-reginy-kopecne/
LOCATION:Café Atrium\, Palackého 85\, Chomutov
CATEGORIES:výstavy
ATTACH;FMTTYPE=image/png:https://visit.chomutov.cz/wp-content/uploads/2022/09/2022-masopust-logo.png
ORGANIZER;CN="Masopust%2C%20z.s.":MAILTO:info@masopustspolek.cz
END:VEVENT
BEGIN:VEVENT
DTSTART;VALUE=DATE:20240111
DTEND;VALUE=DATE:20240210
DTSTAMP:20260421T194612
CREATED:20231218T083109Z
LAST-MODIFIED:20231218T083109Z
UID:6057-1704931200-1707523199@visit.chomutov.cz
SUMMARY:Renata a Anna Agáta Lehmanovy - Okna do duše
DESCRIPTION:Vernisáž výstavy 11.1. od 17.00 hodin.
URL:https://visit.chomutov.cz/kalendar/renata-a-anna-agata-lehmanovy-okna-do-duse/
LOCATION:Galerie Lurago\, Palackého 85\, Chomutov
CATEGORIES:výstavy
ATTACH;FMTTYPE=image/jpeg:https://visit.chomutov.cz/wp-content/uploads/2023/12/Renata-Lehmanova.jpg
END:VEVENT
BEGIN:VEVENT
DTSTART;TZID=Europe/Prague:20231212T160000
DTEND;TZID=Europe/Prague:20231212T160000
DTSTAMP:20260421T194612
CREATED:20231127T121403Z
LAST-MODIFIED:20231127T121403Z
UID:5805-1702396800-1702396800@visit.chomutov.cz
SUMMARY:Obrazy a lahvičky od Nadi a Aničky
DESCRIPTION:Naďa Hoštová a  Anna Kabourková – vernisáž  výstavy.
URL:https://visit.chomutov.cz/kalendar/obrazy-a-lahvicky-od-nadi-a-anicky/
LOCATION:Café Atrium\, Palackého 85\, Chomutov
CATEGORIES:výstavy
ATTACH;FMTTYPE=image/jpeg:https://visit.chomutov.cz/wp-content/uploads/2023/11/Kabourkova.jpg
ORGANIZER;CN="Masopust%2C%20z.s.":MAILTO:info@masopustspolek.cz
END:VEVENT
BEGIN:VEVENT
DTSTART;VALUE=DATE:20231207
DTEND;VALUE=DATE:20240106
DTSTAMP:20260421T194612
CREATED:20231127T121010Z
LAST-MODIFIED:20231127T121010Z
UID:5802-1701907200-1704499199@visit.chomutov.cz
SUMMARY:Vladimír Váchal - Čtverce
DESCRIPTION:Vernisáž výstavy 7.12. v 18.30 hodin.
URL:https://visit.chomutov.cz/kalendar/vladimir-vachal-ctverce/
LOCATION:Galerie Špejchar\, Palackého 85\, Chomutov
CATEGORIES:výstavy
ATTACH;FMTTYPE=image/jpeg:https://visit.chomutov.cz/wp-content/uploads/2023/11/Vachal.jpg
END:VEVENT
BEGIN:VEVENT
DTSTART;TZID=Europe/Prague:20231125T143000
DTEND;TZID=Europe/Prague:20231125T143000
DTSTAMP:20260421T194612
CREATED:20231116T102055Z
LAST-MODIFIED:20231116T102055Z
UID:5713-1700922600-1700922600@visit.chomutov.cz
SUMMARY:Výstava městské lázně
DESCRIPTION:Vernisáž se uskuteční ve vestibulu městských lázní.
URL:https://visit.chomutov.cz/kalendar/vystava-mestske-lazne/
CATEGORIES:výstavy
ATTACH;FMTTYPE=image/jpeg:https://visit.chomutov.cz/wp-content/uploads/2023/11/395316376_1510473496403691_1409332721676802262_n.jpg
ORGANIZER;CN="Kuprosp%C4%9Bchu%2C%20z.%20s.":MAILTO:info@kuprospechu.org
END:VEVENT
BEGIN:VEVENT
DTSTART;VALUE=DATE:20231123
DTEND;VALUE=DATE:20240128
DTSTAMP:20260421T194612
CREATED:20231030T082201Z
LAST-MODIFIED:20231030T082201Z
UID:5372-1700697600-1706399999@visit.chomutov.cz
SUMMARY:Háčkované Vánoce Vlasty Šíchové
DESCRIPTION:Výstava háčkovaných miniatur.
URL:https://visit.chomutov.cz/kalendar/hackovane-vanoce-vlasty-sichove/
LOCATION:Oblastní muzeum v Chomutově – hlavní budova\, Palackého 86\, Chomutov\, Česká republika
CATEGORIES:Vánoce,výstavy
ATTACH;FMTTYPE=image/jpeg:https://visit.chomutov.cz/wp-content/uploads/2023/10/pexels-татьяна-контеева-16228950.jpg
ORGANIZER;CN="Oblastn%C3%AD%20muzeum%20v%20Chomutov%C4%9B":MAILTO:sekretariat@muzeumchomutov.cz
END:VEVENT
BEGIN:VEVENT
DTSTART;VALUE=DATE:20231123
DTEND;VALUE=DATE:20231223
DTSTAMP:20260421T194612
CREATED:20231030T081219Z
LAST-MODIFIED:20231030T081219Z
UID:5370-1700697600-1703289599@visit.chomutov.cz
SUMMARY:Iveta Brůnová - Výstava obrazů
DESCRIPTION:
URL:https://visit.chomutov.cz/kalendar/iveta-brunova-vystava-obrazu/
LOCATION:Galerie Lurago\, Palackého 85\, Chomutov
CATEGORIES:výstavy
ATTACH;FMTTYPE=image/jpeg:https://visit.chomutov.cz/wp-content/uploads/2022/05/knihovna-III.jpg
END:VEVENT
BEGIN:VEVENT
DTSTART;VALUE=DATE:20231113
DTEND;VALUE=DATE:20231114
DTSTAMP:20260421T194612
CREATED:20231030T080433Z
LAST-MODIFIED:20231030T080433Z
UID:5368-1699833600-1699919999@visit.chomutov.cz
SUMMARY:Podzim Květy Novákové - výstava obrazů
DESCRIPTION:
URL:https://visit.chomutov.cz/kalendar/podzim-kvety-novakove-vystava-obrazu/
LOCATION:Café Atrium\, Palackého 85\, Chomutov
CATEGORIES:výstavy
ATTACH;FMTTYPE=image/jpeg:https://visit.chomutov.cz/wp-content/uploads/2023/01/Kveta-Novakova.jpg
ORGANIZER;CN="Masopust%2C%20z.s.":MAILTO:info@masopustspolek.cz
END:VEVENT
BEGIN:VEVENT
DTSTART;VALUE=DATE:20231024
DTEND;VALUE=DATE:20231201
DTSTAMP:20260421T194612
CREATED:20230918T070154Z
LAST-MODIFIED:20231023T094743Z
UID:4681-1698105600-1701388799@visit.chomutov.cz
SUMMARY:Michaela a Jiří Černičtí - Plevel tartanu
DESCRIPTION:Vernisáž výstavy se uskuteční 24. října od 17 hodin.\nVýstava představí malířku Michaelu Černickou a jejího manžela\, multimediálního umělce Jiřího Černického. Černický je znám především jako tvůrce experimentálních vizuálních projektů. Spektrum jeho tvorby zahrnuje malbu\, objekty\, konceptuální umění i performance odrážející aktuální sociální či ekologická témata. Michaela Černická do svých děl promítá v podobě nejrůznějších prvků odkrývání\, dotváření či mizení svou profesi restaurátorky.
URL:https://visit.chomutov.cz/kalendar/michaela-a-jiri-cernicti-vystava/
LOCATION:Galerie Špejchar\, Palackého 85\, Chomutov
CATEGORIES:výstavy
ATTACH;FMTTYPE=image/jpeg:https://visit.chomutov.cz/wp-content/uploads/2023/09/Cernicti-Plevel-tartanu-scaled.jpg
END:VEVENT
BEGIN:VEVENT
DTSTART;VALUE=DATE:20231019
DTEND;VALUE=DATE:20231119
DTSTAMP:20260421T194612
CREATED:20230926T112503Z
LAST-MODIFIED:20231030T134344Z
UID:5135-1697673600-1700351999@visit.chomutov.cz
SUMMARY:Jan Homola - Art 332
DESCRIPTION:Setkání s výtvarníkem a hudebníkem Janem Homolou 9.11. 13.00-18.00 h.\nVernisáž výstavy bude 18.11. v 18.00.
URL:https://visit.chomutov.cz/kalendar/jan-homola-art-332/
LOCATION:Galerie Lurago\, Palackého 85\, Chomutov
CATEGORIES:výstavy
ATTACH;FMTTYPE=image/jpeg:https://visit.chomutov.cz/wp-content/uploads/2023/09/Homola.jpeg
END:VEVENT
BEGIN:VEVENT
DTSTART;TZID=Europe/Prague:20231017T180000
DTEND;TZID=Europe/Prague:20231017T180000
DTSTAMP:20260421T194612
CREATED:20230918T063116Z
LAST-MODIFIED:20230927T120738Z
UID:4673-1697565600-1697565600@visit.chomutov.cz
SUMMARY:Po stopách Knuda Rasmussena
DESCRIPTION:O své cestě bude vyprávět cestovatel\, horolezec a dobrodruh Oldřich Hahn.
URL:https://visit.chomutov.cz/kalendar/po-stopach-knuda-rasmussena/
LOCATION:Chomutovská knihovna\, Palackého 4995\, Chomutov
CATEGORIES:výstavy
ATTACH;FMTTYPE=image/jpeg:https://visit.chomutov.cz/wp-content/uploads/2023/09/pexels-lars-bugge-aarset-13830356.jpg
END:VEVENT
BEGIN:VEVENT
DTSTART;VALUE=DATE:20230914
DTEND;VALUE=DATE:20231015
DTSTAMP:20260421T194612
CREATED:20230821T134249Z
LAST-MODIFIED:20230823T120616Z
UID:4491-1694649600-1697327999@visit.chomutov.cz
SUMMARY:Město Chomutov\, součást mozaiky Evropy 2050
DESCRIPTION:Výstava obrázků žáků chomutovských škol zapojených do stejnojmenné výtvarné soutěže\, jejímž smyslem je umožnit mladé generaci veřejně vyjádřit své představy o budoucnosti v Evropě. Vernisáž výstavy a předání ocenění vítězům soutěže proběhne 20. září od 16 hodin.
URL:https://visit.chomutov.cz/kalendar/evropa-2050/
LOCATION:Galerie Lurago\, Palackého 85\, Chomutov
CATEGORIES:výstavy
ATTACH;FMTTYPE=image/jpeg:https://visit.chomutov.cz/wp-content/uploads/2023/08/1-Evropa-2050-2023-scaled.jpg
END:VEVENT
BEGIN:VEVENT
DTSTART;TZID=Europe/Prague:20230911T170000
DTEND;TZID=Europe/Prague:20230911T170000
DTSTAMP:20260421T194612
CREATED:20230825T075940Z
LAST-MODIFIED:20230825T075940Z
UID:4534-1694451600-1694451600@visit.chomutov.cz
SUMMARY:Moc emocí uvnitř hlavy
DESCRIPTION:Vernisáž výstavy klientů Klubu Esprit.
URL:https://visit.chomutov.cz/kalendar/moc-emoci-uvnitr-hlavy/
LOCATION:Café Atrium\, Palackého 85\, Chomutov
CATEGORIES:výstavy
ATTACH;FMTTYPE=image/png:https://visit.chomutov.cz/wp-content/uploads/2022/09/2022-masopust-logo.png
ORGANIZER;CN="Masopust%2C%20z.s.":MAILTO:info@masopustspolek.cz
END:VEVENT
BEGIN:VEVENT
DTSTART;VALUE=DATE:20230907
DTEND;VALUE=DATE:20231015
DTSTAMP:20260421T194612
CREATED:20230821T132042Z
LAST-MODIFIED:20230821T132042Z
UID:4488-1694044800-1697327999@visit.chomutov.cz
SUMMARY:Teodor Buzu\, Michal Dubnický\, Tomáš Pergler – DENNODENNĚ
DESCRIPTION:Vernisáž výstavy se uskuteční 7. září od 18 hodin.
URL:https://visit.chomutov.cz/kalendar/teodor-buzu-michal-dubnicky-tomas-pergler-dennodenne/
LOCATION:Galerie Špejchar\, Palackého 85\, Chomutov
CATEGORIES:výstavy
ATTACH;FMTTYPE=image/jpeg:https://visit.chomutov.cz/wp-content/uploads/2023/08/Teodor-Buzu.jpg
END:VEVENT
BEGIN:VEVENT
DTSTART;VALUE=DATE:20230901
DTEND;VALUE=DATE:20231002
DTSTAMP:20260421T194612
CREATED:20230823T051239Z
LAST-MODIFIED:20230823T051254Z
UID:4498-1693526400-1696204799@visit.chomutov.cz
SUMMARY:Putovní výstava IROP - Pro lepší život v regionech
DESCRIPTION:Výstava představí 21 úspěšných projektů napříč oblastmi podpory IROP.
URL:https://visit.chomutov.cz/kalendar/putovni-vystava-irop-pro-lepsi-zivot-v-regionech/
LOCATION:náměstí 1. máje Chomutov\, nám. 1. máje\, Chomutov
CATEGORIES:výstavy
ATTACH;FMTTYPE=image/png:https://visit.chomutov.cz/wp-content/uploads/2023/08/Putovni-vystava-IROP.png
END:VEVENT
BEGIN:VEVENT
DTSTART;TZID=Europe/Prague:20230830T080000
DTEND;TZID=Europe/Prague:20230830T180000
DTSTAMP:20260421T194612
CREATED:20230725T110423Z
LAST-MODIFIED:20230725T110918Z
UID:4347-1693382400-1693418400@visit.chomutov.cz
SUMMARY:Michaela Eiseltová - Staří a neklidní
DESCRIPTION:30.8. v 18.00 hodin vernisáž výstavy\, vystoupí houslové DUOANNA
URL:https://visit.chomutov.cz/kalendar/michaela-eiseltova-stari-a-neklidni/
LOCATION:Restaurant&Cafe Republika\, 28. října 1078/17\, Chomutov
CATEGORIES:výstavy
ATTACH;FMTTYPE=image/jpeg:https://visit.chomutov.cz/wp-content/uploads/2023/07/Eiseltova.jpg
END:VEVENT
BEGIN:VEVENT
DTSTART;VALUE=DATE:20230830
DTEND;VALUE=DATE:20231002
DTSTAMP:20260421T194612
CREATED:20230815T063529Z
LAST-MODIFIED:20230815T063529Z
UID:4441-1693353600-1696204799@visit.chomutov.cz
SUMMARY:Malby - Alena Dubická a Ervín Tuháček
DESCRIPTION:Vernisáž 30.8.2023 ve 14.00 hodin.
URL:https://visit.chomutov.cz/kalendar/malby-alena-dubicka-a-ervin-tuhacek/
LOCATION:Kameny od Jednorožce\, 28. října 1081/19\, Chomutov\, Česká republika
CATEGORIES:výstavy
ATTACH;FMTTYPE=image/jpeg:https://visit.chomutov.cz/wp-content/uploads/2023/08/alena-dubicka-vystava-.ppt-Rezim-kompatibility.jpg
END:VEVENT
BEGIN:VEVENT
DTSTART;VALUE=DATE:20230803
DTEND;VALUE=DATE:20230910
DTSTAMP:20260421T194612
CREATED:20230807T093201Z
LAST-MODIFIED:20230807T093201Z
UID:4368-1691020800-1694303999@visit.chomutov.cz
SUMMARY:Prostor v hlavě - Lucie Filipo
DESCRIPTION:
URL:https://visit.chomutov.cz/kalendar/prostor-v-hlave-lucie-filipo/
LOCATION:Galerie Lurago\, Palackého 85\, Chomutov
CATEGORIES:výstavy
ATTACH;FMTTYPE=image/jpeg:https://visit.chomutov.cz/wp-content/uploads/2023/08/filipo.jpg
END:VEVENT
BEGIN:VEVENT
DTSTART;TZID=Europe/Prague:20230713T170000
DTEND;TZID=Europe/Prague:20230713T170000
DTSTAMP:20260421T194612
CREATED:20230627T135337Z
LAST-MODIFIED:20230627T135337Z
UID:4272-1689267600-1689267600@visit.chomutov.cz
SUMMARY:ContemPlace
DESCRIPTION:Vernisáž výstavy: Peter Decheť a Patrik Rutkovský.
URL:https://visit.chomutov.cz/kalendar/contemplace/
LOCATION:Galerie Špejchar\, Palackého 85\, Chomutov
CATEGORIES:výstavy
ATTACH;FMTTYPE=image/jpeg:https://visit.chomutov.cz/wp-content/uploads/2023/06/Rutkovsky.jpg
END:VEVENT
BEGIN:VEVENT
DTSTART;VALUE=DATE:20230628
DTEND;VALUE=DATE:20230901
DTSTAMP:20260421T194612
CREATED:20230628T062841Z
LAST-MODIFIED:20230628T062841Z
UID:4278-1687910400-1693526399@visit.chomutov.cz
SUMMARY:Můj/Náš svět
DESCRIPTION:Výstava kreseb dětí mateřských a základních škol na téma „Co by děti chtěly vidět\, když se podívají z okna“.\nVernisáž 28.6. v 10.00 hodin.
URL:https://visit.chomutov.cz/kalendar/muj-nas-svet-2/
LOCATION:Galerie Na síti – Chomutovská knihovna\, Palackého 4995\, Chomutov\, 43001
CATEGORIES:pro děti,výstavy
ATTACH;FMTTYPE=image/jpeg:https://visit.chomutov.cz/wp-content/uploads/2023/06/Muj-svet.jpg
END:VEVENT
BEGIN:VEVENT
DTSTART;VALUE=DATE:20230627
DTEND;VALUE=DATE:20230728
DTSTAMP:20260421T194612
CREATED:20230524T144833Z
LAST-MODIFIED:20230524T144833Z
UID:3938-1687824000-1690502399@visit.chomutov.cz
SUMMARY:Ježkův svět - výstava obrazů
DESCRIPTION:Zdeněk Ježek Rada\, Tereza Radová a Čeněk Žiaček \nVernisáž 27.6 v 17.00 hodin
URL:https://visit.chomutov.cz/kalendar/jezkuv-svet-vystava-obrazu/
LOCATION:Galerie Lurago\, Palackého 85\, Chomutov
CATEGORIES:výstavy
ATTACH;FMTTYPE=image/png:https://visit.chomutov.cz/wp-content/uploads/2023/05/Zdenek-Rada.png
END:VEVENT
BEGIN:VEVENT
DTSTART;VALUE=DATE:20230606
DTEND;VALUE=DATE:20230921
DTSTAMP:20260421T194612
CREATED:20230524T143102Z
LAST-MODIFIED:20230524T143102Z
UID:3935-1686009600-1695254399@visit.chomutov.cz
SUMMARY:Radovan Smokoň - Pohlednice Česka
DESCRIPTION:
URL:https://visit.chomutov.cz/kalendar/radovan-smokon-pohlednice-ceska/
LOCATION:Café Atrium\, Palackého 85\, Chomutov
CATEGORIES:výstavy
ATTACH;FMTTYPE=image/png:https://visit.chomutov.cz/wp-content/uploads/2023/05/Pohlednice-Ceska-Smokon.png
ORGANIZER;CN="Masopust%2C%20z.s.":MAILTO:info@masopustspolek.cz
END:VEVENT
BEGIN:VEVENT
DTSTART;VALUE=DATE:20230603
DTEND;VALUE=DATE:20230604
DTSTAMP:20260421T194612
CREATED:20230524T142739Z
LAST-MODIFIED:20230524T142739Z
UID:3933-1685750400-1685836799@visit.chomutov.cz
SUMMARY:Otevření nové expozice archeologie
DESCRIPTION:Germánská vesnička s ochutnávkou jídel i módní přehlídkou
URL:https://visit.chomutov.cz/kalendar/otevreni-nove-expozice-archeologie/
LOCATION:Oblastní muzeum v Chomutově – hlavní budova\, Palackého 86\, Chomutov\, Česká republika
CATEGORIES:výstavy
ATTACH;FMTTYPE=image/jpeg:https://visit.chomutov.cz/wp-content/uploads/2021/11/Hvezdarska-vez-muzeum-Velke.jpg
END:VEVENT
BEGIN:VEVENT
DTSTART;VALUE=DATE:20230601
DTEND;VALUE=DATE:20230630
DTSTAMP:20260421T194612
CREATED:20230524T142251Z
LAST-MODIFIED:20230524T142251Z
UID:3931-1685577600-1688083199@visit.chomutov.cz
SUMMARY:Minisalon výtvarného oboru ZUŠ
DESCRIPTION:výstava výtvarných a grafických prací žáků výtvarného oddělení pod vedením pedagogů J. Zdráhalové\, L. Chabra a J. Obersteina \nVernisáž 1.6. v 16.00 hodin.
URL:https://visit.chomutov.cz/kalendar/minisalon-vytvarneho-oboru-zus/
LOCATION:ZUŠ T. G. Masaryka\, nám. T. G. Masaryka 1626\, Chomutov
CATEGORIES:výstavy
ATTACH;FMTTYPE=image/jpeg:https://visit.chomutov.cz/wp-content/uploads/2022/05/pexels-vlada-karpovich-7025515.jpg
END:VEVENT
BEGIN:VEVENT
DTSTART;VALUE=DATE:20230519
DTEND;VALUE=DATE:20230522
DTSTAMP:20260421T194612
CREATED:20230502T072222Z
LAST-MODIFIED:20230502T115759Z
UID:3729-1684454400-1684713599@visit.chomutov.cz
SUMMARY:Modro-bílý svět - výstava krajkářských prací
DESCRIPTION:Přehlídka krušnohorské šité a paličkované krajky\nSlavnostní ocenění pro nejlepší krajkářská díla 20.5. v 15.00 hodin.
URL:https://visit.chomutov.cz/kalendar/modro-bily-svet-vystava-krajkarskych-praci/
LOCATION:Oblastní muzeum v Chomutově – hlavní budova\, Palackého 86\, Chomutov\, Česká republika
CATEGORIES:výstavy
ATTACH;FMTTYPE=image/jpeg:https://visit.chomutov.cz/wp-content/uploads/2023/05/Modro-bily-svet.jpg
ORGANIZER;CN="Oblastn%C3%AD%20muzeum%20v%20Chomutov%C4%9B":MAILTO:sekretariat@muzeumchomutov.cz
END:VEVENT
BEGIN:VEVENT
DTSTART;VALUE=DATE:20230518
DTEND;VALUE=DATE:20240101
DTSTAMP:20260421T194612
CREATED:20230502T071851Z
LAST-MODIFIED:20230502T071851Z
UID:3726-1684368000-1704067199@visit.chomutov.cz
SUMMARY:Výstava století - 100 let muzea v Chomutově
DESCRIPTION:Vernisáž výstavy 18.5. v 17 hodin.
URL:https://visit.chomutov.cz/kalendar/vystava-stoleti-100-let-muzea-v-chomutove/
LOCATION:Kostel sv. Kateřiny\, Chelčického 100\, Chomutov
CATEGORIES:výstavy
ATTACH;FMTTYPE=image/jpeg:https://visit.chomutov.cz/wp-content/uploads/2023/05/muzeum-100let-plakat-A2-2304-page-001-scaled.jpg
ORGANIZER;CN="Oblastn%C3%AD%20muzeum%20v%20Chomutov%C4%9B":MAILTO:sekretariat@muzeumchomutov.cz
END:VEVENT
END:VCALENDAR