BEGIN:VCALENDAR
VERSION:2.0
PRODID:-//Visit Chomutov - ECPv5.14.2.1//NONSGML v1.0//EN
CALSCALE:GREGORIAN
METHOD:PUBLISH
X-WR-CALNAME:Visit Chomutov
X-ORIGINAL-URL:https://visit.chomutov.cz
X-WR-CALDESC:Akce na Visit Chomutov
REFRESH-INTERVAL;VALUE=DURATION:PT1H
X-Robots-Tag:noindex
X-PUBLISHED-TTL:PT1H
BEGIN:VTIMEZONE
TZID:Europe/Prague
BEGIN:DAYLIGHT
TZOFFSETFROM:+0100
TZOFFSETTO:+0200
TZNAME:CEST
DTSTART:20240331T010000
END:DAYLIGHT
BEGIN:STANDARD
TZOFFSETFROM:+0200
TZOFFSETTO:+0100
TZNAME:CET
DTSTART:20241027T010000
END:STANDARD
END:VTIMEZONE
BEGIN:VEVENT
DTSTART;VALUE=DATE:20240914
DTEND;VALUE=DATE:20241125
DTSTAMP:20260421T163450
CREATED:20240830T075633Z
LAST-MODIFIED:20240905T111659Z
UID:7622-1726272000-1732492799@visit.chomutov.cz
SUMMARY:Marie Svobodová - Pozdní sběr
DESCRIPTION:výstava prací chomutovské malířky při příležitosti jejího významného životního jubilea
URL:https://visit.chomutov.cz/kalendar/marie-svobodova-pozdni-sber/
LOCATION:Oblastní muzeum v Chomutově – hlavní budova\, Palackého 86\, Chomutov\, Česká republika
CATEGORIES:výstavy
ATTACH;FMTTYPE=image/jpeg:https://visit.chomutov.cz/wp-content/uploads/2024/08/Pozdni-sber.jpg
ORGANIZER;CN="Oblastn%C3%AD%20muzeum%20v%20Chomutov%C4%9B":MAILTO:sekretariat@muzeumchomutov.cz
END:VEVENT
BEGIN:VEVENT
DTSTART;TZID=Europe/Prague:20240905T170000
DTEND;TZID=Europe/Prague:20240905T170000
DTSTAMP:20260421T163450
CREATED:20240830T075059Z
LAST-MODIFIED:20240830T075059Z
UID:7619-1725555600-1725555600@visit.chomutov.cz
SUMMARY:Vybarvené emoce - klub Esprit
DESCRIPTION:Vernisáž výstavy
URL:https://visit.chomutov.cz/kalendar/vybarvene-emoce-klub-esprit/
LOCATION:Café Atrium\, Palackého 85\, Chomutov
CATEGORIES:výstavy
ATTACH;FMTTYPE=image/jpeg:https://visit.chomutov.cz/wp-content/uploads/2024/08/444481938_465147329346431_7275420006062475371_n.jpg
END:VEVENT
BEGIN:VEVENT
DTSTART;VALUE=DATE:20240820
DTEND;VALUE=DATE:20240916
DTSTAMP:20260421T163450
CREATED:20240801T105836Z
LAST-MODIFIED:20240816T125025Z
UID:7562-1724112000-1726444799@visit.chomutov.cz
SUMMARY:Nečekané objevy
DESCRIPTION:výstava o skrytých tajemstvích památek
URL:https://visit.chomutov.cz/kalendar/necekane-objevy/
LOCATION:Kostel sv. Kateřiny\, Chelčického 100\, Chomutov
CATEGORIES:výstavy
ATTACH;FMTTYPE=image/jpeg:https://visit.chomutov.cz/wp-content/uploads/2024/08/necekane-objevy.jpg
ORGANIZER;CN="Oblastn%C3%AD%20muzeum%20v%20Chomutov%C4%9B":MAILTO:sekretariat@muzeumchomutov.cz
END:VEVENT
BEGIN:VEVENT
DTSTART;VALUE=DATE:20240816
DTEND;VALUE=DATE:20240921
DTSTAMP:20260421T163450
CREATED:20240801T105010Z
LAST-MODIFIED:20240801T105927Z
UID:7559-1723766400-1726876799@visit.chomutov.cz
SUMMARY:Tok významu - výstava fotografií a keramických soch
DESCRIPTION:Vernisáž výstavy umělců Artema Bermana a Alexandry Oza 16.8. v 17 hodin.
URL:https://visit.chomutov.cz/kalendar/tok-vyznamu/
LOCATION:Galerie Lurago\, Palackého 85\, Chomutov
CATEGORIES:výstavy
ATTACH;FMTTYPE=image/jpeg:https://visit.chomutov.cz/wp-content/uploads/2024/08/Tok-vyznamu.jpg
END:VEVENT
BEGIN:VEVENT
DTSTART;VALUE=DATE:20240803
DTEND;VALUE=DATE:20240916
DTSTAMP:20260421T163450
CREATED:20240801T103628Z
LAST-MODIFIED:20240801T104529Z
UID:7556-1722643200-1726444799@visit.chomutov.cz
SUMMARY:Počátek
DESCRIPTION:Výstava velkoformátových obrazů na látce Veroniky Šrek Bromové. Vernisáž 3. 8. od 17 hodin.
URL:https://visit.chomutov.cz/kalendar/pocatek/
LOCATION:Galerie Špejchar\, Palackého 85\, Chomutov
CATEGORIES:výstavy
ATTACH;FMTTYPE=image/jpeg:https://visit.chomutov.cz/wp-content/uploads/2024/08/obnazeni-plakat-pocatek.jpg
END:VEVENT
BEGIN:VEVENT
DTSTART;VALUE=DATE:20240619
DTEND;VALUE=DATE:20240628
DTSTAMP:20260421T163450
CREATED:20240529T115506Z
LAST-MODIFIED:20240529T115506Z
UID:7150-1718755200-1719532799@visit.chomutov.cz
SUMMARY:Výstava závěrečných prací absolventů
DESCRIPTION:
URL:https://visit.chomutov.cz/kalendar/vystava-zaverecnych-praci-absolventu/
LOCATION:ZUŠ T. G. Masaryka\, nám. T. G. Masaryka 1626\, Chomutov
CATEGORIES:výstavy
ATTACH;FMTTYPE=image/jpeg:https://visit.chomutov.cz/wp-content/uploads/2024/04/pexels-pavel-danilyuk-8382309.jpg
END:VEVENT
BEGIN:VEVENT
DTSTART;VALUE=DATE:20240613
DTEND;VALUE=DATE:20240729
DTSTAMP:20260421T163450
CREATED:20240529T120535Z
LAST-MODIFIED:20240529T120535Z
UID:7157-1718236800-1722211199@visit.chomutov.cz
SUMMARY:AMOMA - kurátorská výstava FUD UJEP
DESCRIPTION:vernisáž výstavy 13.6. v 17.00 hodin – komentovaná prohlídka výstavy s kurátorkami. \nVýstava organizovaná studentkami prvního ročníku Kurátorských studií otevírá témata čarodějnictví\, rituálů\, tajemna a současné tendence návratu k silám přírody a osobní spiritualitě. Prezentuje rozmanitou tvorbu jedné generace umělců\, kteří pracují s různými médii.
URL:https://visit.chomutov.cz/kalendar/amoma-kuratorska-vystava-fud-ujep/
LOCATION:Galerie Špejchar\, Palackého 85\, Chomutov
CATEGORIES:výstavy
ATTACH;FMTTYPE=image/jpeg:https://visit.chomutov.cz/wp-content/uploads/2024/05/Amoma.jpg
END:VEVENT
BEGIN:VEVENT
DTSTART;VALUE=DATE:20240612
DTEND;VALUE=DATE:20240810
DTSTAMP:20260421T163450
CREATED:20240529T115913Z
LAST-MODIFIED:20240529T115913Z
UID:7155-1718150400-1723247999@visit.chomutov.cz
SUMMARY:Milan Tóth a jeho žáci - Obrazy
DESCRIPTION:vernisáž výstavy obrazů 12.6. v 17. hodin
URL:https://visit.chomutov.cz/kalendar/milan-toth-a-jeho-zaci-obrazy/
LOCATION:Galerie Lurago\, Palackého 85\, Chomutov
CATEGORIES:výstavy
ATTACH;FMTTYPE=image/jpeg:https://visit.chomutov.cz/wp-content/uploads/2024/03/Toth.jpg
END:VEVENT
BEGIN:VEVENT
DTSTART;VALUE=DATE:20240608
DTEND;VALUE=DATE:20240901
DTSTAMP:20260421T163450
CREATED:20240529T115635Z
LAST-MODIFIED:20240529T115635Z
UID:7152-1717804800-1725148799@visit.chomutov.cz
SUMMARY:Kouzlo starých plováren
DESCRIPTION:letní výstava
URL:https://visit.chomutov.cz/kalendar/kouzlo-starych-plovaren/
LOCATION:Oblastní muzeum v Chomutově – hlavní budova\, Palackého 86\, Chomutov\, Česká republika
CATEGORIES:výstavy
ATTACH;FMTTYPE=image/jpeg:https://visit.chomutov.cz/wp-content/uploads/2024/05/letakplov-scaled.jpg
END:VEVENT
BEGIN:VEVENT
DTSTART;TZID=Europe/Prague:20240527T160000
DTEND;TZID=Europe/Prague:20240527T160000
DTSTAMP:20260421T163450
CREATED:20240429T145436Z
LAST-MODIFIED:20240429T145436Z
UID:6893-1716825600-1716825600@visit.chomutov.cz
SUMMARY:Minisalon výtvarného oboru ZUŠ
DESCRIPTION:
URL:https://visit.chomutov.cz/kalendar/minisalon-vytvarneho-oboru-zus-2/
LOCATION:ZUŠ T. G. Masaryka\, nám. T. G. Masaryka 1626\, Chomutov
CATEGORIES:výstavy
ATTACH;FMTTYPE=image/jpeg:https://visit.chomutov.cz/wp-content/uploads/2024/04/pexels-pavel-danilyuk-8382309.jpg
END:VEVENT
BEGIN:VEVENT
DTSTART;VALUE=DATE:20240526
DTEND;VALUE=DATE:20240528
DTSTAMP:20260421T163450
CREATED:20250505T135936Z
LAST-MODIFIED:20250505T135936Z
UID:9848-1716681600-1716854399@visit.chomutov.cz
SUMMARY:Minisalon výtvarného oboru ZUŠ
DESCRIPTION:
URL:https://visit.chomutov.cz/kalendar/minisalon-vytvarneho-oboru-zus-3/
LOCATION:ZUŠ T. G. Masaryka\, nám. T. G. Masaryka 1626\, Chomutov
CATEGORIES:výstavy
ATTACH;FMTTYPE=image/jpeg:https://visit.chomutov.cz/wp-content/uploads/2024/04/pexels-pavel-danilyuk-8382309.jpg
END:VEVENT
BEGIN:VEVENT
DTSTART;VALUE=DATE:20240511
DTEND;VALUE=DATE:20240513
DTSTAMP:20260421T163450
CREATED:20230502T103859Z
LAST-MODIFIED:20240429T141017Z
UID:3773-1715385600-1715558399@visit.chomutov.cz
SUMMARY:Mezinárodní výstava koček
DESCRIPTION:Výstavu pořádá ZO SCHK Litvínov 5 pod záštitou města Chomutova. V prostorách výstavy bude možné výhodně zakoupit celou řadu chovatelských potřeb pro domácí mazlíčky.
URL:https://visit.chomutov.cz/kalendar/mezinarodni-vystava-kocek/
LOCATION:Městská sportovní hala\, Mánesova 4980\, Chomutov
CATEGORIES:výstavy,zábavní pořady
ATTACH;FMTTYPE=image/jpeg:https://visit.chomutov.cz/wp-content/uploads/2023/05/vystava-kocek-2024-724x1024-1.jpg
END:VEVENT
BEGIN:VEVENT
DTSTART;VALUE=DATE:20240509
DTEND;VALUE=DATE:20241027
DTSTAMP:20260421T163450
CREATED:20240429T061031Z
LAST-MODIFIED:20240503T060038Z
UID:6778-1715212800-1729987199@visit.chomutov.cz
SUMMARY:Chomutovsko pod hákovým křížem
DESCRIPTION:Výstava přiblíží období mezi roky 1938–1945 se zaměřením na běžný život německého obyvatelstva v Sudetech.\nVernisáž výstavy 9.5. v 16.00 hodin.
URL:https://visit.chomutov.cz/kalendar/chomutovsko-pod-hakovym-krizem/
LOCATION:Oblastní muzeum v Chomutově – radnice\, nám. 1. máje 1\, Chomutov
CATEGORIES:výstavy
ATTACH;FMTTYPE=image/jpeg:https://visit.chomutov.cz/wp-content/uploads/2024/04/Chomutovsko-pod-hakovym-krizem-scaled.jpg
ORGANIZER;CN="Oblastn%C3%AD%20muzeum%20v%20Chomutov%C4%9B":MAILTO:sekretariat@muzeumchomutov.cz
END:VEVENT
BEGIN:VEVENT
DTSTART;VALUE=DATE:20240507
DTEND;VALUE=DATE:20240606
DTSTAMP:20260421T163450
CREATED:20240416T085548Z
LAST-MODIFIED:20240416T085548Z
UID:6762-1715040000-1717631999@visit.chomutov.cz
SUMMARY:Výstava - Jiří Anderle
DESCRIPTION:Vernisáž výstavy se uskuteční 7. května od 17 hodin.
URL:https://visit.chomutov.cz/kalendar/vystava-jiri-anderle/
LOCATION:Galerie Špejchar\, Palackého 85\, Chomutov
CATEGORIES:výstavy
ATTACH;FMTTYPE=image/webp:https://visit.chomutov.cz/wp-content/uploads/2024/04/jiri-anderle-vanitas-iii-1.webp
END:VEVENT
BEGIN:VEVENT
DTSTART;TZID=Europe/Prague:20240427T170000
DTEND;TZID=Europe/Prague:20240427T170000
DTSTAMP:20260421T163450
CREATED:20240429T062418Z
LAST-MODIFIED:20240429T062418Z
UID:6783-1714237200-1714237200@visit.chomutov.cz
SUMMARY:Barbara Krulich - výstava obrazů
DESCRIPTION:
URL:https://visit.chomutov.cz/kalendar/barbara-krulich-vystava-obrazu/
LOCATION:Café Atrium\, Palackého 85\, Chomutov
CATEGORIES:výstavy
ATTACH;FMTTYPE=image/png:https://visit.chomutov.cz/wp-content/uploads/2022/09/2022-masopust-logo.png
ORGANIZER;CN="Masopust%2C%20z.s.":MAILTO:info@masopustspolek.cz
END:VEVENT
BEGIN:VEVENT
DTSTART;VALUE=DATE:20240423
DTEND;VALUE=DATE:20240525
DTSTAMP:20260421T163450
CREATED:20240318T152612Z
LAST-MODIFIED:20240318T152612Z
UID:6525-1713830400-1716595199@visit.chomutov.cz
SUMMARY:Petra Jovanovská a Krzysztof Bartnik – DIALOG
DESCRIPTION:Petra Jovanovská je malířka a grafička\, jež pracuje s nejrůznějšími technikami a médii\, skrze které zkoumá koncept kruhu. Pro její díla je typická živá barevnost a motiv opakování. Ta budou v rámci výstavy DIALOG konfrontována s abstraktními\, krajinou inspirovanými akvarelovými malbami polského malíře Krzysztova Bartnika. Vernisáž výstavy se uskuteční 23. dubna od 17 hodin.                         
URL:https://visit.chomutov.cz/kalendar/petra-jovanovska-a-krzysztof-bartnik-dialog/
LOCATION:Galerie Lurago\, Palackého 85\, Chomutov
CATEGORIES:výstavy
ATTACH;FMTTYPE=image/jpeg:https://visit.chomutov.cz/wp-content/uploads/2024/03/Jovanovska.jpg
END:VEVENT
BEGIN:VEVENT
DTSTART;TZID=Europe/Prague:20240418T170000
DTEND;TZID=Europe/Prague:20240418T170000
DTSTAMP:20260421T163450
CREATED:20240327T134656Z
LAST-MODIFIED:20240327T134716Z
UID:6573-1713459600-1713459600@visit.chomutov.cz
SUMMARY:Obrazy malované kávou - vernisáž
DESCRIPTION:Jana a Milan Töthovi
URL:https://visit.chomutov.cz/kalendar/obrazy-malovane-kavou-vernisaz/
LOCATION:Café Atrium\, Palackého 85\, Chomutov
CATEGORIES:výstavy
ATTACH;FMTTYPE=image/jpeg:https://visit.chomutov.cz/wp-content/uploads/2024/03/Toth.jpg
END:VEVENT
BEGIN:VEVENT
DTSTART;VALUE=DATE:20240418
DTEND;VALUE=DATE:20240421
DTSTAMP:20260421T163450
CREATED:20240315T092343Z
LAST-MODIFIED:20240315T092400Z
UID:6497-1713398400-1713657599@visit.chomutov.cz
SUMMARY:Technodays 2024
DESCRIPTION:
URL:https://visit.chomutov.cz/kalendar/technodays-2024/
LOCATION:Městské divadlo\, Boženy Němcové 552/32\, Chomutov
CATEGORIES:pro děti,výstavy,vzdělávání
ATTACH;FMTTYPE=image/png:https://visit.chomutov.cz/wp-content/uploads/2024/03/TECHNODAYS_2024.png
ORGANIZER;CN="Okresn%C3%AD%20hospod%C3%A1%C5%99sk%C3%A1%20komora%20v%20Chomutov%C4%9B":MAILTO:info@ohkcv.cz
END:VEVENT
BEGIN:VEVENT
DTSTART;VALUE=DATE:20240410
DTEND;VALUE=DATE:20240418
DTSTAMP:20260421T163450
CREATED:20240313T140504Z
LAST-MODIFIED:20240405T072930Z
UID:6492-1712707200-1713398399@visit.chomutov.cz
SUMMARY:Palachovka spolu
DESCRIPTION:Výstava výtvarných prací dětí z MŠ a žáků ZŠS Palachova 4881\, součástí budou také fotografie ze života školy.\nVernisáž proběhne 10. 4. od 16.00 hodin.
URL:https://visit.chomutov.cz/kalendar/palachovka-spolu/
LOCATION:Kostel sv. Kateřiny\, Chelčického 100\, Chomutov
CATEGORIES:výstavy
ATTACH;FMTTYPE=image/jpeg:https://visit.chomutov.cz/wp-content/uploads/2024/03/Palachovka-spolu.jpg
END:VEVENT
BEGIN:VEVENT
DTSTART;VALUE=DATE:20240405
DTEND;VALUE=DATE:20240505
DTSTAMP:20260421T163450
CREATED:20240318T135104Z
LAST-MODIFIED:20240318T135121Z
UID:6510-1712275200-1714867199@visit.chomutov.cz
SUMMARY:Mirka Beranová - výstava
DESCRIPTION:Vernisáž 5.4. v 17.00 hodin.
URL:https://visit.chomutov.cz/kalendar/mirka-beranova-vystava/
LOCATION:Galerie Špejchar\, Palackého 85\, Chomutov
CATEGORIES:výstavy
ATTACH;FMTTYPE=image/jpeg:https://visit.chomutov.cz/wp-content/uploads/2024/03/Mirka-Beranova.jpg
END:VEVENT
BEGIN:VEVENT
DTSTART;TZID=Europe/Prague:20240316T160000
DTEND;TZID=Europe/Prague:20240316T160000
DTSTAMP:20260421T163450
CREATED:20240223T082236Z
LAST-MODIFIED:20240223T082246Z
UID:6412-1710604800-1710604800@visit.chomutov.cz
SUMMARY:Setkání po 40 letech - vernisáž
DESCRIPTION:výstava soch a obrazů Jitky Kůsové\, Ladislava Chabra a Emila Laurenčíka
URL:https://visit.chomutov.cz/kalendar/setkani-po-40-letech-vernisaz/
LOCATION:Oblastní muzeum v Chomutově – hlavní budova\, Palackého 86\, Chomutov\, Česká republika
CATEGORIES:výstavy
ATTACH;FMTTYPE=image/jpeg:https://visit.chomutov.cz/wp-content/uploads/2022/05/kusova.jpg
END:VEVENT
BEGIN:VEVENT
DTSTART;TZID=Europe/Prague:20240308T163000
DTEND;TZID=Europe/Prague:20240308T163000
DTSTAMP:20260421T163450
CREATED:20240220T113224Z
LAST-MODIFIED:20240220T114240Z
UID:6312-1709915400-1709915400@visit.chomutov.cz
SUMMARY:Dumy\, Ševčenkove dumy
DESCRIPTION:Vernisáž fotografií Rostislava Prokopjuka.
URL:https://visit.chomutov.cz/kalendar/dumy-sevcenkove-dumy/
LOCATION:Chomutovská knihovna\, Palackého 4995\, Chomutov
CATEGORIES:výstavy
ATTACH;FMTTYPE=image/jpeg:https://visit.chomutov.cz/wp-content/uploads/2024/02/Dumy-Rostislav-Prokopjuk.jpg
END:VEVENT
BEGIN:VEVENT
DTSTART;TZID=Europe/Prague:20240301T170000
DTEND;TZID=Europe/Prague:20240301T170000
DTSTAMP:20260421T163450
CREATED:20240222T105618Z
LAST-MODIFIED:20240222T105618Z
UID:6353-1709312400-1709312400@visit.chomutov.cz
SUMMARY:Výstava obrazů Roska
DESCRIPTION:Spolek\, který pomáhá lidem s roztroušenou sklerózou.
URL:https://visit.chomutov.cz/kalendar/vystava-obrazu-roska/
LOCATION:Jacques café\, Puchmayerova 118/9\, Chomutov\, 43001
CATEGORIES:výstavy
ATTACH;FMTTYPE=image/jpeg:https://visit.chomutov.cz/wp-content/uploads/2023/03/Jacques-cafe.jpg
END:VEVENT
BEGIN:VEVENT
DTSTART;TZID=Europe/Prague:20240229T150000
DTEND;TZID=Europe/Prague:20240229T190000
DTSTAMP:20260421T163450
CREATED:20240222T124354Z
LAST-MODIFIED:20240222T124456Z
UID:6408-1709218800-1709233200@visit.chomutov.cz
SUMMARY:Elizabeth Ida Novotná - Klid za myšlenkami
DESCRIPTION:vernisáž výstavy obrazů
URL:https://visit.chomutov.cz/kalendar/elizabeth-ida-novotna-klid-za-myslenkami/
CATEGORIES:výstavy
ATTACH;FMTTYPE=image/jpeg:https://visit.chomutov.cz/wp-content/uploads/2024/02/Elizabeth-Ida-Novotna.jpg
END:VEVENT
BEGIN:VEVENT
DTSTART;VALUE=DATE:20240227
DTEND;VALUE=DATE:20240331
DTSTAMP:20260421T163450
CREATED:20240206T112320Z
LAST-MODIFIED:20240206T112320Z
UID:6215-1708992000-1711843199@visit.chomutov.cz
SUMMARY:Tomáš Jetela - Sunset
DESCRIPTION:Vernisáž výstavy 27.2. v 17.00 hodin.
URL:https://visit.chomutov.cz/kalendar/tomas-jetela-sunset/
LOCATION:Galerie Špejchar\, Palackého 85\, Chomutov
CATEGORIES:výstavy
ATTACH;FMTTYPE=image/jpeg:https://visit.chomutov.cz/wp-content/uploads/2024/02/Jetela.jpg
END:VEVENT
BEGIN:VEVENT
DTSTART;TZID=Europe/Prague:20240226T170000
DTEND;TZID=Europe/Prague:20240226T170000
DTSTAMP:20260421T163450
CREATED:20240206T111959Z
LAST-MODIFIED:20240206T111959Z
UID:6213-1708966800-1708966800@visit.chomutov.cz
SUMMARY:Milan Ambrůžek - vernisáž výstavy Labyrint
DESCRIPTION:
URL:https://visit.chomutov.cz/kalendar/milan-ambruzek-vernisaz-vystavy-labyrint/
LOCATION:Café Atrium\, Palackého 85\, Chomutov
CATEGORIES:výstavy
ATTACH;FMTTYPE=image/png:https://visit.chomutov.cz/wp-content/uploads/2022/09/2022-masopust-logo.png
ORGANIZER;CN="Masopust%2C%20z.s.":MAILTO:info@masopustspolek.cz
END:VEVENT
BEGIN:VEVENT
DTSTART;VALUE=DATE:20240216
DTEND;VALUE=DATE:20240316
DTSTAMP:20260421T163450
CREATED:20240206T111546Z
LAST-MODIFIED:20240206T111546Z
UID:6210-1708041600-1710547199@visit.chomutov.cz
SUMMARY:Jakub Vyplel - K moři a pak domů
DESCRIPTION:Vernisáž výstavy 16.2. v 17.00 hodin
URL:https://visit.chomutov.cz/kalendar/jakub-vyplel-k-mori-a-pak-domu/
LOCATION:Galerie Lurago\, Palackého 85\, Chomutov
CATEGORIES:výstavy
ATTACH;FMTTYPE=image/jpeg:https://visit.chomutov.cz/wp-content/uploads/2024/02/Vyplel.jpg
END:VEVENT
BEGIN:VEVENT
DTSTART;VALUE=DATE:20240118
DTEND;VALUE=DATE:20240218
DTSTAMP:20260421T163450
CREATED:20231218T085340Z
LAST-MODIFIED:20231218T085340Z
UID:6062-1705536000-1708214399@visit.chomutov.cz
SUMMARY:Šárka Coganová - Souznění
DESCRIPTION:Vernisáž výstavy 18.1. v 17.00 hodin.
URL:https://visit.chomutov.cz/kalendar/sarka-coganova-souzneni/
LOCATION:Galerie Špejchar\, Palackého 85\, Chomutov
CATEGORIES:výstavy
ATTACH;FMTTYPE=image/png:https://visit.chomutov.cz/wp-content/uploads/2023/12/Coganova.png
END:VEVENT
BEGIN:VEVENT
DTSTART;TZID=Europe/Prague:20240112T170000
DTEND;TZID=Europe/Prague:20240112T170000
DTSTAMP:20260421T163450
CREATED:20231218T083617Z
LAST-MODIFIED:20231218T083617Z
UID:6060-1705078800-1705078800@visit.chomutov.cz
SUMMARY:Fototoulky Reginy Kopečné
DESCRIPTION:
URL:https://visit.chomutov.cz/kalendar/fototoulky-reginy-kopecne/
LOCATION:Café Atrium\, Palackého 85\, Chomutov
CATEGORIES:výstavy
ATTACH;FMTTYPE=image/png:https://visit.chomutov.cz/wp-content/uploads/2022/09/2022-masopust-logo.png
ORGANIZER;CN="Masopust%2C%20z.s.":MAILTO:info@masopustspolek.cz
END:VEVENT
BEGIN:VEVENT
DTSTART;VALUE=DATE:20240111
DTEND;VALUE=DATE:20240210
DTSTAMP:20260421T163450
CREATED:20231218T083109Z
LAST-MODIFIED:20231218T083109Z
UID:6057-1704931200-1707523199@visit.chomutov.cz
SUMMARY:Renata a Anna Agáta Lehmanovy - Okna do duše
DESCRIPTION:Vernisáž výstavy 11.1. od 17.00 hodin.
URL:https://visit.chomutov.cz/kalendar/renata-a-anna-agata-lehmanovy-okna-do-duse/
LOCATION:Galerie Lurago\, Palackého 85\, Chomutov
CATEGORIES:výstavy
ATTACH;FMTTYPE=image/jpeg:https://visit.chomutov.cz/wp-content/uploads/2023/12/Renata-Lehmanova.jpg
END:VEVENT
END:VCALENDAR