BEGIN:VCALENDAR
VERSION:2.0
PRODID:-//Visit Chomutov - ECPv5.14.2.1//NONSGML v1.0//EN
CALSCALE:GREGORIAN
METHOD:PUBLISH
X-WR-CALNAME:Visit Chomutov
X-ORIGINAL-URL:https://visit.chomutov.cz
X-WR-CALDESC:Akce na Visit Chomutov
REFRESH-INTERVAL;VALUE=DURATION:PT1H
X-Robots-Tag:noindex
X-PUBLISHED-TTL:PT1H
BEGIN:VTIMEZONE
TZID:Europe/Prague
BEGIN:DAYLIGHT
TZOFFSETFROM:+0100
TZOFFSETTO:+0200
TZNAME:CEST
DTSTART:20240331T010000
END:DAYLIGHT
BEGIN:STANDARD
TZOFFSETFROM:+0200
TZOFFSETTO:+0100
TZNAME:CET
DTSTART:20241027T010000
END:STANDARD
BEGIN:DAYLIGHT
TZOFFSETFROM:+0100
TZOFFSETTO:+0200
TZNAME:CEST
DTSTART:20250330T010000
END:DAYLIGHT
BEGIN:STANDARD
TZOFFSETFROM:+0200
TZOFFSETTO:+0100
TZNAME:CET
DTSTART:20251026T010000
END:STANDARD
END:VTIMEZONE
BEGIN:VEVENT
DTSTART;TZID=Europe/Prague:20250906T110000
DTEND;TZID=Europe/Prague:20250906T110000
DTSTAMP:20260421T121541
CREATED:20250828T100704Z
LAST-MODIFIED:20250828T100704Z
UID:10601-1757156400-1757156400@visit.chomutov.cz
SUMMARY:Les - místo pro život (Lebensraum Wald)
DESCRIPTION:vernisáž výstavy fotografií včetně autorů\, členů fotografického spolku z partnerského města Erlangenu\nvýstava potrvá do 19.10.2025
URL:https://visit.chomutov.cz/kalendar/les-misto-pro-zivot-lebensraum-wald/
LOCATION:Kostel sv. Kateřiny\, Chelčického 100\, Chomutov
CATEGORIES:výstavy
ATTACH;FMTTYPE=image/jpeg:https://visit.chomutov.cz/wp-content/uploads/2025/08/Les.jpg
ORGANIZER;CN="Oblastn%C3%AD%20muzeum%20v%20Chomutov%C4%9B":MAILTO:sekretariat@muzeumchomutov.cz
END:VEVENT
BEGIN:VEVENT
DTSTART;TZID=Europe/Prague:20250805T170000
DTEND;TZID=Europe/Prague:20250805T180000
DTSTAMP:20260421T121541
CREATED:20250805T095759Z
LAST-MODIFIED:20250805T095938Z
UID:10497-1754413200-1754416800@visit.chomutov.cz
SUMMARY:Kristýna Machová - Vnitřní krajiny
DESCRIPTION:vernisáž výstavy\nvýstava potrvá do 25.9.2025
URL:https://visit.chomutov.cz/kalendar/kristyna-machova-vnitrni-krajiny/
LOCATION:Galerie Lurago\, Palackého 85\, Chomutov
CATEGORIES:výstavy
ATTACH;FMTTYPE=image/jpeg:https://visit.chomutov.cz/wp-content/uploads/2025/08/Machova.jpg
END:VEVENT
BEGIN:VEVENT
DTSTART;TZID=Europe/Prague:20250731T170000
DTEND;TZID=Europe/Prague:20250731T170000
DTSTAMP:20260421T121541
CREATED:20250716T083400Z
LAST-MODIFIED:20250716T083400Z
UID:10457-1753981200-1753981200@visit.chomutov.cz
SUMMARY:Počasí Krušných hor
DESCRIPTION:vernisáž výstavy Zdeňka Koška a Pavla Saláka\nvýstava potrvá do 27.9.
URL:https://visit.chomutov.cz/kalendar/pocasi-krusnych-hor/
LOCATION:Galerie Špejchar\, Palackého 85\, Chomutov
CATEGORIES:výstavy
ATTACH;FMTTYPE=image/jpeg:https://visit.chomutov.cz/wp-content/uploads/2025/07/Pocasi-Krusnych-hor.jpg
END:VEVENT
BEGIN:VEVENT
DTSTART;VALUE=DATE:20250712
DTEND;VALUE=DATE:20250714
DTSTAMP:20260421T121541
CREATED:20250626T114041Z
LAST-MODIFIED:20250627T062609Z
UID:10334-1752278400-1752451199@visit.chomutov.cz
SUMMARY:Přehlídka krušnohorské šité a paličkované krajky
DESCRIPTION:
URL:https://visit.chomutov.cz/kalendar/prehlidka-krusnohorske-site-a-palickovane-krajky/
LOCATION:Kostel sv. Kateřiny\, Chelčického 100\, Chomutov
CATEGORIES:výstavy
ATTACH;FMTTYPE=image/jpeg:https://visit.chomutov.cz/wp-content/uploads/2025/06/Prehlidka-Krusnohorske-krajky.jpg
ORGANIZER;CN="Oblastn%C3%AD%20muzeum%20v%20Chomutov%C4%9B":MAILTO:sekretariat@muzeumchomutov.cz
END:VEVENT
BEGIN:VEVENT
DTSTART;VALUE=DATE:20250712
DTEND;VALUE=DATE:20250929
DTSTAMP:20260421T121541
CREATED:20250626T113059Z
LAST-MODIFIED:20250626T113059Z
UID:10331-1752278400-1759103999@visit.chomutov.cz
SUMMARY:Výstavy krajek - Poklady Krušných hor
DESCRIPTION:
URL:https://visit.chomutov.cz/kalendar/vystavy-krajek-poklady-krusnych-hor/
LOCATION:Oblastní muzeum v Chomutově – hlavní budova\, Palackého 86\, Chomutov\, Česká republika
CATEGORIES:výstavy
ATTACH;FMTTYPE=image/jpeg:https://visit.chomutov.cz/wp-content/uploads/2025/06/vystavy-krajka.jpg
ORGANIZER;CN="Oblastn%C3%AD%20muzeum%20v%20Chomutov%C4%9B":MAILTO:sekretariat@muzeumchomutov.cz
END:VEVENT
BEGIN:VEVENT
DTSTART;TZID=Europe/Prague:20250703T150000
DTEND;TZID=Europe/Prague:20250703T180000
DTSTAMP:20260421T121541
CREATED:20250627T062843Z
LAST-MODIFIED:20250627T062843Z
UID:10402-1751554800-1751565600@visit.chomutov.cz
SUMMARY:Ztracené tváře- Matyáš Beránek
DESCRIPTION:vernisáž výstavy obrazů
URL:https://visit.chomutov.cz/kalendar/ztracene-tvare-matyas-beranek/
LOCATION:Kameny od Jednorožce\, 28. října 1081/19\, Chomutov\, Česká republika
CATEGORIES:výstavy
ATTACH;FMTTYPE=image/jpeg:https://visit.chomutov.cz/wp-content/uploads/2025/06/Ztracene-tvare.jpg
END:VEVENT
BEGIN:VEVENT
DTSTART;TZID=Europe/Prague:20250626T170000
DTEND;TZID=Europe/Prague:20250626T170000
DTSTAMP:20260421T121541
CREATED:20250603T104848Z
LAST-MODIFIED:20250603T104848Z
UID:10310-1750957200-1750957200@visit.chomutov.cz
SUMMARY:Kouzelný svět v obrazech
DESCRIPTION:vernisáž výstavy
URL:https://visit.chomutov.cz/kalendar/kouzelny-svet-v-obrazech/
LOCATION:Café Atrium\, Palackého 85\, Chomutov
CATEGORIES:výstavy
ATTACH;FMTTYPE=image/jpeg:https://visit.chomutov.cz/wp-content/uploads/2025/06/Kouzelny-svet-v-obrazech.jpg
ORGANIZER;CN="Masopust%2C%20z.s.":MAILTO:info@masopustspolek.cz
END:VEVENT
BEGIN:VEVENT
DTSTART;TZID=Europe/Prague:20250604T180000
DTEND;TZID=Europe/Prague:20250604T180000
DTSTAMP:20260421T121541
CREATED:20250519T145256Z
LAST-MODIFIED:20250519T145256Z
UID:10069-1749060000-1749060000@visit.chomutov.cz
SUMMARY:Vernisáž výstavy Nowstalgia
DESCRIPTION:NOWSTALGIA\nKdyž vzpomínky nepatří minulosti\, ale přítomnému okamžiku\nKurátorky výstavy / studentky 1. ročníku magisterského studijního programu Kurátorská studia na FUD UJEP: Kateřina Bednáriková\, Pavla Florianová\, Noémi Špontáková\, Monika Železná\nVýstava NOWSTALGIA představuje soubor aktuálních uměleckých přístupů Generace Z k fenoménu nostalgie ve vizuální kultuře digitální éry. Prezentované malby\, instalace\, digitální objekty a designové intervence tematizují vztah k minulosti\, který je formován především skrze internetovou estetiku\, práci s\narchivy a remix vizuálních symbolů. Nostalgie zde vystupuje z role sentimentálního úniku a jako kritický nástroj redefinuje identitu\, paměť a společenské hodnoty. Výstava sleduje\, jak se minulost v digitálním prostoru stává živým materiálem\, který je reinterpretován\, estetizován i ironizován.\nVystavující umělci a umělkyně:\nAneta Dvořáková\, Tereza Darášová\, Tomáš Černý\, Zuzana Kotrbová\, Kryštof Krátký\, Sára Lipková\, Marie Nakonečná\, Radim Pergl\, Nikolas Sand\, Matyáš Slabý\, Anna Magdaléna Tůmová\, Šimon Varaus\, Renata Jelínková\, Jan Adam Hlušička\, Marie Boková\, Tomáš Baška
URL:https://visit.chomutov.cz/kalendar/vernisaz-vystavy-nowstalgia/
LOCATION:Galerie Špejchar\, Palackého 85\, Chomutov
CATEGORIES:výstavy
ATTACH;FMTTYPE=image/jpeg:https://visit.chomutov.cz/wp-content/uploads/2025/05/Nowstalgia-scaled.jpg
END:VEVENT
BEGIN:VEVENT
DTSTART;VALUE=DATE:20250603
DTEND;VALUE=DATE:20250628
DTSTAMP:20260421T121541
CREATED:20250523T124622Z
LAST-MODIFIED:20250523T124622Z
UID:10092-1748908800-1751068799@visit.chomutov.cz
SUMMARY:Ivan Klymenko - Prague Through My Eyes
DESCRIPTION:
URL:https://visit.chomutov.cz/kalendar/ivan-klymenko-prague-through-my-eyes/
LOCATION:Galerie Lurago\, Palackého 85\, Chomutov
CATEGORIES:výstavy
ATTACH;FMTTYPE=image/jpeg:https://visit.chomutov.cz/wp-content/uploads/2025/05/klymenko.jpg
END:VEVENT
BEGIN:VEVENT
DTSTART;TZID=Europe/Prague:20250524T100000
DTEND;TZID=Europe/Prague:20250524T100000
DTSTAMP:20260421T121541
CREATED:20250523T125111Z
LAST-MODIFIED:20250523T125203Z
UID:10095-1748080800-1748080800@visit.chomutov.cz
SUMMARY:Výstava Můj/náš svět
DESCRIPTION:Slavnostní vyhodnocení výtvarné soutěže a vernisáž výstavy.
URL:https://visit.chomutov.cz/kalendar/vystava-muj-nas-svet/
LOCATION:Atrium\, nám. 1. máje\, Chomutov
CATEGORIES:výstavy
ATTACH;FMTTYPE=image/png:https://visit.chomutov.cz/wp-content/uploads/2025/05/Muj-Nas-svet.png
END:VEVENT
BEGIN:VEVENT
DTSTART;VALUE=DATE:20250520
DTEND;VALUE=DATE:20250825
DTSTAMP:20260421T121541
CREATED:20250515T093438Z
LAST-MODIFIED:20250515T093438Z
UID:10004-1747699200-1756079999@visit.chomutov.cz
SUMMARY:Středověké venkovské kostely okresu Louny
DESCRIPTION:výstava
URL:https://visit.chomutov.cz/kalendar/stredoveke-venkovske-kostely-okresu-louny/
LOCATION:Kostel sv. Kateřiny\, Chelčického 100\, Chomutov
CATEGORIES:výstavy
ATTACH;FMTTYPE=image/png:https://visit.chomutov.cz/wp-content/uploads/2025/05/Stredoveke-kostely.png
ORGANIZER;CN="Oblastn%C3%AD%20muzeum%20v%20Chomutov%C4%9B":MAILTO:sekretariat@muzeumchomutov.cz
END:VEVENT
BEGIN:VEVENT
DTSTART;TZID=Europe/Prague:20250509T180000
DTEND;TZID=Europe/Prague:20250509T193000
DTSTAMP:20260421T121541
CREATED:20250502T064552Z
LAST-MODIFIED:20250502T064552Z
UID:9773-1746813600-1746819000@visit.chomutov.cz
SUMMARY:Výstava studentů "Akademie umění"
DESCRIPTION:
URL:https://visit.chomutov.cz/kalendar/vystava-studentu-akademie-umeni/
LOCATION:ZUŠ T. G. Masaryka\, nám. T. G. Masaryka 1626\, Chomutov
CATEGORIES:výstavy
ATTACH;FMTTYPE=image/jpeg:https://visit.chomutov.cz/wp-content/uploads/2025/05/pexels-eberhardgross-2086361.jpg
END:VEVENT
BEGIN:VEVENT
DTSTART;TZID=Europe/Prague:20250507T160000
DTEND;TZID=Europe/Prague:20250507T170000
DTSTAMP:20260421T121541
CREATED:20250502T063950Z
LAST-MODIFIED:20250502T063950Z
UID:9771-1746633600-1746637200@visit.chomutov.cz
SUMMARY:Výstava obrazů a básní Barbory Krabcové ALTROVE
DESCRIPTION:
URL:https://visit.chomutov.cz/kalendar/vystava-obrazu-a-basni-barbory-krabcove-altrove/
LOCATION:Café Atrium\, Palackého 85\, Chomutov
CATEGORIES:výstavy
ATTACH;FMTTYPE=image/jpeg:https://visit.chomutov.cz/wp-content/uploads/2022/05/cafe-atrium.jpg
ORGANIZER;CN="Masopust%2C%20z.s.":MAILTO:info@masopustspolek.cz
END:VEVENT
BEGIN:VEVENT
DTSTART;VALUE=DATE:20250506
DTEND;VALUE=DATE:20250513
DTSTAMP:20260421T121541
CREATED:20250502T063435Z
LAST-MODIFIED:20250502T063435Z
UID:9768-1746489600-1747094399@visit.chomutov.cz
SUMMARY:Palachovka spolu podruhé\, aneb Společně jsme silní
DESCRIPTION:výstava dětských prací a fotografií děti z Mateřské školy Palachova Chomutov\, Barvička Kadaň a žáci Základní školy speciální Palachova Chomutov a Schule Christian Felix Weisse Annaberg – Buchholz\, vernisáž výstav 6.5. v 16.00 hodin
URL:https://visit.chomutov.cz/kalendar/palachovka-spolu-podruhe-aneb-spolecne-jsme-silni/
LOCATION:Kostel sv. Kateřiny\, Chelčického 100\, Chomutov
CATEGORIES:pro děti,výstavy
ATTACH;FMTTYPE=image/jpeg:https://visit.chomutov.cz/wp-content/uploads/2025/05/Palachovka.jpg
END:VEVENT
BEGIN:VEVENT
DTSTART;TZID=Europe/Prague:20250505T140000
DTEND;TZID=Europe/Prague:20250505T170000
DTSTAMP:20260421T121541
CREATED:20250423T135127Z
LAST-MODIFIED:20250423T135127Z
UID:9756-1746453600-1746464400@visit.chomutov.cz
SUMMARY:Zpřístupnění věže Městského divadla s expozicí výstavy ke 120. výročí
DESCRIPTION:
URL:https://visit.chomutov.cz/kalendar/zpristupneni-veze-mestskeho-divadla/
LOCATION:Městské divadlo\, Boženy Němcové 552/32\, Chomutov
CATEGORIES:výstavy
ATTACH;FMTTYPE=image/jpeg:https://visit.chomutov.cz/wp-content/uploads/2025/03/120-let-divadla.jpg
END:VEVENT
BEGIN:VEVENT
DTSTART;VALUE=DATE:20250424
DTEND;VALUE=DATE:20250427
DTSTAMP:20260421T121541
CREATED:20250326T151044Z
LAST-MODIFIED:20250326T151044Z
UID:9615-1745452800-1745711999@visit.chomutov.cz
SUMMARY:Technodays 2025
DESCRIPTION:
URL:https://visit.chomutov.cz/kalendar/technodays-2025/
LOCATION:Městské divadlo\, Boženy Němcové 552/32\, Chomutov
CATEGORIES:pro děti,výstavy,vzdělávání
ATTACH;FMTTYPE=image/jpeg:https://visit.chomutov.cz/wp-content/uploads/2025/03/TECHNODAYS_2025-scaled.jpg
ORGANIZER;CN="Okresn%C3%AD%20hospod%C3%A1%C5%99sk%C3%A1%20komora%20v%20Chomutov%C4%9B":MAILTO:info@ohkcv.cz
END:VEVENT
BEGIN:VEVENT
DTSTART;TZID=Europe/Prague:20250412T140000
DTEND;TZID=Europe/Prague:20250412T170000
DTSTAMP:20260421T121541
CREATED:20250326T063026Z
LAST-MODIFIED:20250326T063107Z
UID:9418-1744466400-1744477200@visit.chomutov.cz
SUMMARY:Výstava ke 120. výročí Městského divadla
DESCRIPTION:zahájení výstavy ve věži Městského divadla\nvýstava pak přístupna každé ÚT a ČT 14.00–17.00
URL:https://visit.chomutov.cz/kalendar/vystava-ke-120-vyroci-mestskeho-divadla/
LOCATION:Městské divadlo\, Boženy Němcové 552/32\, Chomutov
CATEGORIES:výstavy
ATTACH;FMTTYPE=image/jpeg:https://visit.chomutov.cz/wp-content/uploads/2025/03/120-let-divadla.jpg
END:VEVENT
BEGIN:VEVENT
DTSTART;VALUE=DATE:20250410
DTEND;VALUE=DATE:20250525
DTSTAMP:20260421T121541
CREATED:20250326T063622Z
LAST-MODIFIED:20250326T063758Z
UID:9421-1744243200-1748131199@visit.chomutov.cz
SUMMARY:Roman Pompe - Svátosti a jiná zjevení
DESCRIPTION:vernisáž výstavy 10.4. v 18:00\nTvorba designéra Romana Pompeho zahrnuje malby\, neotřele obnovené kousky starého nábytku či plastiky\, do jejichž kompozice autor s oblibou začleňuje nalezené zvířecí kosti. Co z jeho díla vybrala výtvarnice a kurátorka Nadia Rovderová\, můžete zjistit na výstavě v galerii Špejchar.
URL:https://visit.chomutov.cz/kalendar/roman-pompe-svatosti-a-jina-zjeveni/
LOCATION:Galerie Špejchar\, Palackého 85\, Chomutov
CATEGORIES:výstavy
ATTACH;FMTTYPE=image/jpeg:https://visit.chomutov.cz/wp-content/uploads/2021/11/Galerie-Spejchar-Velke.jpg
END:VEVENT
BEGIN:VEVENT
DTSTART;VALUE=DATE:20250403
DTEND;VALUE=DATE:20251029
DTSTAMP:20260421T121541
CREATED:20250325T134846Z
LAST-MODIFIED:20250325T134846Z
UID:9415-1743638400-1761695999@visit.chomutov.cz
SUMMARY:Unikátní výstava HRA
DESCRIPTION:Cesta za sebepoznáním pro děti i dospělé\nvernisáž výstavy 3.4. v 17.00
URL:https://visit.chomutov.cz/kalendar/unikatni-vystava-hra/
LOCATION:Oblastní muzeum v Chomutově – radnice\, nám. 1. máje 1\, Chomutov
CATEGORIES:výstavy
ATTACH;FMTTYPE=image/jpeg:https://visit.chomutov.cz/wp-content/uploads/2025/03/muzeum-hra-plakat-A4-2503.jpg
ORGANIZER;CN="Oblastn%C3%AD%20muzeum%20v%20Chomutov%C4%9B":MAILTO:sekretariat@muzeumchomutov.cz
END:VEVENT
BEGIN:VEVENT
DTSTART;VALUE=DATE:20250327
DTEND;VALUE=DATE:20250517
DTSTAMP:20260421T121541
CREATED:20250225T073834Z
LAST-MODIFIED:20250225T073834Z
UID:9156-1743033600-1747439999@visit.chomutov.cz
SUMMARY:Eva Hrebáková - Obrazy
DESCRIPTION:Výstava expresivních abstraktních OBRAZŮ\, pro které jsou typické experimenty s texturou\, technikami či barevnými kombinacemi.\nvernisáž výstavy 28.3. v 18.00 hodin
URL:https://visit.chomutov.cz/kalendar/eva-hrebakova-obrazy/
LOCATION:Galerie Lurago\, Palackého 85\, Chomutov
CATEGORIES:výstavy
ATTACH;FMTTYPE=image/jpeg:https://visit.chomutov.cz/wp-content/uploads/2025/02/Hrebakova-Obrazy-e1740469107467.jpg
END:VEVENT
BEGIN:VEVENT
DTSTART;VALUE=DATE:20250321
DTEND;VALUE=DATE:20250503
DTSTAMP:20260421T121541
CREATED:20250225T073133Z
LAST-MODIFIED:20250225T073133Z
UID:9153-1742515200-1746230399@visit.chomutov.cz
SUMMARY:Krajina - Eva Konopásková\, Jiřina Čandová
DESCRIPTION:Výstava obrazů
URL:https://visit.chomutov.cz/kalendar/krajina-eva-konopaskova-jirina-candova/
LOCATION:Café Atrium\, Palackého 85\, Chomutov
CATEGORIES:výstavy
ATTACH;FMTTYPE=image/jpeg:https://visit.chomutov.cz/wp-content/uploads/2025/02/Konopaskova.jpg
END:VEVENT
BEGIN:VEVENT
DTSTART;TZID=Europe/Prague:20250311T170000
DTEND;TZID=Europe/Prague:20250311T170000
DTSTAMP:20260421T121541
CREATED:20250304T102531Z
LAST-MODIFIED:20250304T102531Z
UID:9271-1741712400-1741712400@visit.chomutov.cz
SUMMARY:Komentovaná prohlídka výstavy Slepá víra
DESCRIPTION:za účasti Matěje Hrbka\, Eduarda Lary a kurátorky Jolany Pastor
URL:https://visit.chomutov.cz/kalendar/komentovana-prohlidka-vystavy-slepa-vira/
LOCATION:Galerie Špejchar\, Palackého 85\, Chomutov
CATEGORIES:výstavy,zábavní pořady
ATTACH;FMTTYPE=image/jpeg:https://visit.chomutov.cz/wp-content/uploads/2025/03/Slepa-vira-koment.prohl_-scaled.jpg
END:VEVENT
BEGIN:VEVENT
DTSTART;TZID=Europe/Prague:20250307T190000
DTEND;TZID=Europe/Prague:20250307T190000
DTSTAMP:20260421T121541
CREATED:20250225T072212Z
LAST-MODIFIED:20250225T081246Z
UID:9149-1741374000-1741374000@visit.chomutov.cz
SUMMARY:Petr Pelzmann\, Lenka Tyrpeklová - Happy Lucky
DESCRIPTION:vernisáž výstavy
URL:https://visit.chomutov.cz/kalendar/petr-pelzmann-lenka-tyrpeklova-happy-lucky/
LOCATION:Druhé PATRO\, Ruská 17\, Chomutov
CATEGORIES:výstavy
ATTACH;FMTTYPE=image/jpeg:https://visit.chomutov.cz/wp-content/uploads/2025/02/Happy-Lucky.jpg
END:VEVENT
BEGIN:VEVENT
DTSTART;TZID=Europe/Prague:20250215T100000
DTEND;TZID=Europe/Prague:20250215T160000
DTSTAMP:20260421T121541
CREATED:20250131T092659Z
LAST-MODIFIED:20250131T092659Z
UID:9110-1739613600-1739635200@visit.chomutov.cz
SUMMARY:Valentýnská dílna
DESCRIPTION:k výstavě Folklor žije
URL:https://visit.chomutov.cz/kalendar/valentynska-dilna/
LOCATION:Oblastní muzeum v Chomutově – hlavní budova\, Palackého 86\, Chomutov\, Česká republika
CATEGORIES:výstavy,vzdělávání
ATTACH;FMTTYPE=image/jpeg:https://visit.chomutov.cz/wp-content/uploads/2025/01/pexels-pixabay-159038.jpg
ORGANIZER;CN="Oblastn%C3%AD%20muzeum%20v%20Chomutov%C4%9B":MAILTO:sekretariat@muzeumchomutov.cz
END:VEVENT
BEGIN:VEVENT
DTSTART;VALUE=DATE:20250207
DTEND;VALUE=DATE:20250331
DTSTAMP:20260421T121541
CREATED:20250130T111245Z
LAST-MODIFIED:20250130T111245Z
UID:9019-1738886400-1743379199@visit.chomutov.cz
SUMMARY:Hermann Karuße Krušnohoří 1904-1930
DESCRIPTION:Vernisáž výstavy 7.2. v 17.00 hodin
URL:https://visit.chomutov.cz/kalendar/hermann-karuse-krusnohori-1904-1930/
LOCATION:Kostel sv. Kateřiny\, Chelčického 100\, Chomutov
CATEGORIES:výstavy
ATTACH;FMTTYPE=image/jpeg:https://visit.chomutov.cz/wp-content/uploads/2025/01/Hermann-Krausse-scaled.jpg
ORGANIZER;CN="Oblastn%C3%AD%20muzeum%20v%20Chomutov%C4%9B":MAILTO:sekretariat@muzeumchomutov.cz
END:VEVENT
BEGIN:VEVENT
DTSTART;VALUE=DATE:20250206
DTEND;VALUE=DATE:20250330
DTSTAMP:20260421T121541
CREATED:20250130T110120Z
LAST-MODIFIED:20250130T110120Z
UID:9016-1738800000-1743292799@visit.chomutov.cz
SUMMARY:Slepá víra -  Matěj Hrbek a Eduardo Lara
DESCRIPTION:Vernisáž výstavy 6.2. od 17.00 hodin
URL:https://visit.chomutov.cz/kalendar/slepa-vira-matej-hrbek-a-eduardo-lara/
LOCATION:Galerie Špejchar\, Palackého 85\, Chomutov
CATEGORIES:výstavy
ATTACH;FMTTYPE=image/jpeg:https://visit.chomutov.cz/wp-content/uploads/2025/01/Slepa-vira-scaled.jpg
END:VEVENT
BEGIN:VEVENT
DTSTART;VALUE=DATE:20250203
DTEND;VALUE=DATE:20250204
DTSTAMP:20260421T121541
CREATED:20250130T105040Z
LAST-MODIFIED:20250130T105040Z
UID:9013-1738540800-1738627199@visit.chomutov.cz
SUMMARY:WeFlow- Síla barev
DESCRIPTION:vernisáž výstavy Kateřiny Stuchlíkové a Martiny Turner
URL:https://visit.chomutov.cz/kalendar/weflow-sila-barev/
LOCATION:Café Atrium\, Palackého 85\, Chomutov
CATEGORIES:výstavy
ATTACH;FMTTYPE=image/jpeg:https://visit.chomutov.cz/wp-content/uploads/2025/01/WeFlow.jpg
ORGANIZER;CN="Masopust%2C%20z.s.":MAILTO:info@masopustspolek.cz
END:VEVENT
BEGIN:VEVENT
DTSTART;TZID=Europe/Prague:20250122T170000
DTEND;TZID=Europe/Prague:20250122T170000
DTSTAMP:20260421T121541
CREATED:20241216T140908Z
LAST-MODIFIED:20241216T142748Z
UID:8845-1737565200-1737565200@visit.chomutov.cz
SUMMARY:Jan Veselý - vernisáž výstavy obrazů
DESCRIPTION:
URL:https://visit.chomutov.cz/kalendar/jan-vesely-vernisaz-vystavy-obrazu/
LOCATION:Galerie Lurago\, Palackého 85\, Chomutov
CATEGORIES:výstavy
ATTACH;FMTTYPE=image/jpeg:https://visit.chomutov.cz/wp-content/uploads/2024/12/lurago.jpg
END:VEVENT
BEGIN:VEVENT
DTSTART;TZID=Europe/Prague:20241207T110000
DTEND;TZID=Europe/Prague:20241207T110000
DTSTAMP:20260421T121541
CREATED:20241125T155617Z
LAST-MODIFIED:20241129T091746Z
UID:8599-1733569200-1733569200@visit.chomutov.cz
SUMMARY:Folklór žije
DESCRIPTION:vernisáž výstavy a adventní dílna\n18.00 vystoupení FS Krušnohor (OM kostel sv. Kateřiny)
URL:https://visit.chomutov.cz/kalendar/folklor-zije/
LOCATION:Oblastní muzeum v Chomutově – hlavní budova\, Palackého 86\, Chomutov\, Česká republika
CATEGORIES:Vánoce,výstavy,vzdělávání
ATTACH;FMTTYPE=image/jpeg:https://visit.chomutov.cz/wp-content/uploads/2024/11/Folklor.jpg
ORGANIZER;CN="Oblastn%C3%AD%20muzeum%20v%20Chomutov%C4%9B":MAILTO:sekretariat@muzeumchomutov.cz
END:VEVENT
BEGIN:VEVENT
DTSTART;VALUE=DATE:20241203
DTEND;VALUE=DATE:20250118
DTSTAMP:20260421T121541
CREATED:20241125T141736Z
LAST-MODIFIED:20241126T075625Z
UID:8543-1733184000-1737158399@visit.chomutov.cz
SUMMARY:6 Naplech - obrazy malované smaltem
DESCRIPTION:Helena Hlušičková / Kamila Housová Mizerová / Magda Jochcová/ Daniela Kosová / Jana Krejzová / Markéta Škopková\nvernisáž výstavy 03.12. v 17.00 hodin
URL:https://visit.chomutov.cz/kalendar/6-naplech-obrazy-malovane-smaltem/
LOCATION:Galerie Lurago\, Palackého 85\, Chomutov
CATEGORIES:výstavy
ATTACH;FMTTYPE=image/jpeg:https://visit.chomutov.cz/wp-content/uploads/2024/11/Naplech.jpg
END:VEVENT
END:VCALENDAR