BEGIN:VCALENDAR
VERSION:2.0
PRODID:-//Visit Chomutov - ECPv5.14.2.1//NONSGML v1.0//EN
CALSCALE:GREGORIAN
METHOD:PUBLISH
X-WR-CALNAME:Visit Chomutov
X-ORIGINAL-URL:https://visit.chomutov.cz
X-WR-CALDESC:Akce na Visit Chomutov
REFRESH-INTERVAL;VALUE=DURATION:PT1H
X-Robots-Tag:noindex
X-PUBLISHED-TTL:PT1H
BEGIN:VTIMEZONE
TZID:Europe/Prague
BEGIN:DAYLIGHT
TZOFFSETFROM:+0100
TZOFFSETTO:+0200
TZNAME:CEST
DTSTART:20220327T010000
END:DAYLIGHT
BEGIN:STANDARD
TZOFFSETFROM:+0200
TZOFFSETTO:+0100
TZNAME:CET
DTSTART:20221030T010000
END:STANDARD
BEGIN:DAYLIGHT
TZOFFSETFROM:+0100
TZOFFSETTO:+0200
TZNAME:CEST
DTSTART:20230326T010000
END:DAYLIGHT
BEGIN:STANDARD
TZOFFSETFROM:+0200
TZOFFSETTO:+0100
TZNAME:CET
DTSTART:20231029T010000
END:STANDARD
END:VTIMEZONE
BEGIN:VEVENT
DTSTART;VALUE=DATE:20221201
DTEND;VALUE=DATE:20221231
DTSTAMP:20260422T042008
CREATED:20221128T080423Z
LAST-MODIFIED:20221128T080435Z
UID:2940-1669852800-1672444799@visit.chomutov.cz
SUMMARY:Romano suno
DESCRIPTION:Romano suno je putovní výstava obecně prospěšné organizace Nová škola. Výstava představuje to nejlepší z historie literární a výtvarné soutěže Romano suno\, která prostřednictvím dětských kreseb a krátkých textů v romském a českém jazyce ukazuje svět viděný očima a srdcem romských dětí a mladých dospělých.
URL:https://visit.chomutov.cz/kalendar/romano-suno/
LOCATION:Galerie Na síti – Chomutovská knihovna\, Palackého 4995\, Chomutov\, 43001
CATEGORIES:výstavy
ATTACH;FMTTYPE=image/jpeg:https://visit.chomutov.cz/wp-content/uploads/2022/11/romano-suno.jpg
END:VEVENT
BEGIN:VEVENT
DTSTART;VALUE=DATE:20221111
DTEND;VALUE=DATE:20230121
DTSTAMP:20260422T042008
CREATED:20221102T115524Z
LAST-MODIFIED:20221102T115754Z
UID:2722-1668124800-1674259199@visit.chomutov.cz
SUMMARY:Restart 60 -Milan Pecák a Martin Zhouf
DESCRIPTION:souběžné výstavy k životnímu jubileu v Galerii Lurago a Galerii Špejchar
URL:https://visit.chomutov.cz/kalendar/restart-60-milan-pecak-a-martin-zhouf/
LOCATION:Chomutovská knihovna\, Palackého 4995\, Chomutov
CATEGORIES:výstavy
ATTACH;FMTTYPE=image/jpeg:https://visit.chomutov.cz/wp-content/uploads/2022/11/Martin-Zhouf-a-Milan-Pecak.jpg
END:VEVENT
BEGIN:VEVENT
DTSTART;VALUE=DATE:20221108
DTEND;VALUE=DATE:20221110
DTSTAMP:20260422T042008
CREATED:20221006T082256Z
LAST-MODIFIED:20221006T083251Z
UID:2669-1667865600-1668038399@visit.chomutov.cz
SUMMARY:Výstava vzdělávání 2023
DESCRIPTION:
URL:https://visit.chomutov.cz/kalendar/vystava-vzdelavani-2023/
LOCATION:Městská sportovní hala\, Mánesova 4980\, Chomutov
CATEGORIES:výstavy,vzdělávání
ATTACH;FMTTYPE=image/jpeg:https://visit.chomutov.cz/wp-content/uploads/2022/10/Plakat_A2_Vystava_Vzdelavani_2023-page-001-scaled.jpg
ORGANIZER;CN="Okresn%C3%AD%20hospod%C3%A1%C5%99sk%C3%A1%20komora%20v%20Chomutov%C4%9B":MAILTO:info@ohkcv.cz
END:VEVENT
BEGIN:VEVENT
DTSTART;VALUE=DATE:20221102
DTEND;VALUE=DATE:20221201
DTSTAMP:20260422T042008
CREATED:20221102T114504Z
LAST-MODIFIED:20221102T114526Z
UID:2714-1667347200-1669852799@visit.chomutov.cz
SUMMARY:Můj nejhorší den
DESCRIPTION:Putovní výstava obrazů dětí a mládeže z nízkoprahových organizací\, pořádaná neziskovou organizací Světlo Kadaň z.s. \nVernisáž 2.11. v 16.00 hodin \nGalerie Na Drátkách
URL:https://visit.chomutov.cz/kalendar/muj-nejhorsi-den/
LOCATION:Chomutovská knihovna\, Palackého 4995\, Chomutov
CATEGORIES:výstavy
ATTACH;FMTTYPE=image/jpeg:https://visit.chomutov.cz/wp-content/uploads/2022/11/Nejhorsi-den-1.jpg
END:VEVENT
BEGIN:VEVENT
DTSTART;VALUE=DATE:20221101
DTEND;VALUE=DATE:20230101
DTSTAMP:20260422T042008
CREATED:20221102T113318Z
LAST-MODIFIED:20221102T113540Z
UID:2709-1667260800-1672531199@visit.chomutov.cz
SUMMARY:Barevné proměny Klubu přátel malování
DESCRIPTION:Vernisáž 4.11. v 17.00 hodin
URL:https://visit.chomutov.cz/kalendar/barevne-promeny-klubu-pratel-malovani/
LOCATION:Jacques café\, Puchmayerova 118/9\, Chomutov\, 43001
CATEGORIES:výstavy
ATTACH;FMTTYPE=image/jpeg:https://visit.chomutov.cz/wp-content/uploads/2022/11/Jacques-cafe-listopad.jpg
END:VEVENT
BEGIN:VEVENT
DTSTART;VALUE=DATE:20221022
DTEND;VALUE=DATE:20230226
DTSTAMP:20260422T042008
CREATED:20220922T120334Z
LAST-MODIFIED:20221005T112959Z
UID:2470-1666396800-1677369599@visit.chomutov.cz
SUMMARY:Rodina - sochy Michaela Bílka
DESCRIPTION:Vernisáž výstavy 22.10. v 15.00 hodin
URL:https://visit.chomutov.cz/kalendar/rodina-sochy-michaela-bilka/
LOCATION:Oblastní muzeum v Chomutově – radnice\, nám. 1. máje 1\, Chomutov
CATEGORIES:výstavy
ATTACH;FMTTYPE=image/jpeg:https://visit.chomutov.cz/wp-content/uploads/2022/09/svjosef-foto-k-propagaci-003.jpg
ORGANIZER;CN="Oblastn%C3%AD%20muzeum%20v%20Chomutov%C4%9B":MAILTO:sekretariat@muzeumchomutov.cz
END:VEVENT
BEGIN:VEVENT
DTSTART;TZID=Europe/Prague:20221017T160000
DTEND;TZID=Europe/Prague:20221017T160000
DTSTAMP:20260422T042008
CREATED:20220922T114750Z
LAST-MODIFIED:20220922T114846Z
UID:2468-1666022400-1666022400@visit.chomutov.cz
SUMMARY:Kdesi
DESCRIPTION:Vernisáž obrazů Mirky Beranové
URL:https://visit.chomutov.cz/kalendar/kdesi/
LOCATION:Café Atrium\, Palackého 85\, Chomutov
CATEGORIES:výstavy
ATTACH;FMTTYPE=image/png:https://visit.chomutov.cz/wp-content/uploads/2022/09/2022-masopust-logo.png
ORGANIZER;CN="Masopust%2C%20z.s.":MAILTO:info@masopustspolek.cz
END:VEVENT
BEGIN:VEVENT
DTSTART;VALUE=DATE:20221007
DTEND;VALUE=DATE:20221101
DTSTAMP:20260422T042008
CREATED:20220922T121553Z
LAST-MODIFIED:20220926T101607Z
UID:2476-1665100800-1667260799@visit.chomutov.cz
SUMMARY:KOMenský v KOMiksu
DESCRIPTION:Putovní výstava Národního pedagogického muzea a knihovny J. A. Komenského Praha.
URL:https://visit.chomutov.cz/kalendar/komensky-v-komiksu/
LOCATION:Chomutovská knihovna\, Palackého 4995\, Chomutov
CATEGORIES:pro děti,výstavy
ATTACH;FMTTYPE=image/jpeg:https://visit.chomutov.cz/wp-content/uploads/2022/09/s-komenskym-do-komiksu.jpg
END:VEVENT
BEGIN:VEVENT
DTSTART;VALUE=DATE:20221003
DTEND;VALUE=DATE:20221201
DTSTAMP:20260422T042008
CREATED:20220921T084908Z
LAST-MODIFIED:20220922T121226Z
UID:2463-1664755200-1669852799@visit.chomutov.cz
SUMMARY:Výstava Evropa 2050\, Evropa\, ve které chci žít
DESCRIPTION:Vernisáž 3.10. v 16.00 hodin
URL:https://visit.chomutov.cz/kalendar/vystava-evropa-2050-evropa-ve-ktere-chci-zit/
LOCATION:Galerie Lurago\, Palackého 85\, Chomutov
CATEGORIES:pro děti,výstavy
ATTACH;FMTTYPE=image/jpeg:https://visit.chomutov.cz/wp-content/uploads/2022/09/Evropa-2050-resize-e1692625361159.jpg
ORGANIZER;CN="Statut%C3%A1rn%C3%AD%20m%C4%9Bsto%20Chomutov":MAILTO:infocentrum@chomutov.cz
END:VEVENT
BEGIN:VEVENT
DTSTART;VALUE=DATE:20221003
DTEND;VALUE=DATE:20221028
DTSTAMP:20260422T042008
CREATED:20220905T142634Z
LAST-MODIFIED:20220922T121423Z
UID:2265-1664755200-1666915199@visit.chomutov.cz
SUMMARY:Putování židovskou historií
DESCRIPTION:Putovní výstava z knihy Cha cha chá\, zasmál se Mordechaj s ilustracemi Vojty Šedy ve spolupráci s nakladatelstvím Argo.
URL:https://visit.chomutov.cz/kalendar/putovani-zidovskou-historii/
LOCATION:Chomutovská knihovna\, Palackého 4995\, Chomutov
CATEGORIES:výstavy
ATTACH;FMTTYPE=image/jpeg:https://visit.chomutov.cz/wp-content/uploads/2022/09/zidi.jpg
END:VEVENT
BEGIN:VEVENT
DTSTART;VALUE=DATE:20220915
DTEND;VALUE=DATE:20221028
DTSTAMP:20260422T042008
CREATED:20220905T142050Z
LAST-MODIFIED:20220905T142050Z
UID:2262-1663200000-1666915199@visit.chomutov.cz
SUMMARY:Ve vlnách imaginace
DESCRIPTION:
URL:https://visit.chomutov.cz/kalendar/pavel-janouskovec/
LOCATION:Galerie Špejchar\, Palackého 85\, Chomutov
CATEGORIES:výstavy
ATTACH;FMTTYPE=image/jpeg:https://visit.chomutov.cz/wp-content/uploads/2022/09/janouskovec-scaled.jpg
END:VEVENT
BEGIN:VEVENT
DTSTART;VALUE=DATE:20220901
DTEND;VALUE=DATE:20230101
DTSTAMP:20260422T042008
CREATED:20220518T052520Z
LAST-MODIFIED:20220905T142756Z
UID:893-1661990400-1672531199@visit.chomutov.cz
SUMMARY:Svět z kostiček
DESCRIPTION:procestujte s námi svět složený z lega\, k vidění až 120 exponátů složených z kostek lega \nPO – PÁ 8.00 – 18.00\, SO 9 – 12.00
URL:https://visit.chomutov.cz/kalendar/svet-z-kosticek/
LOCATION:Chomutovská knihovna\, Palackého 4995\, Chomutov
CATEGORIES:výstavy
ATTACH;FMTTYPE=image/jpeg:https://visit.chomutov.cz/wp-content/uploads/2022/05/LEGO-zari-2021-1-scaled.jpg
END:VEVENT
BEGIN:VEVENT
DTSTART;VALUE=DATE:20220817
DTEND;VALUE=DATE:20220917
DTSTAMP:20260422T042008
CREATED:20220805T073429Z
LAST-MODIFIED:20220805T074203Z
UID:2160-1660694400-1663372799@visit.chomutov.cz
SUMMARY:Žena magická - Petr z Brd a Pavel ze Sudet
DESCRIPTION:
URL:https://visit.chomutov.cz/kalendar/zena-magicka-petr-z-brd-a-pavel-ze-sudet/
LOCATION:Galerie Lurago\, Palackého 85\, Chomutov
CATEGORIES:výstavy
ATTACH;FMTTYPE=image/jpeg:https://visit.chomutov.cz/wp-content/uploads/2022/08/zena-magicka-web-scaled.jpg
END:VEVENT
BEGIN:VEVENT
DTSTART;VALUE=DATE:20220805
DTEND;VALUE=DATE:20220911
DTSTAMP:20260422T042008
CREATED:20220805T074142Z
LAST-MODIFIED:20220905T142912Z
UID:2163-1659657600-1662854399@visit.chomutov.cz
SUMMARY:Výstava panenek
DESCRIPTION:Výstava panenek ze soukromé sbírky Heleny Požárkové Duškové a Veroniky Janurové
URL:https://visit.chomutov.cz/kalendar/vystava-panenek/
LOCATION:Chomutovská knihovna\, Palackého 4995\, Chomutov
CATEGORIES:výstavy
ATTACH;FMTTYPE=image/jpeg:https://visit.chomutov.cz/wp-content/uploads/2022/08/panenky.jpg
END:VEVENT
BEGIN:VEVENT
DTSTART;VALUE=DATE:20220624
DTEND;VALUE=DATE:20220926
DTSTAMP:20260422T042008
CREATED:20220519T201516Z
LAST-MODIFIED:20220601T115746Z
UID:1187-1656028800-1664150399@visit.chomutov.cz
SUMMARY:Vzestup a pád portrétní miniatury
DESCRIPTION:Vernisáž výstavy 24.6. od 16.00 hodin
URL:https://visit.chomutov.cz/kalendar/vzestup-a-pad-portretni-miniatury/
LOCATION:Oblastní muzeum v Chomutově – hlavní budova\, Palackého 86\, Chomutov\, Česká republika
CATEGORIES:výstavy
ATTACH;FMTTYPE=image/jpeg:https://visit.chomutov.cz/wp-content/uploads/2022/05/portretni-miniatura.jpg
END:VEVENT
BEGIN:VEVENT
DTSTART;VALUE=DATE:20220618
DTEND;VALUE=DATE:20220925
DTSTAMP:20260422T042008
CREATED:20220519T201159Z
LAST-MODIFIED:20220523T160754Z
UID:1185-1655510400-1664063999@visit.chomutov.cz
SUMMARY:Evy z Efy
DESCRIPTION:Výstava aktů fotoamatérů z Erlangenu. \nVernisáž 18. 6. od 11.00 hodin.
URL:https://visit.chomutov.cz/kalendar/evy-z-efy/
LOCATION:Oblastní muzeum v Chomutově – radnice\, nám. 1. máje 1\, Chomutov
CATEGORIES:výstavy
ATTACH;FMTTYPE=image/jpeg:https://visit.chomutov.cz/wp-content/uploads/2022/05/pexels-evelyn-chong-848447-scaled.jpg
END:VEVENT
BEGIN:VEVENT
DTSTART;VALUE=DATE:20220613
DTEND;VALUE=DATE:20220730
DTSTAMP:20260422T042008
CREATED:20220519T200806Z
LAST-MODIFIED:20220520T121405Z
UID:1182-1655078400-1659139199@visit.chomutov.cz
SUMMARY:Jitka Kůsová - Tišina duše
DESCRIPTION:Výstava obrazů a soch u příležitosti životního jubilea umělkyně Jitky Kůsové. \nVernisáž 13.6. od 17.00 hodin.
URL:https://visit.chomutov.cz/kalendar/jitka-kusova-tisina-duse/
LOCATION:Galerie Lurago\, Palackého 85\, Chomutov
CATEGORIES:výstavy
ATTACH;FMTTYPE=image/jpeg:https://visit.chomutov.cz/wp-content/uploads/2022/05/kusova.jpg
END:VEVENT
BEGIN:VEVENT
DTSTART;VALUE=DATE:20220608
DTEND;VALUE=DATE:20220901
DTSTAMP:20260422T042008
CREATED:20220519T200550Z
LAST-MODIFIED:20220520T123352Z
UID:1180-1654646400-1661990399@visit.chomutov.cz
SUMMARY:Můj/Náš svět
DESCRIPTION:Výstava kreseb děti mateřských a základních škol. \nGalerie Na Síti a Na Drátkách
URL:https://visit.chomutov.cz/kalendar/muj-nas-svet/
LOCATION:Chomutovská knihovna\, Palackého 4995\, Chomutov
CATEGORIES:výstavy
ATTACH;FMTTYPE=image/jpeg:https://visit.chomutov.cz/wp-content/uploads/2022/05/pexels-vlada-karpovich-7025515.jpg
END:VEVENT
BEGIN:VEVENT
DTSTART;VALUE=DATE:20220607
DTEND;VALUE=DATE:20220901
DTSTAMP:20260422T042008
CREATED:20220519T200326Z
LAST-MODIFIED:20220530T134125Z
UID:1178-1654560000-1661990399@visit.chomutov.cz
SUMMARY:Stíny hvězd
DESCRIPTION:Výstava obrazů – Andrea Ehret a Sandra Carvajal. \nVernisáž 7.6. od 17.00 hodin
URL:https://visit.chomutov.cz/kalendar/stiny-hvezd/
LOCATION:Galerie Špejchar\, Palackého 85\, Chomutov
CATEGORIES:výstavy
ATTACH;FMTTYPE=image/jpeg:https://visit.chomutov.cz/wp-content/uploads/2022/05/ehret-carvajal.jpg
END:VEVENT
BEGIN:VEVENT
DTSTART;TZID=Europe/Prague:20220518T100000
DTEND;TZID=Europe/Prague:20220531T170000
DTSTAMP:20260422T042008
CREATED:20220518T052048Z
LAST-MODIFIED:20220519T183237Z
UID:884-1652868000-1654016400@visit.chomutov.cz
SUMMARY:Jiří Sajner - Jižní Amerika
DESCRIPTION:Výstava fotografií\nPO – PÁ 10.00 – 17.00\, So 9.00 – 12.00
URL:https://visit.chomutov.cz/kalendar/jizni-amerika-jiri-sajner/
LOCATION:Galerie Lurago\, Palackého 85\, Chomutov
CATEGORIES:výstavy
ATTACH;FMTTYPE=image/jpeg:https://visit.chomutov.cz/wp-content/uploads/2022/05/Jiri-Sajner.jpg
END:VEVENT
BEGIN:VEVENT
DTSTART;TZID=Europe/Prague:20220518T100000
DTEND;TZID=Europe/Prague:20220527T170000
DTSTAMP:20260422T042008
CREATED:20220518T051928Z
LAST-MODIFIED:20220519T183013Z
UID:881-1652868000-1653670800@visit.chomutov.cz
SUMMARY:Jan Dinga - Obrazy
DESCRIPTION:Výstava k 70. výročí narození\nPO – PÁ 10.00 – 17.00\, So 10.00 – 12.00
URL:https://visit.chomutov.cz/kalendar/jan-dinga-obrazy/
LOCATION:Galerie Špejchar\, Palackého 85\, Chomutov
CATEGORIES:výstavy
ATTACH;FMTTYPE=image/jpeg:https://visit.chomutov.cz/wp-content/uploads/2022/05/Dinga-web-scaled.jpg
END:VEVENT
BEGIN:VEVENT
DTSTART;TZID=Europe/Prague:20220518T090000
DTEND;TZID=Europe/Prague:20220625T170000
DTSTAMP:20260422T042008
CREATED:20220518T052347Z
LAST-MODIFIED:20220519T102239Z
UID:891-1652864400-1656176400@visit.chomutov.cz
SUMMARY:Volyňští Češi
DESCRIPTION:Výstava představí příběh volyňských Čechů v regionu po jejich příchodu do ČSR v roce 1946. Hlavní tahákem výstavy jsou nejrůznější předměty\, které si volyňští Češi přivezli s sebou. Zajímavá je skladba těchto věcí\, protože každý se připravoval na začátek nového života ve staré vlasti jinak \nÚT-PÁ 9.00-17.00\, SO 13.00-17.00
URL:https://visit.chomutov.cz/kalendar/volynsti-cesi/
LOCATION:Oblastní muzeum v Chomutově – hlavní budova\, Palackého 86\, Chomutov\, Česká republika
CATEGORIES:výstavy
ATTACH;FMTTYPE=image/png:https://visit.chomutov.cz/wp-content/uploads/2022/05/volynsti-cesi.png
END:VEVENT
BEGIN:VEVENT
DTSTART;TZID=Europe/Prague:20220518T090000
DTEND;TZID=Europe/Prague:20220612T170000
DTSTAMP:20260422T042008
CREATED:20220518T052226Z
LAST-MODIFIED:20220518T064500Z
UID:888-1652864400-1655053200@visit.chomutov.cz
SUMMARY:Retrogaming – Počátky osobních počítačů u nás
DESCRIPTION:Chcete se podívat a osobně si vyzkoušet\, na čem se pracovalo a hrálo v úplném pravěku počítačové techniky? Máte rádi počítačové hry a zajímá vás\, jak to všechno začalo? Jestli ano\, výstava Retrogaming je právě pro vás jako ušitá! \nÚT-PÁ 9.00-17.00\, SO 13.00-17.00
URL:https://visit.chomutov.cz/kalendar/retrogaming-pocatky-osobnich-pocitacu-u-nas/
LOCATION:Oblastní muzeum v Chomutově – radnice\, nám. 1. máje 1\, Chomutov
CATEGORIES:výstavy
ATTACH;FMTTYPE=image/jpeg:https://visit.chomutov.cz/wp-content/uploads/2022/05/1280px-Lange_Nacht_der_Computerspiele_1.jpg
END:VEVENT
BEGIN:VEVENT
DTSTART;TZID=Europe/Prague:20220517T090000
DTEND;TZID=Europe/Prague:20220522T170000
DTSTAMP:20260422T042008
CREATED:20220517T141856Z
LAST-MODIFIED:20220519T100953Z
UID:873-1652778000-1653238800@visit.chomutov.cz
SUMMARY:770. výročí darovací listiny města Chomutova
DESCRIPTION:Vystavení listiny. Věrná kopie darovací listiny Bedřicha z Chomutova ze dne 29. března 1252 v rámci výročního jubilea bude vystavena v prostorách stálé expozice gotického umění ve starobylé radnici. K výstavě bude uspořádán edukační program a aktivity pro rodiny s dětmi. \nÚT-PÁ 9.00-17.00\nSO 13.00-17.00
URL:https://visit.chomutov.cz/kalendar/770-vyroci-darovaci-listiny-mesta-chomutova/
LOCATION:Oblastní muzeum v Chomutově – radnice\, nám. 1. máje 1\, Chomutov
CATEGORIES:výstavy
ATTACH;FMTTYPE=image/jpeg:https://visit.chomutov.cz/wp-content/uploads/2022/05/scanfaksimile-darovaci-listiny-z-roku-1252_1.jpg
END:VEVENT
BEGIN:VEVENT
DTSTART;VALUE=DATE:20220513
DTEND;VALUE=DATE:20220528
DTSTAMP:20260422T042008
CREATED:20220517T140807Z
LAST-MODIFIED:20220519T123531Z
UID:867-1652400000-1653695999@visit.chomutov.cz
SUMMARY:Pěstounství
DESCRIPTION:Výstava velkoformátových pláten s názvem „Jsem pěstoun“\, kterou Ústeckém kraji zapůjčila  Nadace J&T a posouvá téma propagace pěstounské péče blíže k lidem.
URL:https://visit.chomutov.cz/kalendar/pestounstvi/
LOCATION:Kino Svět
CATEGORIES:výstavy
ATTACH;FMTTYPE=image/jpeg:https://visit.chomutov.cz/wp-content/uploads/2022/05/pestounska-pece-2.jpg
END:VEVENT
END:VCALENDAR