BEGIN:VCALENDAR
VERSION:2.0
PRODID:-//Visit Chomutov - ECPv5.14.2.1//NONSGML v1.0//EN
CALSCALE:GREGORIAN
METHOD:PUBLISH
X-WR-CALNAME:Visit Chomutov
X-ORIGINAL-URL:https://visit.chomutov.cz
X-WR-CALDESC:Akce na Visit Chomutov
REFRESH-INTERVAL;VALUE=DURATION:PT1H
X-Robots-Tag:noindex
X-PUBLISHED-TTL:PT1H
BEGIN:VTIMEZONE
TZID:Europe/Prague
BEGIN:DAYLIGHT
TZOFFSETFROM:+0100
TZOFFSETTO:+0200
TZNAME:CEST
DTSTART:20220327T010000
END:DAYLIGHT
BEGIN:STANDARD
TZOFFSETFROM:+0200
TZOFFSETTO:+0100
TZNAME:CET
DTSTART:20221030T010000
END:STANDARD
BEGIN:DAYLIGHT
TZOFFSETFROM:+0100
TZOFFSETTO:+0200
TZNAME:CEST
DTSTART:20230326T010000
END:DAYLIGHT
BEGIN:STANDARD
TZOFFSETFROM:+0200
TZOFFSETTO:+0100
TZNAME:CET
DTSTART:20231029T010000
END:STANDARD
END:VTIMEZONE
BEGIN:VEVENT
DTSTART;VALUE=DATE:20230627
DTEND;VALUE=DATE:20230728
DTSTAMP:20260422T023808
CREATED:20230524T144833Z
LAST-MODIFIED:20230524T144833Z
UID:3938-1687824000-1690502399@visit.chomutov.cz
SUMMARY:Ježkův svět - výstava obrazů
DESCRIPTION:Zdeněk Ježek Rada\, Tereza Radová a Čeněk Žiaček \nVernisáž 27.6 v 17.00 hodin
URL:https://visit.chomutov.cz/kalendar/jezkuv-svet-vystava-obrazu/
LOCATION:Galerie Lurago\, Palackého 85\, Chomutov
CATEGORIES:výstavy
ATTACH;FMTTYPE=image/png:https://visit.chomutov.cz/wp-content/uploads/2023/05/Zdenek-Rada.png
END:VEVENT
BEGIN:VEVENT
DTSTART;VALUE=DATE:20230606
DTEND;VALUE=DATE:20230921
DTSTAMP:20260422T023808
CREATED:20230524T143102Z
LAST-MODIFIED:20230524T143102Z
UID:3935-1686009600-1695254399@visit.chomutov.cz
SUMMARY:Radovan Smokoň - Pohlednice Česka
DESCRIPTION:
URL:https://visit.chomutov.cz/kalendar/radovan-smokon-pohlednice-ceska/
LOCATION:Café Atrium\, Palackého 85\, Chomutov
CATEGORIES:výstavy
ATTACH;FMTTYPE=image/png:https://visit.chomutov.cz/wp-content/uploads/2023/05/Pohlednice-Ceska-Smokon.png
ORGANIZER;CN="Masopust%2C%20z.s.":MAILTO:info@masopustspolek.cz
END:VEVENT
BEGIN:VEVENT
DTSTART;VALUE=DATE:20230603
DTEND;VALUE=DATE:20230604
DTSTAMP:20260422T023808
CREATED:20230524T142739Z
LAST-MODIFIED:20230524T142739Z
UID:3933-1685750400-1685836799@visit.chomutov.cz
SUMMARY:Otevření nové expozice archeologie
DESCRIPTION:Germánská vesnička s ochutnávkou jídel i módní přehlídkou
URL:https://visit.chomutov.cz/kalendar/otevreni-nove-expozice-archeologie/
LOCATION:Oblastní muzeum v Chomutově – hlavní budova\, Palackého 86\, Chomutov\, Česká republika
CATEGORIES:výstavy
ATTACH;FMTTYPE=image/jpeg:https://visit.chomutov.cz/wp-content/uploads/2021/11/Hvezdarska-vez-muzeum-Velke.jpg
END:VEVENT
BEGIN:VEVENT
DTSTART;VALUE=DATE:20230601
DTEND;VALUE=DATE:20230630
DTSTAMP:20260422T023808
CREATED:20230524T142251Z
LAST-MODIFIED:20230524T142251Z
UID:3931-1685577600-1688083199@visit.chomutov.cz
SUMMARY:Minisalon výtvarného oboru ZUŠ
DESCRIPTION:výstava výtvarných a grafických prací žáků výtvarného oddělení pod vedením pedagogů J. Zdráhalové\, L. Chabra a J. Obersteina \nVernisáž 1.6. v 16.00 hodin.
URL:https://visit.chomutov.cz/kalendar/minisalon-vytvarneho-oboru-zus/
LOCATION:ZUŠ T. G. Masaryka\, nám. T. G. Masaryka 1626\, Chomutov
CATEGORIES:výstavy
ATTACH;FMTTYPE=image/jpeg:https://visit.chomutov.cz/wp-content/uploads/2022/05/pexels-vlada-karpovich-7025515.jpg
END:VEVENT
BEGIN:VEVENT
DTSTART;VALUE=DATE:20230519
DTEND;VALUE=DATE:20230522
DTSTAMP:20260422T023808
CREATED:20230502T072222Z
LAST-MODIFIED:20230502T115759Z
UID:3729-1684454400-1684713599@visit.chomutov.cz
SUMMARY:Modro-bílý svět - výstava krajkářských prací
DESCRIPTION:Přehlídka krušnohorské šité a paličkované krajky\nSlavnostní ocenění pro nejlepší krajkářská díla 20.5. v 15.00 hodin.
URL:https://visit.chomutov.cz/kalendar/modro-bily-svet-vystava-krajkarskych-praci/
LOCATION:Oblastní muzeum v Chomutově – hlavní budova\, Palackého 86\, Chomutov\, Česká republika
CATEGORIES:výstavy
ATTACH;FMTTYPE=image/jpeg:https://visit.chomutov.cz/wp-content/uploads/2023/05/Modro-bily-svet.jpg
ORGANIZER;CN="Oblastn%C3%AD%20muzeum%20v%20Chomutov%C4%9B":MAILTO:sekretariat@muzeumchomutov.cz
END:VEVENT
BEGIN:VEVENT
DTSTART;VALUE=DATE:20230518
DTEND;VALUE=DATE:20240101
DTSTAMP:20260422T023808
CREATED:20230502T071851Z
LAST-MODIFIED:20230502T071851Z
UID:3726-1684368000-1704067199@visit.chomutov.cz
SUMMARY:Výstava století - 100 let muzea v Chomutově
DESCRIPTION:Vernisáž výstavy 18.5. v 17 hodin.
URL:https://visit.chomutov.cz/kalendar/vystava-stoleti-100-let-muzea-v-chomutove/
LOCATION:Kostel sv. Kateřiny\, Chelčického 100\, Chomutov
CATEGORIES:výstavy
ATTACH;FMTTYPE=image/jpeg:https://visit.chomutov.cz/wp-content/uploads/2023/05/muzeum-100let-plakat-A2-2304-page-001-scaled.jpg
ORGANIZER;CN="Oblastn%C3%AD%20muzeum%20v%20Chomutov%C4%9B":MAILTO:sekretariat@muzeumchomutov.cz
END:VEVENT
BEGIN:VEVENT
DTSTART;VALUE=DATE:20230512
DTEND;VALUE=DATE:20230610
DTSTAMP:20260422T023808
CREATED:20230502T071449Z
LAST-MODIFIED:20230502T071522Z
UID:3722-1683849600-1686355199@visit.chomutov.cz
SUMMARY:VIII. Chomutovský výtvarný salon  2023
DESCRIPTION:Vernisáž výstavy 12.5. v 19.30 hodin.
URL:https://visit.chomutov.cz/kalendar/viii-chomutovsky-vytvarny-salon-2023/
LOCATION:Sklepení Osudu\, Revoluční 48/13\, Chomutov
CATEGORIES:výstavy
ATTACH;FMTTYPE=image/jpeg:https://visit.chomutov.cz/wp-content/uploads/2023/05/Sporgy-Chomutovsky-vytvarny-salon-2023.jpg
END:VEVENT
BEGIN:VEVENT
DTSTART;VALUE=DATE:20230511
DTEND;VALUE=DATE:20230701
DTSTAMP:20260422T023808
CREATED:20230502T065615Z
LAST-MODIFIED:20230502T070827Z
UID:3719-1683763200-1688169599@visit.chomutov.cz
SUMMARY:Vít Vavřinec Pavlík - CROSSART
DESCRIPTION:Vernisáž výstavy 11.5. od 17 hodin.
URL:https://visit.chomutov.cz/kalendar/vit-vavrinec-pavlik-crossart/
LOCATION:Galerie Lurago\, Palackého 85\, Chomutov
CATEGORIES:výstavy
ATTACH;FMTTYPE=image/jpeg:https://visit.chomutov.cz/wp-content/uploads/2023/05/Pavlik.jpeg
END:VEVENT
BEGIN:VEVENT
DTSTART;VALUE=DATE:20230504
DTEND;VALUE=DATE:20230618
DTSTAMP:20260422T023808
CREATED:20230502T064425Z
LAST-MODIFIED:20230502T121210Z
UID:3716-1683158400-1687046399@visit.chomutov.cz
SUMMARY:Roman Křelina - Nálady krajiny
DESCRIPTION:Vernisáž výstavy 4.5. v 17 hodin.
URL:https://visit.chomutov.cz/kalendar/roman-krelina-nalady-krajiny/
LOCATION:Galerie Lurago\, Palackého 85\, Chomutov
CATEGORIES:výstavy
ATTACH;FMTTYPE=image/jpeg:https://visit.chomutov.cz/wp-content/uploads/2023/05/Roman-Krelina-Nalady-krajiny.jpg
END:VEVENT
BEGIN:VEVENT
DTSTART;VALUE=DATE:20230504
DTEND;VALUE=DATE:20230701
DTSTAMP:20260422T023808
CREATED:20230417T100511Z
LAST-MODIFIED:20230417T100541Z
UID:3692-1683158400-1688169599@visit.chomutov.cz
SUMMARY:Tomáš Záborec - Dřevomalby
DESCRIPTION:Vernisáž výstavy 4. května od 14. hodin.
URL:https://visit.chomutov.cz/kalendar/tomas-zaborec-drevomalby/
LOCATION:Kameny od Jednorožce\, 28. října 1081/19\, Chomutov\, Česká republika
CATEGORIES:výstavy
ATTACH;FMTTYPE=image/png:https://visit.chomutov.cz/wp-content/uploads/2023/04/drevomalby-Jednorozec.png
END:VEVENT
BEGIN:VEVENT
DTSTART;VALUE=DATE:20230501
DTEND;VALUE=DATE:20230601
DTSTAMP:20260422T023808
CREATED:20230502T073747Z
LAST-MODIFIED:20230502T073747Z
UID:3732-1682899200-1685577599@visit.chomutov.cz
SUMMARY:Knihovna 21. století
DESCRIPTION:Výstava soutěžních návrhů architektonické soutěže na konverzi městských lázní.
URL:https://visit.chomutov.cz/kalendar/knihovna-21-stoleti/
LOCATION:Chomutovská knihovna\, Palackého 4995\, Chomutov
CATEGORIES:výstavy
ATTACH;FMTTYPE=image/jpeg:https://visit.chomutov.cz/wp-content/uploads/2023/05/Vystava-knihovna.jpg
END:VEVENT
BEGIN:VEVENT
DTSTART;TZID=Europe/Prague:20230420T160000
DTEND;TZID=Europe/Prague:20230420T160000
DTSTAMP:20260422T023808
CREATED:20230321T095422Z
LAST-MODIFIED:20230321T095422Z
UID:3510-1682006400-1682006400@visit.chomutov.cz
SUMMARY:Společně potřetí
DESCRIPTION:vernisáž výstavy spolku Roska Chomutov
URL:https://visit.chomutov.cz/kalendar/spolecne-potreti/
LOCATION:Café Atrium\, Palackého 85\, Chomutov
CATEGORIES:výstavy
ATTACH;FMTTYPE=image/png:https://visit.chomutov.cz/wp-content/uploads/2023/03/Roska.png
END:VEVENT
BEGIN:VEVENT
DTSTART;VALUE=DATE:20230330
DTEND;VALUE=DATE:20230430
DTSTAMP:20260422T023808
CREATED:20230220T090834Z
LAST-MODIFIED:20230324T114625Z
UID:3348-1680134400-1682812799@visit.chomutov.cz
SUMMARY:Ladislav Chabr - Cesty
DESCRIPTION:Výstava obrazů u příležitosti 65. narozenin\nVernisáž výstavy 30.3. v 18.00 hodin.
URL:https://visit.chomutov.cz/kalendar/ladislav-chabr-obrazy/
LOCATION:Galerie Lurago\, Palackého 85\, Chomutov
CATEGORIES:výstavy
ATTACH;FMTTYPE=image/jpeg:https://visit.chomutov.cz/wp-content/uploads/2023/02/Chabr-Obrazy-scaled.jpg
END:VEVENT
BEGIN:VEVENT
DTSTART;VALUE=DATE:20230316
DTEND;VALUE=DATE:20230430
DTSTAMP:20260422T023808
CREATED:20230220T090238Z
LAST-MODIFIED:20230417T095824Z
UID:3345-1678924800-1682812799@visit.chomutov.cz
SUMMARY:Tomáš Záborec - Dřevomalby
DESCRIPTION:Vernisáž výstavy 16.3. v 17.00 hodin.
URL:https://visit.chomutov.cz/kalendar/tomas-zaborovec-drevomalby/
LOCATION:Galerie Špejchar\, Palackého 85\, Chomutov
CATEGORIES:výstavy
ATTACH;FMTTYPE=image/jpeg:https://visit.chomutov.cz/wp-content/uploads/2023/02/tomas-zaborec-2-rozkvetla-louka.jpg
END:VEVENT
BEGIN:VEVENT
DTSTART;VALUE=DATE:20230307
DTEND;VALUE=DATE:20230308
DTSTAMP:20260422T023808
CREATED:20230220T085234Z
LAST-MODIFIED:20230220T115414Z
UID:3342-1678147200-1678233599@visit.chomutov.cz
SUMMARY:Na poslední chvíli
DESCRIPTION:Výstava obrazů Mileny Vlčkové.\nVernisáž 7.3. v 17.00 hodin.
URL:https://visit.chomutov.cz/kalendar/na-posledni-chvili/
LOCATION:Café Atrium\, Palackého 85\, Chomutov
CATEGORIES:výstavy
ATTACH;FMTTYPE=image/jpeg:https://visit.chomutov.cz/wp-content/uploads/2023/02/Vlckova2-scaled.jpg
ORGANIZER;CN="Masopust%2C%20z.s.":MAILTO:info@masopustspolek.cz
END:VEVENT
BEGIN:VEVENT
DTSTART;VALUE=DATE:20230302
DTEND;VALUE=DATE:20230428
DTSTAMP:20260422T023808
CREATED:20230220T084613Z
LAST-MODIFIED:20230220T084613Z
UID:3340-1677715200-1682639999@visit.chomutov.cz
SUMMARY:Lidová píseň
DESCRIPTION:výstava dětských výtvarných prací s enviromentálním zaměřením
URL:https://visit.chomutov.cz/kalendar/lidova-pisen/
LOCATION:Chomutovská knihovna\, Palackého 4995\, Chomutov
CATEGORIES:výstavy
ATTACH;FMTTYPE=image/jpeg:https://visit.chomutov.cz/wp-content/uploads/2022/05/knihovna-III.jpg
END:VEVENT
BEGIN:VEVENT
DTSTART;VALUE=DATE:20230223
DTEND;VALUE=DATE:20230325
DTSTAMP:20260422T023808
CREATED:20230131T100222Z
LAST-MODIFIED:20230131T100245Z
UID:3187-1677110400-1679702399@visit.chomutov.cz
SUMMARY:Jaroslav Krajíček - Světelné obrazy
DESCRIPTION:Vernisáž výstavy 23.2. v 17.00
URL:https://visit.chomutov.cz/kalendar/jaroslav-krajicek-svetelne-obrazy/
LOCATION:Galerie Lurago\, Palackého 85\, Chomutov
CATEGORIES:výstavy
ATTACH;FMTTYPE=image/jpeg:https://visit.chomutov.cz/wp-content/uploads/2023/01/Krajicek.jpg
END:VEVENT
BEGIN:VEVENT
DTSTART;VALUE=DATE:20230221
DTEND;VALUE=DATE:20240101
DTSTAMP:20260422T023808
CREATED:20230220T073450Z
LAST-MODIFIED:20230220T082409Z
UID:3332-1676937600-1704067199@visit.chomutov.cz
SUMMARY:Výstava knih a polodrahokamů z Krušnohoří
DESCRIPTION:od tvůrců Romana a Lucie Špoutilovým\nv obchůdku Kameny od Jednorožce (28. října 1081/19)
URL:https://visit.chomutov.cz/kalendar/vystava-knih-a-polodrahokamu-z-krusnohori/
CATEGORIES:výstavy
ATTACH;FMTTYPE=image/jpeg:https://visit.chomutov.cz/wp-content/uploads/2023/02/Plakat-polodrahokamy.jpg
END:VEVENT
BEGIN:VEVENT
DTSTART;VALUE=DATE:20230201
DTEND;VALUE=DATE:20230301
DTSTAMP:20260422T023808
CREATED:20230131T092928Z
LAST-MODIFIED:20230131T092947Z
UID:3184-1675209600-1677628799@visit.chomutov.cz
SUMMARY:Výstava portrétů Kristýny Vraňuchové
DESCRIPTION:kresba tužkou a uhlem
URL:https://visit.chomutov.cz/kalendar/vystava-portretu-kristyny-vranuchove/
LOCATION:Jacques café\, Puchmayerova 118/9\, Chomutov\, 43001
CATEGORIES:výstavy
ATTACH;FMTTYPE=image/jpeg:https://visit.chomutov.cz/wp-content/uploads/2023/01/Kristyna-Vranouchova.jpg
END:VEVENT
BEGIN:VEVENT
DTSTART;VALUE=DATE:20230131
DTEND;VALUE=DATE:20230312
DTSTAMP:20260422T023808
CREATED:20230117T082153Z
LAST-MODIFIED:20230117T082233Z
UID:3173-1675123200-1678579199@visit.chomutov.cz
SUMMARY:Nebe je modré\, tráva je zelená a co je mezi tím?
DESCRIPTION:Vernisáž výstavy 31.1. v 17.00 hodin \nExpozice\, která bude ve Špejcharu k vidění do 11. března\, je společnou výstavou čtyř představitelek současné umělecké tvorby\, Alice Nikitinové\, Hany Grodlové Sommerové\, Karolíny Šulcové a Petry Švecové\, jejichž malby spojuje forma zobrazování skutečnosti na pomezí mezi abstrakcí a realitou.
URL:https://visit.chomutov.cz/kalendar/nebe-je-modre-trava-je-zelena-a-co-je-mezi-tim/
LOCATION:Galerie Špejchar\, Palackého 85\, Chomutov
CATEGORIES:výstavy
ATTACH;FMTTYPE=image/jpeg:https://visit.chomutov.cz/wp-content/uploads/2023/01/Nebe-je-modre-scaled.jpg
END:VEVENT
BEGIN:VEVENT
DTSTART;VALUE=DATE:20230126
DTEND;VALUE=DATE:20230217
DTSTAMP:20260422T023808
CREATED:20230109T100926Z
LAST-MODIFIED:20230117T081752Z
UID:3099-1674691200-1676591999@visit.chomutov.cz
SUMMARY:Barvy - J. Šťastná\, A. Faifrová
DESCRIPTION:vernisáž výstavy 26.1. v 17.00 hodin \nSvá díla na ní představí výtvarnice Andrea Faifrová\, která se věnuje především klasické malbě\, a Jarmila Šťastná\, pro jejíž pastelkami provedené kresby jsou typické ornamentální motivy.
URL:https://visit.chomutov.cz/kalendar/barvy/
LOCATION:Galerie Lurago\, Palackého 85\, Chomutov
CATEGORIES:výstavy
ATTACH;FMTTYPE=image/jpeg:https://visit.chomutov.cz/wp-content/uploads/2023/01/Barvy.jpg
END:VEVENT
BEGIN:VEVENT
DTSTART;VALUE=DATE:20230120
DTEND;VALUE=DATE:20230203
DTSTAMP:20260422T023808
CREATED:20230117T082607Z
LAST-MODIFIED:20230117T082607Z
UID:3177-1674172800-1675382399@visit.chomutov.cz
SUMMARY:Why? Příběhy zvířat z války - Igor Pavlyuk
DESCRIPTION:20. ledna od 16 hodin proběhne v předsálí oddělení beletrie vernisáž výstavy WHY? Expozice\, jejímž autorem je Igor Pavlyuk\, přibližuje příběhy zvířat na území Ruskem okupované Ukrajiny. Výstavu můžete v Chomutovské knihovně navštívit do 2. února.
URL:https://visit.chomutov.cz/kalendar/why-pribehy-zvirat-z-valky-igor-pavlyuk/
LOCATION:Chomutovská knihovna\, Palackého 4995\, Chomutov
CATEGORIES:výstavy
ATTACH;FMTTYPE=image/jpeg:https://visit.chomutov.cz/wp-content/uploads/2023/01/Why-scaled.jpg
END:VEVENT
BEGIN:VEVENT
DTSTART;TZID=Europe/Prague:20230116T170000
DTEND;TZID=Europe/Prague:20230116T170000
DTSTAMP:20260422T023808
CREATED:20230109T100458Z
LAST-MODIFIED:20230109T100458Z
UID:3095-1673888400-1673888400@visit.chomutov.cz
SUMMARY:Moje malování
DESCRIPTION:Vernisáž výstavy obrazů Květy Novákové
URL:https://visit.chomutov.cz/kalendar/moje-malovani/
LOCATION:Café Atrium\, Palackého 85\, Chomutov
CATEGORIES:výstavy
ATTACH;FMTTYPE=image/jpeg:https://visit.chomutov.cz/wp-content/uploads/2023/01/Kveta-Novakova.jpg
ORGANIZER;CN="Masopust%2C%20z.s.":MAILTO:info@masopustspolek.cz
END:VEVENT
BEGIN:VEVENT
DTSTART;TZID=Europe/Prague:20221206T170000
DTEND;TZID=Europe/Prague:20221206T170000
DTSTAMP:20260422T023808
CREATED:20221102T120526Z
LAST-MODIFIED:20221128T075342Z
UID:2726-1670346000-1670346000@visit.chomutov.cz
SUMMARY:Tváře (a) krajiny - společná výstava Obrazů Jany Tóthové a básní Čeňka Pekaře
DESCRIPTION:vernisáž 6. 12. v 17.00 hodin; vystoupí Nicolas Haftstein
URL:https://visit.chomutov.cz/kalendar/tvare-a-krajiny-spolecna-vystava-obrazu-jany-tothove-a-basni-cenka-pekare/
LOCATION:Café Atrium\, Palackého 85\, Chomutov
CATEGORIES:výstavy
ATTACH;FMTTYPE=image/png:https://visit.chomutov.cz/wp-content/uploads/2022/09/2022-masopust-logo.png
ORGANIZER;CN="Masopust%2C%20z.s.":MAILTO:info@masopustspolek.cz
END:VEVENT
BEGIN:VEVENT
DTSTART;VALUE=DATE:20221201
DTEND;VALUE=DATE:20221231
DTSTAMP:20260422T023808
CREATED:20221128T080423Z
LAST-MODIFIED:20221128T080435Z
UID:2940-1669852800-1672444799@visit.chomutov.cz
SUMMARY:Romano suno
DESCRIPTION:Romano suno je putovní výstava obecně prospěšné organizace Nová škola. Výstava představuje to nejlepší z historie literární a výtvarné soutěže Romano suno\, která prostřednictvím dětských kreseb a krátkých textů v romském a českém jazyce ukazuje svět viděný očima a srdcem romských dětí a mladých dospělých.
URL:https://visit.chomutov.cz/kalendar/romano-suno/
LOCATION:Galerie Na síti – Chomutovská knihovna\, Palackého 4995\, Chomutov\, 43001
CATEGORIES:výstavy
ATTACH;FMTTYPE=image/jpeg:https://visit.chomutov.cz/wp-content/uploads/2022/11/romano-suno.jpg
END:VEVENT
BEGIN:VEVENT
DTSTART;VALUE=DATE:20221111
DTEND;VALUE=DATE:20230121
DTSTAMP:20260422T023808
CREATED:20221102T115524Z
LAST-MODIFIED:20221102T115754Z
UID:2722-1668124800-1674259199@visit.chomutov.cz
SUMMARY:Restart 60 -Milan Pecák a Martin Zhouf
DESCRIPTION:souběžné výstavy k životnímu jubileu v Galerii Lurago a Galerii Špejchar
URL:https://visit.chomutov.cz/kalendar/restart-60-milan-pecak-a-martin-zhouf/
LOCATION:Chomutovská knihovna\, Palackého 4995\, Chomutov
CATEGORIES:výstavy
ATTACH;FMTTYPE=image/jpeg:https://visit.chomutov.cz/wp-content/uploads/2022/11/Martin-Zhouf-a-Milan-Pecak.jpg
END:VEVENT
BEGIN:VEVENT
DTSTART;VALUE=DATE:20221108
DTEND;VALUE=DATE:20221110
DTSTAMP:20260422T023808
CREATED:20221006T082256Z
LAST-MODIFIED:20221006T083251Z
UID:2669-1667865600-1668038399@visit.chomutov.cz
SUMMARY:Výstava vzdělávání 2023
DESCRIPTION:
URL:https://visit.chomutov.cz/kalendar/vystava-vzdelavani-2023/
LOCATION:Městská sportovní hala\, Mánesova 4980\, Chomutov
CATEGORIES:výstavy,vzdělávání
ATTACH;FMTTYPE=image/jpeg:https://visit.chomutov.cz/wp-content/uploads/2022/10/Plakat_A2_Vystava_Vzdelavani_2023-page-001-scaled.jpg
ORGANIZER;CN="Okresn%C3%AD%20hospod%C3%A1%C5%99sk%C3%A1%20komora%20v%20Chomutov%C4%9B":MAILTO:info@ohkcv.cz
END:VEVENT
BEGIN:VEVENT
DTSTART;VALUE=DATE:20221102
DTEND;VALUE=DATE:20221201
DTSTAMP:20260422T023808
CREATED:20221102T114504Z
LAST-MODIFIED:20221102T114526Z
UID:2714-1667347200-1669852799@visit.chomutov.cz
SUMMARY:Můj nejhorší den
DESCRIPTION:Putovní výstava obrazů dětí a mládeže z nízkoprahových organizací\, pořádaná neziskovou organizací Světlo Kadaň z.s. \nVernisáž 2.11. v 16.00 hodin \nGalerie Na Drátkách
URL:https://visit.chomutov.cz/kalendar/muj-nejhorsi-den/
LOCATION:Chomutovská knihovna\, Palackého 4995\, Chomutov
CATEGORIES:výstavy
ATTACH;FMTTYPE=image/jpeg:https://visit.chomutov.cz/wp-content/uploads/2022/11/Nejhorsi-den-1.jpg
END:VEVENT
BEGIN:VEVENT
DTSTART;VALUE=DATE:20221101
DTEND;VALUE=DATE:20230101
DTSTAMP:20260422T023808
CREATED:20221102T113318Z
LAST-MODIFIED:20221102T113540Z
UID:2709-1667260800-1672531199@visit.chomutov.cz
SUMMARY:Barevné proměny Klubu přátel malování
DESCRIPTION:Vernisáž 4.11. v 17.00 hodin
URL:https://visit.chomutov.cz/kalendar/barevne-promeny-klubu-pratel-malovani/
LOCATION:Jacques café\, Puchmayerova 118/9\, Chomutov\, 43001
CATEGORIES:výstavy
ATTACH;FMTTYPE=image/jpeg:https://visit.chomutov.cz/wp-content/uploads/2022/11/Jacques-cafe-listopad.jpg
END:VEVENT
BEGIN:VEVENT
DTSTART;VALUE=DATE:20221022
DTEND;VALUE=DATE:20230226
DTSTAMP:20260422T023808
CREATED:20220922T120334Z
LAST-MODIFIED:20221005T112959Z
UID:2470-1666396800-1677369599@visit.chomutov.cz
SUMMARY:Rodina - sochy Michaela Bílka
DESCRIPTION:Vernisáž výstavy 22.10. v 15.00 hodin
URL:https://visit.chomutov.cz/kalendar/rodina-sochy-michaela-bilka/
LOCATION:Oblastní muzeum v Chomutově – radnice\, nám. 1. máje 1\, Chomutov
CATEGORIES:výstavy
ATTACH;FMTTYPE=image/jpeg:https://visit.chomutov.cz/wp-content/uploads/2022/09/svjosef-foto-k-propagaci-003.jpg
ORGANIZER;CN="Oblastn%C3%AD%20muzeum%20v%20Chomutov%C4%9B":MAILTO:sekretariat@muzeumchomutov.cz
END:VEVENT
END:VCALENDAR