BEGIN:VCALENDAR
VERSION:2.0
PRODID:-//Visit Chomutov - ECPv5.14.2.1//NONSGML v1.0//EN
CALSCALE:GREGORIAN
METHOD:PUBLISH
X-WR-CALNAME:Visit Chomutov
X-ORIGINAL-URL:https://visit.chomutov.cz
X-WR-CALDESC:Akce na Visit Chomutov
REFRESH-INTERVAL;VALUE=DURATION:PT1H
X-Robots-Tag:noindex
X-PUBLISHED-TTL:PT1H
BEGIN:VTIMEZONE
TZID:Europe/Prague
BEGIN:DAYLIGHT
TZOFFSETFROM:+0100
TZOFFSETTO:+0200
TZNAME:CEST
DTSTART:20260329T010000
END:DAYLIGHT
BEGIN:STANDARD
TZOFFSETFROM:+0200
TZOFFSETTO:+0100
TZNAME:CET
DTSTART:20261025T010000
END:STANDARD
END:VTIMEZONE
BEGIN:VEVENT
DTSTART;TZID=Europe/Prague:20260219T170000
DTEND;TZID=Europe/Prague:20260219T170000
DTSTAMP:20260421T135157
CREATED:20260203T125231Z
LAST-MODIFIED:20260203T125231Z
UID:11905-1771520400-1771520400@visit.chomutov.cz
SUMMARY:Alois Wierer - obrazy\, ilustrace\, dobové pohlednice
DESCRIPTION:vernisáž výstavy
URL:https://visit.chomutov.cz/kalendar/alois-wierer-obrazy-ilustrace-dobove-pohlednice/
LOCATION:Galerie Špejchar\, Palackého 85\, Chomutov
CATEGORIES:výstavy
ATTACH;FMTTYPE=image/jpeg:https://visit.chomutov.cz/wp-content/uploads/2026/02/Vystava-Wierer.jpg
END:VEVENT
END:VCALENDAR