BEGIN:VCALENDAR
VERSION:2.0
PRODID:-//Visit Chomutov - ECPv5.14.2.1//NONSGML v1.0//EN
CALSCALE:GREGORIAN
METHOD:PUBLISH
X-WR-CALNAME:Visit Chomutov
X-ORIGINAL-URL:https://visit.chomutov.cz
X-WR-CALDESC:Akce na Visit Chomutov
REFRESH-INTERVAL;VALUE=DURATION:PT1H
X-Robots-Tag:noindex
X-PUBLISHED-TTL:PT1H
BEGIN:VTIMEZONE
TZID:Europe/Prague
BEGIN:DAYLIGHT
TZOFFSETFROM:+0100
TZOFFSETTO:+0200
TZNAME:CEST
DTSTART:20250330T010000
END:DAYLIGHT
BEGIN:STANDARD
TZOFFSETFROM:+0200
TZOFFSETTO:+0100
TZNAME:CET
DTSTART:20251026T010000
END:STANDARD
END:VTIMEZONE
BEGIN:VEVENT
DTSTART;TZID=Europe/Prague:20251104T150000
DTEND;TZID=Europe/Prague:20251104T150000
DTSTAMP:20260421T152829
CREATED:20251104T070405Z
LAST-MODIFIED:20251104T070405Z
UID:11377-1762268400-1762268400@visit.chomutov.cz
SUMMARY:Když čísla pláčou
DESCRIPTION:vernisáž výstavy
URL:https://visit.chomutov.cz/kalendar/kdyz-cisla-placou/
LOCATION:Chomutovská knihovna\, Palackého 4995\, Chomutov
CATEGORIES:výstavy
ATTACH;FMTTYPE=image/jpeg:https://visit.chomutov.cz/wp-content/uploads/2025/11/Kdyz-cisla-placou.jpg
END:VEVENT
BEGIN:VEVENT
DTSTART;TZID=Europe/Prague:20251115T140000
DTEND;TZID=Europe/Prague:20251115T140000
DTSTAMP:20260421T152829
CREATED:20251112T140418Z
LAST-MODIFIED:20251112T140424Z
UID:11505-1763215200-1763215200@visit.chomutov.cz
SUMMARY:You May Dream in Chomutov
DESCRIPTION:komentované prohlídky Česko-německo-kanadské výstavy inspirované Karlem Mayem
URL:https://visit.chomutov.cz/kalendar/you-may-dream-in-chomutov-3/
LOCATION:Kostel sv. Kateřiny\, Chelčického 100\, Chomutov
CATEGORIES:výstavy
ATTACH;FMTTYPE=image/jpeg:https://visit.chomutov.cz/wp-content/uploads/2025/11/11_15-koment-may-scaled.jpg
END:VEVENT
BEGIN:VEVENT
DTSTART;TZID=Europe/Prague:20251119T170000
DTEND;TZID=Europe/Prague:20251119T170000
DTSTAMP:20260421T152829
CREATED:20251112T140439Z
LAST-MODIFIED:20251112T140439Z
UID:11508-1763571600-1763571600@visit.chomutov.cz
SUMMARY:You May Dream in Chomutov
DESCRIPTION:komentované prohlídky Česko-německo-kanadské výstavy inspirované Karlem Mayem
URL:https://visit.chomutov.cz/kalendar/you-may-dream-in-chomutov-4/
LOCATION:Kostel sv. Kateřiny\, Chelčického 100\, Chomutov
CATEGORIES:výstavy
ATTACH;FMTTYPE=image/jpeg:https://visit.chomutov.cz/wp-content/uploads/2025/11/11_15-koment-may-scaled.jpg
END:VEVENT
BEGIN:VEVENT
DTSTART;TZID=Europe/Prague:20251120T000000
DTEND;TZID=Europe/Prague:20251120T000000
DTSTAMP:20260421T152829
CREATED:20251104T071912Z
LAST-MODIFIED:20251112T140059Z
UID:11387-1763596800-1763596800@visit.chomutov.cz
SUMMARY:Pod křídly Thálie – 120 let chomutovského divadla
DESCRIPTION:Vernisáž výstavy. Výstava potrvá do 22.2.2026.
URL:https://visit.chomutov.cz/kalendar/za-oponou-120-let-chomutovskeho-divadla/
LOCATION:Oblastní muzeum v Chomutově – hlavní budova\, Palackého 86\, Chomutov\, Česká republika
CATEGORIES:výstavy
ATTACH;FMTTYPE=image/jpeg:https://visit.chomutov.cz/wp-content/uploads/2025/11/Pod-kridly-Thalie.jpg
ORGANIZER;CN="Oblastn%C3%AD%20muzeum%20v%20Chomutov%C4%9B":MAILTO:sekretariat@muzeumchomutov.cz
END:VEVENT
BEGIN:VEVENT
DTSTART;VALUE=DATE:20251121
DTEND;VALUE=DATE:20251122
DTSTAMP:20260421T152829
CREATED:20251104T072532Z
LAST-MODIFIED:20251104T072532Z
UID:11389-1763683200-1763769599@visit.chomutov.cz
SUMMARY:You May Dream in Chomutov
DESCRIPTION:Vernisáž výstavy.
URL:https://visit.chomutov.cz/kalendar/you-may-dream-in-chomutov-2/
LOCATION:Kostel sv. Kateřiny\, Chelčického 100\, Chomutov
CATEGORIES:výstavy
ATTACH;FMTTYPE=image/jpeg:https://visit.chomutov.cz/wp-content/uploads/2025/11/you-may-dream-in-chomutov.jpg
END:VEVENT
END:VCALENDAR