BEGIN:VCALENDAR
VERSION:2.0
PRODID:-//Visit Chomutov - ECPv5.14.2.1//NONSGML v1.0//EN
CALSCALE:GREGORIAN
METHOD:PUBLISH
X-WR-CALNAME:Visit Chomutov
X-ORIGINAL-URL:https://visit.chomutov.cz
X-WR-CALDESC:Akce na Visit Chomutov
REFRESH-INTERVAL;VALUE=DURATION:PT1H
X-Robots-Tag:noindex
X-PUBLISHED-TTL:PT1H
BEGIN:VTIMEZONE
TZID:Europe/Prague
BEGIN:DAYLIGHT
TZOFFSETFROM:+0100
TZOFFSETTO:+0200
TZNAME:CEST
DTSTART:20240331T010000
END:DAYLIGHT
BEGIN:STANDARD
TZOFFSETFROM:+0200
TZOFFSETTO:+0100
TZNAME:CET
DTSTART:20241027T010000
END:STANDARD
BEGIN:DAYLIGHT
TZOFFSETFROM:+0100
TZOFFSETTO:+0200
TZNAME:CEST
DTSTART:20250330T010000
END:DAYLIGHT
BEGIN:STANDARD
TZOFFSETFROM:+0200
TZOFFSETTO:+0100
TZNAME:CET
DTSTART:20251026T010000
END:STANDARD
END:VTIMEZONE
BEGIN:VEVENT
DTSTART;VALUE=DATE:20240914
DTEND;VALUE=DATE:20241125
DTSTAMP:20260424T181655
CREATED:20240830T075633Z
LAST-MODIFIED:20240905T111659Z
UID:7622-1726272000-1732492799@visit.chomutov.cz
SUMMARY:Marie Svobodová - Pozdní sběr
DESCRIPTION:výstava prací chomutovské malířky při příležitosti jejího významného životního jubilea
URL:https://visit.chomutov.cz/kalendar/marie-svobodova-pozdni-sber/
LOCATION:Oblastní muzeum v Chomutově – hlavní budova\, Palackého 86\, Chomutov\, Česká republika
CATEGORIES:výstavy
ATTACH;FMTTYPE=image/jpeg:https://visit.chomutov.cz/wp-content/uploads/2024/08/Pozdni-sber.jpg
ORGANIZER;CN="Oblastn%C3%AD%20muzeum%20v%20Chomutov%C4%9B":MAILTO:sekretariat@muzeumchomutov.cz
END:VEVENT
BEGIN:VEVENT
DTSTART;VALUE=DATE:20241010
DTEND;VALUE=DATE:20241104
DTSTAMP:20260424T181655
CREATED:20241001T114841Z
LAST-MODIFIED:20241001T114841Z
UID:7825-1728518400-1730678399@visit.chomutov.cz
SUMMARY:Velká incká stezka\, Peru jednotné i rozmanité
DESCRIPTION:vernisáž výstavy 10.10. v 16.00 hodin
URL:https://visit.chomutov.cz/kalendar/velka-incka-stezka-peru-jednotne-i-rozmanite/
LOCATION:Kostel sv. Kateřiny\, Chelčického 100\, Chomutov
CATEGORIES:výstavy
ATTACH;FMTTYPE=image/jpeg:https://visit.chomutov.cz/wp-content/uploads/2024/10/pexels-chelsea-cook-1520634-2929906.jpg
ORGANIZER;CN="Oblastn%C3%AD%20muzeum%20v%20Chomutov%C4%9B":MAILTO:sekretariat@muzeumchomutov.cz
END:VEVENT
BEGIN:VEVENT
DTSTART;VALUE=DATE:20241122
DTEND;VALUE=DATE:20250203
DTSTAMP:20260424T181655
CREATED:20241102T171736Z
LAST-MODIFIED:20241102T171736Z
UID:8222-1732233600-1738540799@visit.chomutov.cz
SUMMARY:Betlémy ze sbírek chomutovského muzea
DESCRIPTION:tradiční vánoční výstava betlémů\n22. 11. v 17 hodin – vernisáž s vystoupením a capella kvartet UNISONO 
URL:https://visit.chomutov.cz/kalendar/betlemy-ze-sbirek-chomutovskeho-muzea/
LOCATION:Oblastní muzeum v Chomutově – radnice\, nám. 1. máje 1\, Chomutov
CATEGORIES:Vánoce,výstavy
ATTACH;FMTTYPE=image/jpeg:https://visit.chomutov.cz/wp-content/uploads/2024/11/Betlemy.jpg
ORGANIZER;CN="Oblastn%C3%AD%20muzeum%20v%20Chomutov%C4%9B":MAILTO:sekretariat@muzeumchomutov.cz
END:VEVENT
END:VCALENDAR