BEGIN:VCALENDAR
VERSION:2.0
PRODID:-//Visit Chomutov - ECPv5.14.2.1//NONSGML v1.0//EN
CALSCALE:GREGORIAN
METHOD:PUBLISH
X-WR-CALNAME:Visit Chomutov
X-ORIGINAL-URL:https://visit.chomutov.cz
X-WR-CALDESC:Akce na Visit Chomutov
REFRESH-INTERVAL;VALUE=DURATION:PT1H
X-Robots-Tag:noindex
X-PUBLISHED-TTL:PT1H
BEGIN:VTIMEZONE
TZID:Europe/Prague
BEGIN:DAYLIGHT
TZOFFSETFROM:+0100
TZOFFSETTO:+0200
TZNAME:CEST
DTSTART:20250330T010000
END:DAYLIGHT
BEGIN:STANDARD
TZOFFSETFROM:+0200
TZOFFSETTO:+0100
TZNAME:CET
DTSTART:20251026T010000
END:STANDARD
END:VTIMEZONE
BEGIN:VEVENT
DTSTART;TZID=Europe/Prague:20251221T150000
DTEND;TZID=Europe/Prague:20251221T180000
DTSTAMP:20260422T012318
CREATED:20251128T101034Z
LAST-MODIFIED:20251128T101034Z
UID:11623-1766329200-1766340000@visit.chomutov.cz
SUMMARY:4. adventní koncert
DESCRIPTION:
URL:https://visit.chomutov.cz/kalendar/4-adventni-koncert-2/
LOCATION:Galerie Lurago\, Palackého 85\, Chomutov
CATEGORIES:koncert,Vánoce
ATTACH;FMTTYPE=image/jpeg:https://visit.chomutov.cz/wp-content/uploads/2025/11/Adventni-koncerty-2025-scaled.jpg
END:VEVENT
BEGIN:VEVENT
DTSTART;TZID=Europe/Prague:20251221T160000
DTEND;TZID=Europe/Prague:20251221T160000
DTSTAMP:20260422T012318
CREATED:20251128T103214Z
LAST-MODIFIED:20251128T103214Z
UID:11644-1766332800-1766332800@visit.chomutov.cz
SUMMARY:Vánoční ulice
DESCRIPTION:sváteční kouzlo pod širým nebem
URL:https://visit.chomutov.cz/kalendar/vanocni-ulice/
LOCATION:Ruská ulice\, Ruská\, Chomutov\, 43001
CATEGORIES:Vánoce,zábavní pořady
ATTACH;FMTTYPE=image/jpeg:https://visit.chomutov.cz/wp-content/uploads/2025/11/Vanocni-ulice.jpg
END:VEVENT
BEGIN:VEVENT
DTSTART;TZID=Europe/Prague:20251221T170000
DTEND;TZID=Europe/Prague:20251221T183000
DTSTAMP:20260422T012318
CREATED:20241125T155256Z
LAST-MODIFIED:20251203T122625Z
UID:8597-1766336400-1766341800@visit.chomutov.cz
SUMMARY:Pohled na vánoční Chomutov
DESCRIPTION:zpřístupnění Městské věže
URL:https://visit.chomutov.cz/kalendar/pohled-na-vanocni-chomutov-3/
LOCATION:Městská věž\, nám. 1. máje 3\, Chomutov
CATEGORIES:Vánoce,zábavní pořady
ATTACH;FMTTYPE=image/jpeg:https://visit.chomutov.cz/wp-content/uploads/2024/11/Vez-Pohled-scaled.jpg
END:VEVENT
BEGIN:VEVENT
DTSTART;TZID=Europe/Prague:20251221T180000
DTEND;TZID=Europe/Prague:20251221T180000
DTSTAMP:20260422T012318
CREATED:20251128T100948Z
LAST-MODIFIED:20251128T101007Z
UID:11620-1766340000-1766340000@visit.chomutov.cz
SUMMARY:4. adventní koncert
DESCRIPTION:
URL:https://visit.chomutov.cz/kalendar/4-adventni-koncert/
LOCATION:Kostel sv. Ignáce\, nám. 1. máje\, Chomutov
CATEGORIES:koncert,Vánoce
ATTACH;FMTTYPE=image/jpeg:https://visit.chomutov.cz/wp-content/uploads/2025/11/Adventni-koncerty-2025-scaled.jpg
END:VEVENT
BEGIN:VEVENT
DTSTART;TZID=Europe/Prague:20251222T190000
DTEND;TZID=Europe/Prague:20251222T190000
DTSTAMP:20260422T012318
CREATED:20251201T072602Z
LAST-MODIFIED:20251201T072602Z
UID:11726-1766430000-1766430000@visit.chomutov.cz
SUMMARY:Janek Ledecký -Vánoční koncert
DESCRIPTION:
URL:https://visit.chomutov.cz/kalendar/janek-ledecky-vanocni-koncert/
LOCATION:Městské divadlo\, Boženy Němcové 552/32\, Chomutov
CATEGORIES:koncert,Vánoce
ATTACH;FMTTYPE=image/png:https://visit.chomutov.cz/wp-content/uploads/2023/10/Ledecky.png
END:VEVENT
BEGIN:VEVENT
DTSTART;TZID=Europe/Prague:20251223T160000
DTEND;TZID=Europe/Prague:20251223T183000
DTSTAMP:20260422T012318
CREATED:20251201T072704Z
LAST-MODIFIED:20251217T074831Z
UID:11728-1766505600-1766514600@visit.chomutov.cz
SUMMARY:Betlémské světlo
DESCRIPTION:přiveze skautské středisko Český lev Chomutov (16.00 – 18.00 na náměstí 1. máje\, 18.00 – 18.30 u Městského divadla)
URL:https://visit.chomutov.cz/kalendar/betlemske-svetlo-2/
LOCATION:Městský park\, Čelakovského\, Chomutov
CATEGORIES:Vánoce,zábavní pořady
ATTACH;FMTTYPE=image/jpeg:https://visit.chomutov.cz/wp-content/uploads/2025/12/Betlemske-svetlo-2025-s.jpg
END:VEVENT
BEGIN:VEVENT
DTSTART;TZID=Europe/Prague:20251224T110000
DTEND;TZID=Europe/Prague:20251224T150000
DTSTAMP:20260422T012318
CREATED:20251201T072805Z
LAST-MODIFIED:20251201T072805Z
UID:11730-1766574000-1766588400@visit.chomutov.cz
SUMMARY:Živý Betlém
DESCRIPTION:V podání agentury J. Stejného.
URL:https://visit.chomutov.cz/kalendar/zivy-betlem-3/
LOCATION:náměstí 1. máje Chomutov\, nám. 1. máje\, Chomutov
CATEGORIES:Vánoce,zábavní pořady
ATTACH;FMTTYPE=image/jpeg:https://visit.chomutov.cz/wp-content/uploads/2022/11/Zivy-Betlem.jpg
ORGANIZER;CN="Statut%C3%A1rn%C3%AD%20m%C4%9Bsto%20Chomutov":MAILTO:infocentrum@chomutov.cz
END:VEVENT
BEGIN:VEVENT
DTSTART;TZID=Europe/Prague:20251231T130000
DTEND;TZID=Europe/Prague:20251231T150000
DTSTAMP:20260422T012318
CREATED:20251201T073606Z
LAST-MODIFIED:20251201T073637Z
UID:11741-1767186000-1767193200@visit.chomutov.cz
SUMMARY:Silvestr na ledě
DESCRIPTION:
URL:https://visit.chomutov.cz/kalendar/silvestr-na-lede-3/
LOCATION:Rocknet Aréna – zimní stadion\, Mostecká 5773\, Chomutov
CATEGORIES:sportovní akce,Vánoce
ATTACH;FMTTYPE=image/jpeg:https://visit.chomutov.cz/wp-content/uploads/2022/09/brusleni.jpg
END:VEVENT
BEGIN:VEVENT
DTSTART;TZID=Europe/Prague:20251231T170000
DTEND;TZID=Europe/Prague:20251231T170000
DTSTAMP:20260422T012318
CREATED:20251201T072850Z
LAST-MODIFIED:20251201T073729Z
UID:11732-1767200400-1767200400@visit.chomutov.cz
SUMMARY:Silvestrovský Večerníček
DESCRIPTION:Tradiční taneční podvečer nejen pro seniory.
URL:https://visit.chomutov.cz/kalendar/silvestrovsky-vecernicek-2/
LOCATION:Městské divadlo\, Boženy Němcové 552/32\, Chomutov
CATEGORIES:Vánoce,zábavní pořady
ATTACH;FMTTYPE=image/jpeg:https://visit.chomutov.cz/wp-content/uploads/2022/11/pexels-cottonbro-3171837.jpg
END:VEVENT
BEGIN:VEVENT
DTSTART;TZID=Europe/Prague:20251231T183000
DTEND;TZID=Europe/Prague:20251231T183000
DTSTAMP:20260422T012318
CREATED:20251201T073002Z
LAST-MODIFIED:20251201T073726Z
UID:11734-1767205800-1767205800@visit.chomutov.cz
SUMMARY:Silvestrovská párty se 4. cenovou
DESCRIPTION:přípitek\, ohňostroj\, půlnoční překvapení\, tombola (vstupné 490 Kč v předprodeji\, 550 Kč na místě)
URL:https://visit.chomutov.cz/kalendar/silvestrovska-party-se-4-cenovou/
LOCATION:Kulisárna\, B. Němcové 552/32\, Chomutov
CATEGORIES:Vánoce,zábavní pořady
ATTACH;FMTTYPE=image/jpeg:https://visit.chomutov.cz/wp-content/uploads/2025/12/Silvestr-v-Kulisarne.jpg
END:VEVENT
END:VCALENDAR