BEGIN:VCALENDAR
VERSION:2.0
PRODID:-//Visit Chomutov - ECPv5.14.2.1//NONSGML v1.0//EN
CALSCALE:GREGORIAN
METHOD:PUBLISH
X-WR-CALNAME:Visit Chomutov
X-ORIGINAL-URL:https://visit.chomutov.cz
X-WR-CALDESC:Akce na Visit Chomutov
REFRESH-INTERVAL;VALUE=DURATION:PT1H
X-Robots-Tag:noindex
X-PUBLISHED-TTL:PT1H
BEGIN:VTIMEZONE
TZID:Europe/Prague
BEGIN:DAYLIGHT
TZOFFSETFROM:+0100
TZOFFSETTO:+0200
TZNAME:CEST
DTSTART:20220327T010000
END:DAYLIGHT
BEGIN:STANDARD
TZOFFSETFROM:+0200
TZOFFSETTO:+0100
TZNAME:CET
DTSTART:20221030T010000
END:STANDARD
END:VTIMEZONE
BEGIN:VEVENT
DTSTART;VALUE=DATE:20221001
DTEND;VALUE=DATE:20221031
DTSTAMP:20260424T022213
CREATED:20220518T070236Z
LAST-MODIFIED:20220926T102120Z
UID:900-1664582400-1667174399@visit.chomutov.cz
SUMMARY:Zpřístupnění železničního depozitáře Národního technického muzea
DESCRIPTION:Do 30.10. PÁ-NE 10.00-17.00
URL:https://visit.chomutov.cz/kalendar/zpristupneni-zeleznicniho-depozitare-narodniho-technickeho-muzea/
LOCATION:Železniční depozitář NTM\, Černovická 4264\, Chomutov
CATEGORIES:stálá expozice
ATTACH;FMTTYPE=image/jpeg:https://visit.chomutov.cz/wp-content/uploads/2021/11/Depo_2-Velke-1.jpg
END:VEVENT
BEGIN:VEVENT
DTSTART;TZID=Europe/Prague:20220501T090000
DTEND;TZID=Europe/Prague:20220731T170000
DTSTAMP:20260424T022213
CREATED:20220518T070347Z
LAST-MODIFIED:20220519T120228Z
UID:903-1651395600-1659286800@visit.chomutov.cz
SUMMARY:Detektivní hra - krvavé peníze
DESCRIPTION:Staňte se vyšetřovateli\, detektivy pátrajícími po zdroji špinavých peněz. Hra vás přenese do středověkého Chomutova\, který ovládli penězokazci. Odhalíte je? Dokážete jim jejich provinění?\nNeváhejte a pusťte se po stopách jednoho z nejhorších zločinů vrcholného středověku v Čechách!
URL:https://visit.chomutov.cz/kalendar/detektivni-hra-krvave-penize/
LOCATION:Oblastní muzeum v Chomutově – hlavní budova\, Palackého 86\, Chomutov\, Česká republika
CATEGORIES:stálá expozice
ATTACH;FMTTYPE=image/png:https://visit.chomutov.cz/wp-content/uploads/2022/05/plakat-hnedy-krev.png
END:VEVENT
END:VCALENDAR