BEGIN:VCALENDAR
VERSION:2.0
PRODID:-//Visit Chomutov - ECPv5.14.2.1//NONSGML v1.0//EN
CALSCALE:GREGORIAN
METHOD:PUBLISH
X-WR-CALNAME:Visit Chomutov
X-ORIGINAL-URL:https://visit.chomutov.cz
X-WR-CALDESC:Akce na Visit Chomutov
REFRESH-INTERVAL;VALUE=DURATION:PT1H
X-Robots-Tag:noindex
X-PUBLISHED-TTL:PT1H
BEGIN:VTIMEZONE
TZID:Europe/Prague
BEGIN:DAYLIGHT
TZOFFSETFROM:+0100
TZOFFSETTO:+0200
TZNAME:CEST
DTSTART:20250330T010000
END:DAYLIGHT
BEGIN:STANDARD
TZOFFSETFROM:+0200
TZOFFSETTO:+0100
TZNAME:CET
DTSTART:20251026T010000
END:STANDARD
END:VTIMEZONE
BEGIN:VEVENT
DTSTART;TZID=Europe/Prague:20251003T183000
DTEND;TZID=Europe/Prague:20251003T183000
DTSTAMP:20260421T221713
CREATED:20250929T081808Z
LAST-MODIFIED:20250929T081808Z
UID:11049-1759516200-1759516200@visit.chomutov.cz
SUMMARY:FC  Chomutov - FK Ústí nad Labem
DESCRIPTION:
URL:https://visit.chomutov.cz/kalendar/fc-chomutov-fk-usti-nad-labem/
LOCATION:Letní stadion\, Mostecká 5886\, Chomutov
CATEGORIES:sportovní akce
ATTACH;FMTTYPE=image/jpeg:https://visit.chomutov.cz/wp-content/uploads/2022/05/fotbal-1.jpg
ORGANIZER;CN="FC%20Chomutov":MAILTO:fcchomutov@seznam.cz
END:VEVENT
BEGIN:VEVENT
DTSTART;TZID=Europe/Prague:20251003T170000
DTEND;TZID=Europe/Prague:20251003T200000
DTSTAMP:20260421T221713
CREATED:20250926T072728Z
LAST-MODIFIED:20250926T072728Z
UID:10947-1759510800-1759521600@visit.chomutov.cz
SUMMARY:CombatBall 6 – CombatBall vs. IAF
DESCRIPTION:Šesté pokračování jedinečné show je tady! Přijďte zažít večer\, kdy se proti sobě postaví týmy plné hvězd bojových sportů a k tomu vystoupí i známé tváře ze světa šoubyznysu. Čeká vás večer plný adrenalinu\, zábavy\, nečekaných momentů a hvězdné atmosféry. Akce je benefiční – výtěžek poputuje na pomoc dvěma dětem\, které naši podporu opravdu potřebují. Přijďte fandit\, bavit se a být součástí nezapomenutelné show\, která spojuje sport\, showbyznys a dobrou věc!
URL:https://visit.chomutov.cz/kalendar/combatball-6-combatball-vs-iaf/
LOCATION:Městská sportovní hala\, Mánesova 4980\, Chomutov
CATEGORIES:sportovní akce,zábavní pořady
ATTACH;FMTTYPE=image/jpeg:https://visit.chomutov.cz/wp-content/uploads/2025/09/Combatball-6-scaled.jpg
END:VEVENT
BEGIN:VEVENT
DTSTART;TZID=Europe/Prague:20251003T153000
DTEND;TZID=Europe/Prague:20251003T190000
DTSTAMP:20260421T221713
CREATED:20250926T094855Z
LAST-MODIFIED:20250926T094855Z
UID:11032-1759505400-1759518000@visit.chomutov.cz
SUMMARY:Oddílové závody TJ Slavie
DESCRIPTION:
URL:https://visit.chomutov.cz/kalendar/oddilove-zavody-tj-slavie/
LOCATION:Aquasvět\, Mostecká 5887\, Chomutov
CATEGORIES:sportovní akce
ATTACH;FMTTYPE=image/jpeg:https://visit.chomutov.cz/wp-content/uploads/2022/11/plavani.jpg
ORGANIZER;CN="TJ%20Sl%C3%A1vie%20Chomutov":MAILTO:slcho@slaviechomutov.cz
END:VEVENT
BEGIN:VEVENT
DTSTART;TZID=Europe/Prague:20251001T173000
DTEND;TZID=Europe/Prague:20251001T173000
DTSTAMP:20260421T221713
CREATED:20250926T094759Z
LAST-MODIFIED:20250926T094759Z
UID:11030-1759339800-1759339800@visit.chomutov.cz
SUMMARY:Piráti Chomutov x HC Tábor
DESCRIPTION:
URL:https://visit.chomutov.cz/kalendar/pirati-chomutov-x-hc-tabor/
LOCATION:Rocknet Aréna – zimní stadion\, Mostecká 5773\, Chomutov
CATEGORIES:sportovní akce
ATTACH;FMTTYPE=image/jpeg:https://visit.chomutov.cz/wp-content/uploads/2024/12/piratichomutov.jpg
END:VEVENT
BEGIN:VEVENT
DTSTART;TZID=Europe/Prague:20250926T150000
DTEND;TZID=Europe/Prague:20250926T170000
DTSTAMP:20260421T221713
CREATED:20250929T110259Z
LAST-MODIFIED:20250929T110259Z
UID:11144-1758898800-1758906000@visit.chomutov.cz
SUMMARY:Florbal ČEZ EXTRALIGA ženy A
DESCRIPTION:26.10. 15:00 – 17:00 Florbal Chomutov – florbal ČEZ EXTRALIGA ženy A – FBC ČPP Bystroň Group Ostrava\n28.10. 15:00 – 17:00 Florbal Chomutov – florbal ČEZ EXTRALIGA ženy A – Bulldogs Brno
URL:https://visit.chomutov.cz/kalendar/florbal-cez-extraliga-zeny-a/
LOCATION:Městská sportovní hala\, Mánesova 4980\, Chomutov
CATEGORIES:sportovní akce
ATTACH;FMTTYPE=image/jpeg:https://visit.chomutov.cz/wp-content/uploads/2025/09/Florbal-CEZ-extraliga-zeny.jpg
END:VEVENT
BEGIN:VEVENT
DTSTART;TZID=Europe/Prague:20250914T180000
DTEND;TZID=Europe/Prague:20250914T180000
DTSTAMP:20260421T221713
CREATED:20250905T081908Z
LAST-MODIFIED:20250905T082006Z
UID:10783-1757872800-1757872800@visit.chomutov.cz
SUMMARY:Florbal Chomutov X FK Chrudim
DESCRIPTION:muži
URL:https://visit.chomutov.cz/kalendar/florbal-chomutov-x-fk-chrudim/
LOCATION:Městská sportovní hala\, Mánesova 4980\, Chomutov
CATEGORIES:sportovní akce
ATTACH;FMTTYPE=image/jpeg:https://visit.chomutov.cz/wp-content/uploads/2025/08/Florbal-Chomutov.jpg
END:VEVENT
BEGIN:VEVENT
DTSTART;TZID=Europe/Prague:20250914T100000
DTEND;TZID=Europe/Prague:20250914T120000
DTSTAMP:20260421T221713
CREATED:20250905T081726Z
LAST-MODIFIED:20250905T081726Z
UID:10781-1757844000-1757851200@visit.chomutov.cz
SUMMARY:Beavers Chomutov B X Hladoví hroši Sezimovo Ústí
DESCRIPTION:1.liga mužů softball ZČ
URL:https://visit.chomutov.cz/kalendar/beavers-chomutov-b-x-hladovi-hrosi-sezimovo-usti/
LOCATION:Softballový areál\, Bezručova 5989\, Chomutov
CATEGORIES:sportovní akce
ATTACH;FMTTYPE=image/jpeg:https://visit.chomutov.cz/wp-content/uploads/2022/05/softball.jpg
END:VEVENT
BEGIN:VEVENT
DTSTART;TZID=Europe/Prague:20250914T090000
DTEND;TZID=Europe/Prague:20250914T090000
DTSTAMP:20260421T221713
CREATED:20250905T081108Z
LAST-MODIFIED:20250905T081108Z
UID:10779-1757840400-1757840400@visit.chomutov.cz
SUMMARY:VII. kolo CHRT 2025 RP 2x30
DESCRIPTION:
URL:https://visit.chomutov.cz/kalendar/vii-kolo-chrt-2025-rp-2x30/
LOCATION:Střelnice SSK Chomutov\, Blatenská 804\, Chomutov
CATEGORIES:sportovní akce
ATTACH;FMTTYPE=image/jpeg:https://visit.chomutov.cz/wp-content/uploads/2024/09/pexels-karolina-grabowska-5202384.jpg
END:VEVENT
BEGIN:VEVENT
DTSTART;TZID=Europe/Prague:20250913T170000
DTEND;TZID=Europe/Prague:20250913T170000
DTSTAMP:20260421T221713
CREATED:20250905T080932Z
LAST-MODIFIED:20250905T080932Z
UID:10777-1757782800-1757782800@visit.chomutov.cz
SUMMARY:Florbal Chomutov X FBC Lovosické Srdce
DESCRIPTION:junioři
URL:https://visit.chomutov.cz/kalendar/florbal-chomutov-x-fbc-lovosicke-srdce/
LOCATION:Městská sportovní hala\, Mánesova 4980\, Chomutov
CATEGORIES:sportovní akce
ATTACH;FMTTYPE=image/jpeg:https://visit.chomutov.cz/wp-content/uploads/2025/08/Florbal-Chomutov.jpg
END:VEVENT
BEGIN:VEVENT
DTSTART;TZID=Europe/Prague:20250913T150000
DTEND;TZID=Europe/Prague:20250913T150000
DTSTAMP:20260421T221713
CREATED:20250905T080317Z
LAST-MODIFIED:20250905T080317Z
UID:10775-1757775600-1757775600@visit.chomutov.cz
SUMMARY:Florbal Chomutov X FAT PIPE Florbal Chodov
DESCRIPTION:ženy
URL:https://visit.chomutov.cz/kalendar/florbal-chomutov-x-fat-pipe-florbal-chodov/
LOCATION:Městská sportovní hala\, Mánesova 4980\, Chomutov
CATEGORIES:sportovní akce
ATTACH;FMTTYPE=image/jpeg:https://visit.chomutov.cz/wp-content/uploads/2025/08/Florbal-Chomutov.jpg
END:VEVENT
BEGIN:VEVENT
DTSTART;TZID=Europe/Prague:20250913T140000
DTEND;TZID=Europe/Prague:20250913T160000
DTSTAMP:20260421T221713
CREATED:20250905T080141Z
LAST-MODIFIED:20250905T080141Z
UID:10773-1757772000-1757779200@visit.chomutov.cz
SUMMARY:Beavers Chomutov B X Žraloci Ledenice B
DESCRIPTION:1. liga mužů softball ZČ
URL:https://visit.chomutov.cz/kalendar/beavers-chomutov-b-x-zraloci-ledenice-b/
LOCATION:Softballový areál\, Bezručova 5989\, Chomutov
CATEGORIES:sportovní akce
ATTACH;FMTTYPE=image/jpeg:https://visit.chomutov.cz/wp-content/uploads/2022/05/softball.jpg
END:VEVENT
BEGIN:VEVENT
DTSTART;TZID=Europe/Prague:20250913T090000
DTEND;TZID=Europe/Prague:20250913T090000
DTSTAMP:20260421T221713
CREATED:20250905T073342Z
LAST-MODIFIED:20250905T073342Z
UID:10771-1757754000-1757754000@visit.chomutov.cz
SUMMARY:Předšampionátový závod SP 30+30
DESCRIPTION:
URL:https://visit.chomutov.cz/kalendar/predsampionatovy-zavod-sp-3030/
LOCATION:Střelnice SSK Chomutov\, Blatenská 804\, Chomutov
CATEGORIES:sportovní akce
ATTACH;FMTTYPE=image/jpeg:https://visit.chomutov.cz/wp-content/uploads/2024/09/pexels-karolina-grabowska-5202384.jpg
END:VEVENT
BEGIN:VEVENT
DTSTART;VALUE=DATE:20250912
DTEND;VALUE=DATE:20250914
DTSTAMP:20260421T221713
CREATED:20240903T072702Z
LAST-MODIFIED:20250905T073148Z
UID:7673-1757635200-1757807999@visit.chomutov.cz
SUMMARY:Velká cena Chomutova
DESCRIPTION:42. ročník plaveckých závodů.
URL:https://visit.chomutov.cz/kalendar/velka-cena-chomutova/
LOCATION:Aquasvět\, Mostecká 5887\, Chomutov
CATEGORIES:sportovní akce
ATTACH;FMTTYPE=image/jpeg:https://visit.chomutov.cz/wp-content/uploads/2022/11/plavani.jpg
ORGANIZER;CN="TJ%20Sl%C3%A1vie%20Chomutov":MAILTO:slcho@slaviechomutov.cz
END:VEVENT
BEGIN:VEVENT
DTSTART;TZID=Europe/Prague:20250907T130000
DTEND;TZID=Europe/Prague:20250907T130000
DTSTAMP:20260421T221713
CREATED:20250829T061852Z
LAST-MODIFIED:20250829T061859Z
UID:10659-1757250000-1757250000@visit.chomutov.cz
SUMMARY:BK Levharti vs Göttingen U19
DESCRIPTION:
URL:https://visit.chomutov.cz/kalendar/bk-levharti-vs-gottingen-u19/
LOCATION:Městská sportovní hala\, Mánesova 4980\, Chomutov
CATEGORIES:sportovní akce
ATTACH;FMTTYPE=image/png:https://visit.chomutov.cz/wp-content/uploads/2022/10/bk-levharti.png
END:VEVENT
BEGIN:VEVENT
DTSTART;TZID=Europe/Prague:20250907T100000
DTEND;TZID=Europe/Prague:20250907T150000
DTSTAMP:20260421T221713
CREATED:20250829T061533Z
LAST-MODIFIED:20250829T061533Z
UID:10654-1757239200-1757257200@visit.chomutov.cz
SUMMARY:Festival sportu 2025
DESCRIPTION:přehlídka sportovních možností v našem městě. Nábor do většiny sportovních oddílů na jednom místě. Vyberte si nejvhodnější sport. Bohatý doprovodný program – nafukovací atrakce pro děti\, moderuje Lukáš Budai
URL:https://visit.chomutov.cz/kalendar/festival-sportu-2025/
LOCATION:Kamencové jezero\, Tomáše ze Štítného 5971\, Chomutov
CATEGORIES:pro děti,sportovní akce
ATTACH;FMTTYPE=image/jpeg:https://visit.chomutov.cz/wp-content/uploads/2025/08/festival-sportu.jpg
ORGANIZER;CN="Statut%C3%A1rn%C3%AD%20m%C4%9Bsto%20Chomutov":MAILTO:infocentrum@chomutov.cz
END:VEVENT
BEGIN:VEVENT
DTSTART;TZID=Europe/Prague:20250907T100000
DTEND;TZID=Europe/Prague:20250907T150000
DTSTAMP:20260421T221713
CREATED:20250828T120446Z
LAST-MODIFIED:20250828T120446Z
UID:10634-1757239200-1757257200@visit.chomutov.cz
SUMMARY:Rodinné zápolení - Festival sportu
DESCRIPTION:9. akce Rodinného zápolení
URL:https://visit.chomutov.cz/kalendar/rodinne-zapoleni-festival-sportu-2/
LOCATION:Kamencové jezero\, Tomáše ze Štítného 5971\, Chomutov
CATEGORIES:pro děti,sportovní akce
ATTACH;FMTTYPE=image/jpeg:https://visit.chomutov.cz/wp-content/uploads/2025/08/chomutov-rz-A3-plakat-festival-sportu.jpg
ORGANIZER;CN="Statut%C3%A1rn%C3%AD%20m%C4%9Bsto%20Chomutov":MAILTO:infocentrum@chomutov.cz
END:VEVENT
BEGIN:VEVENT
DTSTART;TZID=Europe/Prague:20250906T153000
DTEND;TZID=Europe/Prague:20250906T153000
DTSTAMP:20260421T221713
CREATED:20250828T121248Z
LAST-MODIFIED:20250828T121447Z
UID:10642-1757172600-1757172600@visit.chomutov.cz
SUMMARY:Liga mistrů - HC Sparta vs Frölunda HC
DESCRIPTION:Po souboji s Luleou přichází další evropská výzva! Do Chomutova zavítá v sobotu 6.9. švédská Frölunda HC\, několikanásobný vítěz Ligy mistrů a tradiční hokejová velmoc. Čeká vás špičkový hokej s mezinárodním nábojem a nezapomenutelná atmosféra! Přijďte podpořit Spartu v boji o důležité body.
URL:https://visit.chomutov.cz/kalendar/liga-mistru-hc-sparta-vs-frolunda/
LOCATION:Rocknet Aréna – zimní stadion\, Mostecká 5773\, Chomutov
CATEGORIES:sportovní akce
ATTACH;FMTTYPE=image/jpeg:https://visit.chomutov.cz/wp-content/uploads/2025/08/HC_Sparta_Praha_FrA_lunda_HC_.jpg
END:VEVENT
BEGIN:VEVENT
DTSTART;TZID=Europe/Prague:20250906T140000
DTEND;TZID=Europe/Prague:20250906T140000
DTSTAMP:20260421T221713
CREATED:20250829T054414Z
LAST-MODIFIED:20250829T054414Z
UID:10648-1757167200-1757167200@visit.chomutov.cz
SUMMARY:Florbal Chomutov vs FBC Lišky Písek
DESCRIPTION:
URL:https://visit.chomutov.cz/kalendar/florbal-chomutov-vs-fbc-lisky-pisek/
LOCATION:Městská sportovní hala\, Mánesova 4980\, Chomutov
CATEGORIES:sportovní akce
ATTACH;FMTTYPE=image/jpeg:https://visit.chomutov.cz/wp-content/uploads/2025/08/Florbal-Chomutov.jpg
END:VEVENT
BEGIN:VEVENT
DTSTART;VALUE=DATE:20250906
DTEND;VALUE=DATE:20250908
DTSTAMP:20260421T221713
CREATED:20250829T061647Z
LAST-MODIFIED:20250829T061647Z
UID:10657-1757116800-1757289599@visit.chomutov.cz
SUMMARY:Beavers Chomutov - Nadstavbový turnaj U11
DESCRIPTION:
URL:https://visit.chomutov.cz/kalendar/beavers-chomutov-nadstavbovy-turnaj-u11/
LOCATION:Softballový areál\, Bezručova 5989\, Chomutov
CATEGORIES:sportovní akce
ATTACH;FMTTYPE=image/jpeg:https://visit.chomutov.cz/wp-content/uploads/2022/05/softball.jpg
END:VEVENT
BEGIN:VEVENT
DTSTART;TZID=Europe/Prague:20250903T173000
DTEND;TZID=Europe/Prague:20250903T173000
DTSTAMP:20260421T221713
CREATED:20250828T121036Z
LAST-MODIFIED:20250828T121036Z
UID:10640-1756920600-1756920600@visit.chomutov.cz
SUMMARY:Piráti Chomutov vs Selber Wolfe (GER)
DESCRIPTION:
URL:https://visit.chomutov.cz/kalendar/pirati-chomutov-vs-selber-wolfe-ger/
LOCATION:Rocknet Aréna – zimní stadion\, Mostecká 5773\, Chomutov
CATEGORIES:sportovní akce
ATTACH;FMTTYPE=image/jpeg:https://visit.chomutov.cz/wp-content/uploads/2024/12/piratichomutov.jpg
END:VEVENT
BEGIN:VEVENT
DTSTART;TZID=Europe/Prague:20250831T150000
DTEND;TZID=Europe/Prague:20250831T150000
DTSTAMP:20260421T221713
CREATED:20250806T163846Z
LAST-MODIFIED:20250806T163846Z
UID:10571-1756652400-1756652400@visit.chomutov.cz
SUMMARY:Beavers Chomutov
DESCRIPTION:Beavers Chomutov – Eagles Praha B – 1.liga žen softball ZČ
URL:https://visit.chomutov.cz/kalendar/beavers-chomutov-4/
LOCATION:Softballový areál\, Bezručova 5989\, Chomutov
CATEGORIES:sportovní akce
ATTACH;FMTTYPE=image/jpeg:https://visit.chomutov.cz/wp-content/uploads/2022/05/softball.jpg
END:VEVENT
BEGIN:VEVENT
DTSTART;TZID=Europe/Prague:20250831T100000
DTEND;TZID=Europe/Prague:20250831T140000
DTSTAMP:20260421T221713
CREATED:20250806T163824Z
LAST-MODIFIED:20250806T163824Z
UID:10569-1756634400-1756648800@visit.chomutov.cz
SUMMARY:Beavers Chomutov
DESCRIPTION:Beavers Chomutov-Žraloci Ledenice – extraliga softball muži ZČ
URL:https://visit.chomutov.cz/kalendar/beavers-chomutov-3/
LOCATION:Softballový areál\, Bezručova 5989\, Chomutov
CATEGORIES:sportovní akce
ATTACH;FMTTYPE=image/jpeg:https://visit.chomutov.cz/wp-content/uploads/2022/05/softball.jpg
END:VEVENT
BEGIN:VEVENT
DTSTART;TZID=Europe/Prague:20250831T090000
DTEND;TZID=Europe/Prague:20250831T090000
DTSTAMP:20260421T221713
CREATED:20250425T080450Z
LAST-MODIFIED:20250806T164250Z
UID:9765-1756630800-1756630800@visit.chomutov.cz
SUMMARY:Střelecké závody
DESCRIPTION:VI. kolo CHRT 2025\, zároveň III. kolo ČPM v disciplině RP 2×30
URL:https://visit.chomutov.cz/kalendar/strelecke-zavody-2/
LOCATION:Střelnice SSK Chomutov\, Blatenská 804\, Chomutov
CATEGORIES:sportovní akce
ATTACH;FMTTYPE=image/jpeg:https://visit.chomutov.cz/wp-content/uploads/2022/05/pistole.jpg
END:VEVENT
BEGIN:VEVENT
DTSTART;TZID=Europe/Prague:20250830T130000
DTEND;TZID=Europe/Prague:20250830T140000
DTSTAMP:20260421T221713
CREATED:20250806T163801Z
LAST-MODIFIED:20250806T163801Z
UID:10567-1756558800-1756562400@visit.chomutov.cz
SUMMARY:Beavers Chomutov
DESCRIPTION:Beavers Chomutov – Hippos Havlíčkův Brod – extraliga můžů softball ZČ
URL:https://visit.chomutov.cz/kalendar/beavers-chomutov-2/
LOCATION:Softballový areál\, Bezručova 5989\, Chomutov
CATEGORIES:sportovní akce
ATTACH;FMTTYPE=image/jpeg:https://visit.chomutov.cz/wp-content/uploads/2022/05/softball.jpg
END:VEVENT
BEGIN:VEVENT
DTSTART;TZID=Europe/Prague:20250830T080000
DTEND;TZID=Europe/Prague:20250830T080000
DTSTAMP:20260421T221713
CREATED:20250528T104346Z
LAST-MODIFIED:20250528T104346Z
UID:10257-1756540800-1756540800@visit.chomutov.cz
SUMMARY:Chomutovský půlmaraton 2025
DESCRIPTION:
URL:https://visit.chomutov.cz/kalendar/chomutovsky-pulmaraton-2025/
LOCATION:náměstí 1. máje Chomutov\, nám. 1. máje\, Chomutov
CATEGORIES:sportovní akce
ATTACH;FMTTYPE=image/jpeg:https://visit.chomutov.cz/wp-content/uploads/2025/05/chomutov-pulmaraton-2vlna-fb-2501.jpg
ORGANIZER;CN="Statut%C3%A1rn%C3%AD%20m%C4%9Bsto%20Chomutov":MAILTO:infocentrum@chomutov.cz
END:VEVENT
BEGIN:VEVENT
DTSTART;TZID=Europe/Prague:20250829T091500
DTEND;TZID=Europe/Prague:20250829T101500
DTSTAMP:20260421T221713
CREATED:20250805T102600Z
LAST-MODIFIED:20250806T152921Z
UID:10519-1756458900-1756462500@visit.chomutov.cz
SUMMARY:Jóga na Kamenčáku
DESCRIPTION:Potřebujete vlastní podložku a případně i pomůcky\, pokud je používáte. A nezapomeňte plavky.\nvstup za recepcí u Bandy
URL:https://visit.chomutov.cz/kalendar/joga-na-kamencaku-4/
LOCATION:Kamencové jezero\, Tomáše ze Štítného 5971\, Chomutov
CATEGORIES:sportovní akce
ATTACH;FMTTYPE=image/jpeg:https://visit.chomutov.cz/wp-content/uploads/2025/08/pexels-shkrabaanthony-4708511.jpg
END:VEVENT
BEGIN:VEVENT
DTSTART;TZID=Europe/Prague:20250829T080000
DTEND;TZID=Europe/Prague:20250829T170000
DTSTAMP:20260421T221713
CREATED:20250829T061250Z
LAST-MODIFIED:20250829T061250Z
UID:10651-1756454400-1756486800@visit.chomutov.cz
SUMMARY:FC Chomutov vs SK Štětí
DESCRIPTION:
URL:https://visit.chomutov.cz/kalendar/fc-chomutov-vs-sk-steti/
LOCATION:Letní stadion\, Mostecká 5886\, Chomutov
CATEGORIES:sportovní akce
ATTACH;FMTTYPE=image/jpeg:https://visit.chomutov.cz/wp-content/uploads/2022/05/fotbal-1.jpg
END:VEVENT
BEGIN:VEVENT
DTSTART;TZID=Europe/Prague:20250826T180000
DTEND;TZID=Europe/Prague:20250826T180000
DTSTAMP:20260421T221713
CREATED:20250627T070801Z
LAST-MODIFIED:20250806T163535Z
UID:10425-1756231200-1756231200@visit.chomutov.cz
SUMMARY:Jóga v Atriu
DESCRIPTION:lektorky studia BFit Yoga\, cvičení bude probíhat za hezkého počasí v Atriu\, při nepřízni v Yoga studiu na náměstí 1. máje.
URL:https://visit.chomutov.cz/kalendar/joga-v-atriu-3/
LOCATION:Atrium\, nám. 1. máje\, Chomutov
CATEGORIES:sportovní akce
ATTACH;FMTTYPE=image/jpeg:https://visit.chomutov.cz/wp-content/uploads/2025/06/pexels-lorencastillo-9194293.jpg
END:VEVENT
BEGIN:VEVENT
DTSTART;TZID=Europe/Prague:20250824T140000
DTEND;TZID=Europe/Prague:20250824T140000
DTSTAMP:20260421T221713
CREATED:20250806T163735Z
LAST-MODIFIED:20250806T163735Z
UID:10565-1756044000-1756044000@visit.chomutov.cz
SUMMARY:Beavers Chomutov
DESCRIPTION:Beavers Chomutov – SaBaT Praha B – 1.liga žen softball ZČ
URL:https://visit.chomutov.cz/kalendar/beavers-chomutov/
LOCATION:Softballový areál\, Bezručova 5989\, Chomutov
CATEGORIES:sportovní akce
ATTACH;FMTTYPE=image/jpeg:https://visit.chomutov.cz/wp-content/uploads/2022/05/softball.jpg
END:VEVENT
BEGIN:VEVENT
DTSTART;TZID=Europe/Prague:20250822T091500
DTEND;TZID=Europe/Prague:20250822T101500
DTSTAMP:20260421T221713
CREATED:20250805T102547Z
LAST-MODIFIED:20250805T102547Z
UID:10517-1755854100-1755857700@visit.chomutov.cz
SUMMARY:Jóga na Kamenčáku
DESCRIPTION:Potřebujete vlastní podložku a případně i pomůcky\, pokud je používáte. A nezapomeňte plavky.\nvstup za recepcí u Bandy
URL:https://visit.chomutov.cz/kalendar/joga-na-kamencaku-3/
LOCATION:Kamencové jezero\, Tomáše ze Štítného 5971\, Chomutov
CATEGORIES:sportovní akce
ATTACH;FMTTYPE=image/jpeg:https://visit.chomutov.cz/wp-content/uploads/2025/08/pexels-shkrabaanthony-4708511.jpg
END:VEVENT
END:VCALENDAR