BEGIN:VCALENDAR
VERSION:2.0
PRODID:-//Visit Chomutov - ECPv5.14.2.1//NONSGML v1.0//EN
CALSCALE:GREGORIAN
METHOD:PUBLISH
X-WR-CALNAME:Visit Chomutov
X-ORIGINAL-URL:https://visit.chomutov.cz
X-WR-CALDESC:Akce na Visit Chomutov
REFRESH-INTERVAL;VALUE=DURATION:PT1H
X-Robots-Tag:noindex
X-PUBLISHED-TTL:PT1H
BEGIN:VTIMEZONE
TZID:Europe/Prague
BEGIN:DAYLIGHT
TZOFFSETFROM:+0100
TZOFFSETTO:+0200
TZNAME:CEST
DTSTART:20220327T010000
END:DAYLIGHT
BEGIN:STANDARD
TZOFFSETFROM:+0200
TZOFFSETTO:+0100
TZNAME:CET
DTSTART:20221030T010000
END:STANDARD
END:VTIMEZONE
BEGIN:VEVENT
DTSTART;VALUE=DATE:20220704
DTEND;VALUE=DATE:20220711
DTSTAMP:20260425T122933
CREATED:20220610T131155Z
LAST-MODIFIED:20220610T131757Z
UID:1852-1656892800-1657497599@visit.chomutov.cz
SUMMARY:Skatecamp
DESCRIPTION:
URL:https://visit.chomutov.cz/kalendar/skatecamp/
LOCATION:Sk8park Eldorádo\, Kamenný vrch 5347\, Chomutov\, 430 04
CATEGORIES:pro děti,sportovní akce
ATTACH;FMTTYPE=image/jpeg:https://visit.chomutov.cz/wp-content/uploads/2022/06/skatecamp.jpg
END:VEVENT
BEGIN:VEVENT
DTSTART;VALUE=DATE:20220625
DTEND;VALUE=DATE:20220627
DTSTAMP:20260425T122933
CREATED:20220523T184755Z
LAST-MODIFIED:20220523T184755Z
UID:1405-1656115200-1656287999@visit.chomutov.cz
SUMMARY:Pohár ČSA žáků
DESCRIPTION:celodenní turnaj
URL:https://visit.chomutov.cz/kalendar/pohar-csa-zaku/
LOCATION:Softballový areál\, Bezručova 5989\, Chomutov
CATEGORIES:sportovní akce
ATTACH;FMTTYPE=image/jpeg:https://visit.chomutov.cz/wp-content/uploads/2022/05/softball.jpg
ORGANIZER;CN="Beavers%20Chomutov":MAILTO:info@beavers.cz
END:VEVENT
BEGIN:VEVENT
DTSTART;VALUE=DATE:20220625
DTEND;VALUE=DATE:20220703
DTSTAMP:20260425T122933
CREATED:20220523T185909Z
LAST-MODIFIED:20220524T102532Z
UID:1409-1656115200-1656806399@visit.chomutov.cz
SUMMARY:Senioři za zdravým pohybem\, památkami a krásami přírody
DESCRIPTION:Výlet do Sloupu v Čechách s Klubem českých turistů Chomutov.
URL:https://visit.chomutov.cz/kalendar/seniori-za-zdravym-pohybem-pamatkami-a-krasami-prirody/
CATEGORIES:sportovní akce
ATTACH;FMTTYPE=image/jpeg:https://visit.chomutov.cz/wp-content/uploads/2022/05/KCT-Sloup.jpg
ORGANIZER;CN="Klub%20%C4%8Desk%C3%BDch%20turist%C5%AF%20Chomutov":MAILTO:vera.pajerova@email.cz
END:VEVENT
BEGIN:VEVENT
DTSTART;VALUE=DATE:20220624
DTEND;VALUE=DATE:20220627
DTSTAMP:20260425T122933
CREATED:20220523T184425Z
LAST-MODIFIED:20220523T184440Z
UID:1400-1656028800-1656287999@visit.chomutov.cz
SUMMARY:Dance Fever
DESCRIPTION:Mistrovství Evropy v disciplínách Disco Dance a Disco Freestyle
URL:https://visit.chomutov.cz/kalendar/dance-fever/
LOCATION:Městská sportovní hala\, Mánesova 4980\, Chomutov
CATEGORIES:sportovní akce
ATTACH;FMTTYPE=image/png:https://visit.chomutov.cz/wp-content/uploads/2022/05/Dance-fever-2022.png
ORGANIZER;CN="Beethoven%20DC%20Chomutov":MAILTO:beethovendcchomutov@seznam.cz
END:VEVENT
BEGIN:VEVENT
DTSTART;VALUE=DATE:20220619
DTEND;VALUE=DATE:20220620
DTSTAMP:20260425T122933
CREATED:20220523T183608Z
LAST-MODIFIED:20220523T183622Z
UID:1396-1655596800-1655683199@visit.chomutov.cz
SUMMARY:Beavers Chomutov x Snails Kunovice
DESCRIPTION:extraliga juniorů
URL:https://visit.chomutov.cz/kalendar/beavers-chomutov-x-snails-kunovice/
LOCATION:Softballový areál\, Bezručova 5989\, Chomutov
CATEGORIES:sportovní akce
ATTACH;FMTTYPE=image/jpeg:https://visit.chomutov.cz/wp-content/uploads/2022/05/softball.jpg
ORGANIZER;CN="Beavers%20Chomutov":MAILTO:info@beavers.cz
END:VEVENT
BEGIN:VEVENT
DTSTART;TZID=Europe/Prague:20220618T100000
DTEND;TZID=Europe/Prague:20220618T180000
DTSTAMP:20260425T122933
CREATED:20220523T182051Z
LAST-MODIFIED:20220523T182051Z
UID:1381-1655546400-1655575200@visit.chomutov.cz
SUMMARY:Výšlap na Kočičák
DESCRIPTION:historicky-branná akce pro rodiny s dětmi
URL:https://visit.chomutov.cz/kalendar/vyslap-na-kocicak/
CATEGORIES:pro děti,sportovní akce
ATTACH;FMTTYPE=image/jpeg:https://visit.chomutov.cz/wp-content/uploads/2021/11/Kocicak_2-Velke.jpg
END:VEVENT
BEGIN:VEVENT
DTSTART;VALUE=DATE:20220618
DTEND;VALUE=DATE:20220620
DTSTAMP:20260425T122933
CREATED:20220523T182950Z
LAST-MODIFIED:20220523T183034Z
UID:1388-1655510400-1655683199@visit.chomutov.cz
SUMMARY:Letní mistrovství mladšího žactva v plavání
DESCRIPTION:
URL:https://visit.chomutov.cz/kalendar/letni-mistrovstvi-mladsiho-zactva-v-plavani/
LOCATION:Aquasvět\, Mostecká 5887\, Chomutov
CATEGORIES:sportovní akce
ATTACH;FMTTYPE=image/jpeg:https://visit.chomutov.cz/wp-content/uploads/2022/05/pexels-emily-rose-2062708-scaled.jpg
ORGANIZER;CN="TJ%20Sl%C3%A1vie%20Chomutov":MAILTO:slcho@slaviechomutov.cz
END:VEVENT
BEGIN:VEVENT
DTSTART;VALUE=DATE:20220618
DTEND;VALUE=DATE:20220619
DTSTAMP:20260425T122933
CREATED:20220523T182330Z
LAST-MODIFIED:20220523T190240Z
UID:1384-1655510400-1655596799@visit.chomutov.cz
SUMMARY:Beavers Chomutov x Žraloci Ledenice
DESCRIPTION:extraliga juniorů
URL:https://visit.chomutov.cz/kalendar/beavers-chomutov-x-zraloci-ledenice/
LOCATION:Softballový areál\, Bezručova 5989\, Chomutov
CATEGORIES:sportovní akce
ATTACH;FMTTYPE=image/jpeg:https://visit.chomutov.cz/wp-content/uploads/2022/05/softball.jpg
ORGANIZER;CN="Beavers%20Chomutov":MAILTO:info@beavers.cz
END:VEVENT
BEGIN:VEVENT
DTSTART;VALUE=DATE:20220611
DTEND;VALUE=DATE:20220713
DTSTAMP:20260425T122933
CREATED:20220523T181657Z
LAST-MODIFIED:20220523T181717Z
UID:1376-1654905600-1657670399@visit.chomutov.cz
SUMMARY:Český pohár mladšího žactva v rychlostní kanoistice 2022
DESCRIPTION:
URL:https://visit.chomutov.cz/kalendar/cesky-pohar-mladsiho-zactva-v-rychlostni-kanoistice-2022/
LOCATION:Kamencové jezero\, Tomáše ze Štítného 5971\, Chomutov
CATEGORIES:sportovní akce
ATTACH;FMTTYPE=image/webp:https://visit.chomutov.cz/wp-content/uploads/2022/05/kanoistika.webp
ORGANIZER;CN="Kanoistika%20Chomutov":MAILTO:b.dol@seznam.cz
END:VEVENT
BEGIN:VEVENT
DTSTART;TZID=Europe/Prague:20220604T090000
DTEND;TZID=Europe/Prague:20220604T090000
DTSTAMP:20260425T122933
CREATED:20220523T174550Z
LAST-MODIFIED:20220523T174550Z
UID:1361-1654333200-1654333200@visit.chomutov.cz
SUMMARY:Šachy
DESCRIPTION:Krajský přebor mládeže.
URL:https://visit.chomutov.cz/kalendar/sachy/
LOCATION:Středisko volného času Domeček Chomutov\, Jiráskova 4140\, Chomutov
CATEGORIES:sportovní akce
ATTACH;FMTTYPE=image/jpeg:https://visit.chomutov.cz/wp-content/uploads/2022/05/pexels-pixabay-139392-scaled.jpg
END:VEVENT
BEGIN:VEVENT
DTSTART;VALUE=DATE:20220604
DTEND;VALUE=DATE:20220606
DTSTAMP:20260425T122933
CREATED:20220523T182214Z
LAST-MODIFIED:20220523T190601Z
UID:1367-1654300800-1654473599@visit.chomutov.cz
SUMMARY:Superliga kadetů
DESCRIPTION:Celodenní turnaj v softballu.
URL:https://visit.chomutov.cz/kalendar/superliga-kadetu/
LOCATION:Softballový areál\, Bezručova 5989\, Chomutov
CATEGORIES:sportovní akce
ATTACH;FMTTYPE=image/jpeg:https://visit.chomutov.cz/wp-content/uploads/2022/05/softball.jpg
END:VEVENT
BEGIN:VEVENT
DTSTART;VALUE=DATE:20220604
DTEND;VALUE=DATE:20220605
DTSTAMP:20260425T122933
CREATED:20220523T175153Z
LAST-MODIFIED:20220523T175153Z
UID:1364-1654300800-1654300800@visit.chomutov.cz
SUMMARY:Rookie ball
DESCRIPTION:Rookie ball U9 je společná soutěž České baseballové asociace a České softballové asociace pro děti narozené po 1. 1. 2009 a mladší.
URL:https://visit.chomutov.cz/kalendar/rookie-ball/
LOCATION:Softballový areál\, Bezručova 5989\, Chomutov
CATEGORIES:sportovní akce
ATTACH;FMTTYPE=image/jpeg:https://visit.chomutov.cz/wp-content/uploads/2022/05/softball.jpg
END:VEVENT
BEGIN:VEVENT
DTSTART;VALUE=DATE:20220601
DTEND;VALUE=DATE:20220701
DTSTAMP:20260425T122933
CREATED:20220524T061648Z
LAST-MODIFIED:20220524T062457Z
UID:1423-1654041600-1656633599@visit.chomutov.cz
SUMMARY:Senior fitnes
DESCRIPTION:Zdravotní cvičení pro každého. Přijďte si zacvičit v rámci projektu Senior fitnes zaměřeného na zlepšení fyzického a psychického zdraví seniorů všech věkových kategorií. Cvičení je snadné\, rehabilitační\, orientované na protažení celého těla\, udržení svalové síly i prevenci bolestí zad. \nChomutovská knihovna\, 1. patro vlevo od výtahu\, učebna č. 27 \nKaždé pondělí\, pátek: 9\,00–9\,45 | 10\,00–10\,45 | 11\,00–11\,45 a ve středu: 14\,00–14\,45 \nCENA: 35Kč za 1 lekci. S platnou průkazkou do knihovny 25 Kč za 1 lekci. Možnost zakoupení permanentní průkazky za 250 Kč a 350 Kč (10 lekcí + 2 zdarma). 1. hodina zdarma jako ukázková\nNutná rezervace předem.
URL:https://visit.chomutov.cz/kalendar/senior-fitnes-4/
LOCATION:Chomutovská knihovna\, Palackého 4995\, Chomutov
CATEGORIES:sportovní akce
ATTACH;FMTTYPE=image/jpeg:https://visit.chomutov.cz/wp-content/uploads/2022/05/cviceni.jpg
END:VEVENT
BEGIN:VEVENT
DTSTART;TZID=Europe/Prague:20220531T093000
DTEND;TZID=Europe/Prague:20220531T103000
DTSTAMP:20260425T122933
CREATED:20220518T092106Z
LAST-MODIFIED:20220519T173615Z
UID:1020-1653989400-1653993000@visit.chomutov.cz
SUMMARY:Cvičení pro seniory
DESCRIPTION:Skupinové cvičení pro seniory. Cvičení nezatěžuje kloubní a kardiovaskulární systém\, zahrnuje prvky kalanetiky.\nKaždé úterý a čtvrtek 9:30 – 10:30.
URL:https://visit.chomutov.cz/kalendar/cviceni-pro-seniory-9/
LOCATION:Městská sportovní hala\, Mánesova 4980\, Chomutov
CATEGORIES:sportovní akce
ATTACH;FMTTYPE=image/jpeg:https://visit.chomutov.cz/wp-content/uploads/2022/05/mestska-sportovni-hala-resize.jpg
END:VEVENT
BEGIN:VEVENT
DTSTART;TZID=Europe/Prague:20220526T093000
DTEND;TZID=Europe/Prague:20220526T103000
DTSTAMP:20260425T122933
CREATED:20220518T092056Z
LAST-MODIFIED:20220524T102241Z
UID:1018-1653557400-1653561000@visit.chomutov.cz
SUMMARY:Cvičení pro seniory
DESCRIPTION:Skupinové cvičení pro seniory. Cvičení nezatěžuje kloubní a kardiovaskulární systém\, zahrnuje prvky kalanetiky.\nKaždé úterý a čtvrtek 9:30 – 10:30.
URL:https://visit.chomutov.cz/kalendar/cviceni-pro-seniory-8/
LOCATION:Městská sportovní hala\, Mánesova 4980\, Chomutov
CATEGORIES:sportovní akce
ATTACH;FMTTYPE=image/jpeg:https://visit.chomutov.cz/wp-content/uploads/2022/05/mestska-sportovni-hala-resize.jpg
END:VEVENT
BEGIN:VEVENT
DTSTART;TZID=Europe/Prague:20220524T093000
DTEND;TZID=Europe/Prague:20220524T103000
DTSTAMP:20260425T122933
CREATED:20220518T092047Z
LAST-MODIFIED:20220519T115917Z
UID:1016-1653384600-1653388200@visit.chomutov.cz
SUMMARY:Cvičení pro seniory
DESCRIPTION:Skupinové cvičení pro seniory. Cvičení nezatěžuje kloubní a kardiovaskulární systém\, zahrnuje prvky kalanetiky.\nKaždé úterý a čtvrtek 9:30 – 10:30.
URL:https://visit.chomutov.cz/kalendar/cviceni-pro-seniory-7/
LOCATION:Městská sportovní hala\, Mánesova 4980\, Chomutov
CATEGORIES:sportovní akce
ATTACH;FMTTYPE=image/jpeg:https://visit.chomutov.cz/wp-content/uploads/2022/05/mestska-sportovni-hala-resize.jpg
END:VEVENT
BEGIN:VEVENT
DTSTART;TZID=Europe/Prague:20220523T080000
DTEND;TZID=Europe/Prague:20220523T170000
DTSTAMP:20260425T122933
CREATED:20220523T183249Z
LAST-MODIFIED:20220523T183249Z
UID:1393-1653292800-1653325200@visit.chomutov.cz
SUMMARY:Chomutovský dragon cup
DESCRIPTION:oblíbený závod dračích lodí
URL:https://visit.chomutov.cz/kalendar/chomutovsky-dragon-cup/
LOCATION:Kamencové jezero\, Tomáše ze Štítného 5971\, Chomutov
CATEGORIES:sportovní akce
ATTACH;FMTTYPE=image/jpeg:https://visit.chomutov.cz/wp-content/uploads/2022/05/Dragon-cup-scaled.jpg
ORGANIZER;CN="Kanoistika%20Chomutov":MAILTO:b.dol@seznam.cz
END:VEVENT
BEGIN:VEVENT
DTSTART;VALUE=DATE:20220507
DTEND;VALUE=DATE:20220901
DTSTAMP:20260425T122933
CREATED:20220610T130824Z
LAST-MODIFIED:20220610T131036Z
UID:1848-1651881600-1661990399@visit.chomutov.cz
SUMMARY:Školička wakeboardingu
DESCRIPTION:Veřejná školička wakeboardingu. Výuka probíhá na malém vleku a je určena dětem od 7 do 15 let. \nKaždá sobota dopoledne 8:30 až 10:00 od 7.5. \nDětem se věnujeme individuálně v rámci skupiny. Cena je 259 Kč za trénink a obsahuje jízdné\, trenér a zapůjčení vybavení. Z důvodu omezené kapacity míst a vybavení pro děti své registrace do školy prosím posílejte na adresu info@wakechomutov.cz.\nPokud máte nějaké dotazy\, tak mi zavolejte na tel.: 778 500 800 a vše probereme. \n 
URL:https://visit.chomutov.cz/kalendar/skolicka-wakeboardingu/
LOCATION:Wakepark Chomutov\, Mostecká č.e. 22\, Chomutov\, 43001
CATEGORIES:pro děti,sportovní akce,vzdělávání
ATTACH;FMTTYPE=image/jpeg:https://visit.chomutov.cz/wp-content/uploads/2021/11/Wakepark_2-Velke.jpg
END:VEVENT
END:VCALENDAR