BEGIN:VCALENDAR
VERSION:2.0
PRODID:-//Visit Chomutov - ECPv5.14.2.1//NONSGML v1.0//EN
CALSCALE:GREGORIAN
METHOD:PUBLISH
X-WR-CALNAME:Visit Chomutov
X-ORIGINAL-URL:https://visit.chomutov.cz
X-WR-CALDESC:Akce na Visit Chomutov
REFRESH-INTERVAL;VALUE=DURATION:PT1H
X-Robots-Tag:noindex
X-PUBLISHED-TTL:PT1H
BEGIN:VTIMEZONE
TZID:Europe/Prague
BEGIN:DAYLIGHT
TZOFFSETFROM:+0100
TZOFFSETTO:+0200
TZNAME:CEST
DTSTART:20230326T010000
END:DAYLIGHT
BEGIN:STANDARD
TZOFFSETFROM:+0200
TZOFFSETTO:+0100
TZNAME:CET
DTSTART:20231029T010000
END:STANDARD
END:VTIMEZONE
BEGIN:VEVENT
DTSTART;TZID=Europe/Prague:20230916T100000
DTEND;TZID=Europe/Prague:20230916T153000
DTSTAMP:20260425T022856
CREATED:20230825T101546Z
LAST-MODIFIED:20230825T101600Z
UID:4582-1694858400-1694878200@visit.chomutov.cz
SUMMARY:Memoriál H. Tauda
DESCRIPTION:Krajský přebor žactva v judu.
URL:https://visit.chomutov.cz/kalendar/memorial-h-tauda/
LOCATION:Městská sportovní hala\, Mánesova 4980\, Chomutov
CATEGORIES:sportovní akce
ATTACH;FMTTYPE=image/jpeg:https://visit.chomutov.cz/wp-content/uploads/2022/05/mestska-sportovni-hala-resize.jpg
END:VEVENT
BEGIN:VEVENT
DTSTART;VALUE=DATE:20230916
DTEND;VALUE=DATE:20231119
DTSTAMP:20260425T022856
CREATED:20230809T125514Z
LAST-MODIFIED:20230809T125525Z
UID:4383-1694822400-1700351999@visit.chomutov.cz
SUMMARY:První krůčky (kraso)bruslení
DESCRIPTION:Zveme děvčata i chlapce od 4 let se zájmem o (kraso)bruslení.
URL:https://visit.chomutov.cz/kalendar/prvni-krucky-krasobrusleni-2/
LOCATION:Rocknet Aréna – zimní stadion\, Mostecká 5773\, Chomutov
CATEGORIES:pro děti,sportovní akce,vzdělávání
ATTACH;FMTTYPE=image/jpeg:https://visit.chomutov.cz/wp-content/uploads/2023/08/Letak-krucky-2023-page-001.jpg
ORGANIZER;CN="Krasobrusla%C5%99sk%C3%BD%20klub%20Chomutov":MAILTO:kkchomutov@seznam.cz
END:VEVENT
BEGIN:VEVENT
DTSTART;VALUE=DATE:20230913
DTEND;VALUE=DATE:20230930
DTSTAMP:20260425T022856
CREATED:20220906T065032Z
LAST-MODIFIED:20230825T100633Z
UID:2360-1694563200-1696031999@visit.chomutov.cz
SUMMARY:Kondiční cvičení pro seniory - září
DESCRIPTION:Každou středu a pátek 8.30-9.15 hodin.\n13.\, 15.\, 20.\, 22.\, 27. a 29.9.
URL:https://visit.chomutov.cz/kalendar/kondicni-cviceni-pro-seniory/
LOCATION:Aquasvět\, Mostecká 5887\, Chomutov
CATEGORIES:sportovní akce
ATTACH;FMTTYPE=image/jpeg:https://visit.chomutov.cz/wp-content/uploads/2022/09/KOndicni-cviceni-pro-seniory.jpg
END:VEVENT
BEGIN:VEVENT
DTSTART;TZID=Europe/Prague:20230912T080000
DTEND;TZID=Europe/Prague:20230912T170000
DTSTAMP:20260425T022856
CREATED:20230821T115544Z
LAST-MODIFIED:20230821T120009Z
UID:4468-1694505600-1694538000@visit.chomutov.cz
SUMMARY:Babí léto - procházka s nordic walkingovými holemi
DESCRIPTION:Aktivní dny pro seniory. Trasa procházky povede z Křimova do Chomutova skrze Bezručovo údolí. Výlet začne v 8 hodin na autobusovém nádraží v Chomutově.
URL:https://visit.chomutov.cz/kalendar/babi-leto-prochazka-s-nordic-walkingovymi-holemi/
CATEGORIES:sportovní akce
ATTACH;FMTTYPE=image/jpeg:https://visit.chomutov.cz/wp-content/uploads/2023/08/DJI_0493.jpg
END:VEVENT
BEGIN:VEVENT
DTSTART;TZID=Europe/Prague:20230910T100000
DTEND;TZID=Europe/Prague:20230910T153000
DTSTAMP:20260425T022856
CREATED:20230825T103759Z
LAST-MODIFIED:20230825T103759Z
UID:4588-1694340000-1694359800@visit.chomutov.cz
SUMMARY:Řeckořímský zápas - seniorská liga
DESCRIPTION:
URL:https://visit.chomutov.cz/kalendar/reckorimsky-zapas-seniorska-liga/
LOCATION:Městská sportovní hala\, Mánesova 4980\, Chomutov
CATEGORIES:sportovní akce
ATTACH;FMTTYPE=image/png:https://visit.chomutov.cz/wp-content/uploads/2023/08/Czech-wrestling-logo.png
END:VEVENT
BEGIN:VEVENT
DTSTART;TZID=Europe/Prague:20230909T090000
DTEND;TZID=Europe/Prague:20230909T203000
DTSTAMP:20260425T022856
CREATED:20230821T063201Z
LAST-MODIFIED:20230821T063223Z
UID:4448-1694250000-1694291400@visit.chomutov.cz
SUMMARY:Jógový festival Chomutov
DESCRIPTION:Téma ročníku: Rodina a naše kořeny.
URL:https://visit.chomutov.cz/kalendar/jogovy-festival-chomutov/
LOCATION:Městský park\, Čelakovského\, Chomutov
CATEGORIES:sportovní akce,zábavní pořady
ATTACH;FMTTYPE=image/jpeg:https://visit.chomutov.cz/wp-content/uploads/2023/08/353449678_712519720880485_4619426639899640159_n.jpg
END:VEVENT
BEGIN:VEVENT
DTSTART;VALUE=DATE:20230908
DTEND;VALUE=DATE:20230910
DTSTAMP:20260425T022856
CREATED:20220906T065255Z
LAST-MODIFIED:20230825T081959Z
UID:2363-1694131200-1694303999@visit.chomutov.cz
SUMMARY:40. ročník Velká cena Chomutova
DESCRIPTION:Zúčastní se nejlepší plavci z celé České republiky.\nPlavecký bazén 8.9. od 13.00 a 9.9. bude celý den UZAVŘEN PRO VEŘEJNOST.
URL:https://visit.chomutov.cz/kalendar/39-rocnik-velka-cena-chomutova/
LOCATION:Aquasvět\, Mostecká 5887\, Chomutov
CATEGORIES:sportovní akce
ATTACH;FMTTYPE=image/jpeg:https://visit.chomutov.cz/wp-content/uploads/2022/05/pexels-emily-rose-2062708-scaled.jpg
ORGANIZER;CN="TJ%20Sl%C3%A1vie%20Chomutov":MAILTO:slcho@slaviechomutov.cz
END:VEVENT
BEGIN:VEVENT
DTSTART;TZID=Europe/Prague:20230907T173000
DTEND;TZID=Europe/Prague:20230907T173000
DTSTAMP:20260425T022856
CREATED:20230825T103154Z
LAST-MODIFIED:20230825T103154Z
UID:4586-1694107800-1694107800@visit.chomutov.cz
SUMMARY:Piráti Chomutov - HC Baník Sokolov
DESCRIPTION:
URL:https://visit.chomutov.cz/kalendar/pirati-chomutov-hc-banik-sokolov/
LOCATION:Rocknet Aréna – zimní stadion\, Mostecká 5773\, Chomutov
CATEGORIES:sportovní akce
ATTACH;FMTTYPE=image/jpeg:https://visit.chomutov.cz/wp-content/uploads/2022/09/pirati.jpg
END:VEVENT
BEGIN:VEVENT
DTSTART;VALUE=DATE:20230906
DTEND;VALUE=DATE:20231028
DTSTAMP:20260425T022856
CREATED:20221128T135939Z
LAST-MODIFIED:20230825T100518Z
UID:3008-1693958400-1698451199@visit.chomutov.cz
SUMMARY:Aqua aerobik - září
DESCRIPTION:Každou středu a pátek 19.00-20.00 hodin\n6.\, 13.\, 20.\, 27. 9.
URL:https://visit.chomutov.cz/kalendar/aqua-aerobik/
LOCATION:Aquasvět\, Mostecká 5887\, Chomutov
CATEGORIES:sportovní akce
ATTACH;FMTTYPE=image/jpeg:https://visit.chomutov.cz/wp-content/uploads/2022/11/Aqua-aerobic-male.jpg
END:VEVENT
BEGIN:VEVENT
DTSTART;TZID=Europe/Prague:20230903T100000
DTEND;TZID=Europe/Prague:20230903T150000
DTSTAMP:20260425T022856
CREATED:20230823T114753Z
LAST-MODIFIED:20230824T065945Z
UID:4502-1693735200-1693753200@visit.chomutov.cz
SUMMARY:Festival sportu
DESCRIPTION:Přehlídka sportovních možností v našem městě.
URL:https://visit.chomutov.cz/kalendar/festival-sportu/
LOCATION:Kamencové jezero\, Tomáše ze Štítného 5971\, Chomutov
CATEGORIES:pro děti,sportovní akce,zábavní pořady
ATTACH;FMTTYPE=image/jpeg:https://visit.chomutov.cz/wp-content/uploads/2023/08/festival-sportu-2023.jpg
ORGANIZER;CN="Statut%C3%A1rn%C3%AD%20m%C4%9Bsto%20Chomutov":MAILTO:infocentrum@chomutov.cz
END:VEVENT
BEGIN:VEVENT
DTSTART;TZID=Europe/Prague:20230902T090000
DTEND;TZID=Europe/Prague:20230930T103000
DTSTAMP:20260425T022856
CREATED:20230825T095313Z
LAST-MODIFIED:20230825T095332Z
UID:4564-1693645200-1696069800@visit.chomutov.cz
SUMMARY:Wake škola pro děti
DESCRIPTION:Každou sobotu dopoledne máte možnost přivést své děti do naší veřejné školičky wakeboardingu. Výuka probíhá na malém vleku a je určena dětem od 7 do 15 let. Z důvodu omezené kapacity míst a vybavení pro děti\, své registrace do školy\, prosím\, posílejte na adresu skola@wakechomutov.cz.\n2.\, 9.\, 16.\, 23. a 30.9.
URL:https://visit.chomutov.cz/kalendar/wake-skola-pro-deti/
LOCATION:Wakepark Chomutov\, Mostecká č.e. 22\, Chomutov\, 43001
CATEGORIES:pro děti,sportovní akce,vzdělávání
ATTACH;FMTTYPE=image/jpeg:https://visit.chomutov.cz/wp-content/uploads/2021/11/Wakepark_2-Velke.jpg
END:VEVENT
BEGIN:VEVENT
DTSTART;TZID=Europe/Prague:20230826T110000
DTEND;TZID=Europe/Prague:20230826T110000
DTSTAMP:20260425T022856
CREATED:20220805T204409Z
LAST-MODIFIED:20230725T111055Z
UID:2234-1693047600-1693047600@visit.chomutov.cz
SUMMARY:Chomutovský půlmaraton 2023
DESCRIPTION:7. ročník. \nNa své jedenadvacet kilometrů dlouhé trase si sportovci prohlédnou jak historické centrum\, tak i přírodu okrajových částí města. Akce tradičně přivítá i malé běžce\, na náměstí budou pro děti připravené různě dlouhé tratě. Běžci kratších tratí se mohou přihlásit k běhu téměř 8 km Kamencového okruhu.
URL:https://visit.chomutov.cz/kalendar/chomutovsky-pulmaraton/
LOCATION:náměstí 1. máje Chomutov\, nám. 1. máje\, Chomutov
CATEGORIES:pro děti,sportovní akce
ATTACH;FMTTYPE=image/jpeg:https://visit.chomutov.cz/wp-content/uploads/2022/08/chomutov-pulmaraton-plakat-A2-UNI-2305.jpg
ORGANIZER;CN="Statut%C3%A1rn%C3%AD%20m%C4%9Bsto%20Chomutov":MAILTO:infocentrum@chomutov.cz
END:VEVENT
BEGIN:VEVENT
DTSTART;TZID=Europe/Prague:20230819T090000
DTEND;TZID=Europe/Prague:20230819T170000
DTSTAMP:20260425T022856
CREATED:20230815T115910Z
LAST-MODIFIED:20230815T115910Z
UID:4444-1692435600-1692464400@visit.chomutov.cz
SUMMARY:Triola Cup 2023
DESCRIPTION:Závod automobilů do vrchu Chomutov-Blatno.
URL:https://visit.chomutov.cz/kalendar/triola-cup-2023/
CATEGORIES:sportovní akce
ATTACH;FMTTYPE=image/jpeg:https://visit.chomutov.cz/wp-content/uploads/2023/08/301170027_10209860074256165_4394592082660778590_n.jpg
END:VEVENT
BEGIN:VEVENT
DTSTART;VALUE=DATE:20230804
DTEND;VALUE=DATE:20230809
DTSTAMP:20260425T022856
CREATED:20230725T111723Z
LAST-MODIFIED:20230725T111723Z
UID:4354-1691107200-1691539199@visit.chomutov.cz
SUMMARY:Turnaj 5 zemí U17
DESCRIPTION:4.8. 14.00 SVK x USA\n4.8. 18.30 CZE x SUI\n5.8. 14.00 SUI x SVK\n5.8. 18.30 CZE x GER\n6.8. 14.00 USA x SUI\n6.8. 18.30 GER x SVK\n7.8. 14.00 SUI x GER\n7.8. 18.30 CZE x USA\n8.8. 14.00 GER x USA\n8.8. 18.30 CZE x SVK
URL:https://visit.chomutov.cz/kalendar/turnaj-5-zemi-u17/
LOCATION:Rocknet Aréna – zimní stadion\, Mostecká 5773\, Chomutov
CATEGORIES:sportovní akce
ATTACH;FMTTYPE=image/jpeg:https://visit.chomutov.cz/wp-content/uploads/2023/07/U17-scaled.jpg
END:VEVENT
BEGIN:VEVENT
DTSTART;VALUE=DATE:20230705
DTEND;VALUE=DATE:20230710
DTSTAMP:20260425T022856
CREATED:20230622T085700Z
LAST-MODIFIED:20230622T085700Z
UID:4249-1688515200-1688947199@visit.chomutov.cz
SUMMARY:Little League
DESCRIPTION:Softballová evropsko-africká kvalifikace.
URL:https://visit.chomutov.cz/kalendar/little-league/
LOCATION:Softballový areál\, Bezručova 5989\, Chomutov
CATEGORIES:sportovní akce
ATTACH;FMTTYPE=image/jpeg:https://visit.chomutov.cz/wp-content/uploads/2023/06/beavers-plakat.jpg
ORGANIZER;CN="Beavers%20Chomutov":MAILTO:info@beavers.cz
END:VEVENT
BEGIN:VEVENT
DTSTART;TZID=Europe/Prague:20230704T190000
DTEND;TZID=Europe/Prague:20230704T190000
DTSTAMP:20260425T022856
CREATED:20230622T085526Z
LAST-MODIFIED:20230622T085526Z
UID:4246-1688497200-1688497200@visit.chomutov.cz
SUMMARY:Česká Republika x Austrálie- reprezentace žen softball
DESCRIPTION:
URL:https://visit.chomutov.cz/kalendar/ceska-republika-x-australie-reprezentace-zen-softball/
LOCATION:Softballový areál\, Bezručova 5989\, Chomutov
CATEGORIES:sportovní akce
ATTACH;FMTTYPE=image/jpeg:https://visit.chomutov.cz/wp-content/uploads/2023/06/beavers-plakat.jpg
ORGANIZER;CN="Beavers%20Chomutov":MAILTO:info@beavers.cz
END:VEVENT
BEGIN:VEVENT
DTSTART;VALUE=DATE:20230701
DTEND;VALUE=DATE:20230820
DTSTAMP:20260425T022856
CREATED:20230628T065101Z
LAST-MODIFIED:20230628T065237Z
UID:4284-1688169600-1692489599@visit.chomutov.cz
SUMMARY:Historickým cyklovlakem do Krušných hor
DESCRIPTION:Vlak odjíždí ze zastávky Chomutov 1.\, 2.\, 16. a 22. července a 5.\, 12. a 19. srpna v 9.08
URL:https://visit.chomutov.cz/kalendar/historickym-cyklovlakem-do-krusnych-hor/
LOCATION:Vlakové nádraží Chomutov\, Nádražní\, Chomutov
CATEGORIES:sportovní akce,zábavní pořady
ATTACH;FMTTYPE=image/webp:https://visit.chomutov.cz/wp-content/uploads/2023/06/cyklovlaky-2023.webp
ORGANIZER;CN="LOKO-MOTIV%20Chomutov":MAILTO:loko-motiv@email.cz
END:VEVENT
BEGIN:VEVENT
DTSTART;VALUE=DATE:20230622
DTEND;VALUE=DATE:20230626
DTSTAMP:20260425T022856
CREATED:20230529T115338Z
LAST-MODIFIED:20230529T115338Z
UID:4018-1687392000-1687737599@visit.chomutov.cz
SUMMARY:Dance Fever - Mistrovství Evropy v disciplínách disco dance a disco Freestyle
DESCRIPTION:IDO EUROPEAN DISCO DANCE AND DISCO FREESTYLE CHAMPIONSHIPS
URL:https://visit.chomutov.cz/kalendar/dance-fever-mistrovstvi-evropy-v-disciplinach-disco-dance-a-disco-freestyle/
LOCATION:Městská sportovní hala\, Mánesova 4980\, Chomutov
CATEGORIES:sportovní akce
ATTACH;FMTTYPE=image/webp:https://visit.chomutov.cz/wp-content/uploads/2023/05/Dance-Fever.webp
ORGANIZER;CN="Beethoven%20DC%20Chomutov":MAILTO:beethovendcchomutov@seznam.cz
END:VEVENT
BEGIN:VEVENT
DTSTART;TZID=Europe/Prague:20230621T180000
DTEND;TZID=Europe/Prague:20230621T180000
DTSTAMP:20260425T022856
CREATED:20220610T064834Z
LAST-MODIFIED:20230529T115647Z
UID:1824-1687370400-1687370400@visit.chomutov.cz
SUMMARY:Olympijský běh T-mobile
DESCRIPTION:2. ročník v Chomutově. Registrace jen do 2.6.\, na místě nebude možné se registrovat. Trasa závodu se bude nacházet opět v malebném Bezručově údolí\, kde se účastníci mohou těšit na pohodové klima a hlavně stín\, který v tomto ročním období může pomoci ke skvělým výkonům. V obou případech na běžce čeká otočková trasa vedoucí po silnici\, kdy se ta kratší otáčí cca 750 metrů za Bunkrem V.b/81/B a delší deseti kilometrová kousek za Druhým dolským mlýnem.
URL:https://visit.chomutov.cz/kalendar/olympijsky-beh-t-mobile/
CATEGORIES:sportovní akce
ATTACH;FMTTYPE=image/jpeg:https://visit.chomutov.cz/wp-content/uploads/2022/06/Plakat-Chomutov-2023-page-001.jpg
END:VEVENT
BEGIN:VEVENT
DTSTART;TZID=Europe/Prague:20230620T083000
DTEND;TZID=Europe/Prague:20230620T093000
DTSTAMP:20260425T022856
CREATED:20230612T071140Z
LAST-MODIFIED:20230612T071140Z
UID:4031-1687249800-1687253400@visit.chomutov.cz
SUMMARY:Mírový běh / Peace Run
DESCRIPTION:Setkání s běžci Mírového běhu.
URL:https://visit.chomutov.cz/kalendar/mirovy-beh-peace-run/
LOCATION:Bývalý letní stadion\, Tyršova\, Chomutov
CATEGORIES:pro děti,sportovní akce
ATTACH;FMTTYPE=image/jpeg:https://visit.chomutov.cz/wp-content/uploads/2023/06/PeaceRun_A4_20-6-2023-Chomutov-page-001.jpg
END:VEVENT
BEGIN:VEVENT
DTSTART;TZID=Europe/Prague:20230516T080000
DTEND;TZID=Europe/Prague:20230516T080000
DTSTAMP:20260425T022856
CREATED:20230503T084300Z
LAST-MODIFIED:20230503T084325Z
UID:3871-1684224000-1684224000@visit.chomutov.cz
SUMMARY:Nordic walking z Křimova do Chomutova
DESCRIPTION:Info Helena Moravcová tel. 702 003 451
URL:https://visit.chomutov.cz/kalendar/nordic-walking-z-krimova-do-chomutova/
CATEGORIES:sportovní akce,vzdělávání
ATTACH;FMTTYPE=image/jpeg:https://visit.chomutov.cz/wp-content/uploads/2023/05/Krimovska-prehrada-cesta.jpg
END:VEVENT
BEGIN:VEVENT
DTSTART;TZID=Europe/Prague:20230513T143000
DTEND;TZID=Europe/Prague:20230513T143000
DTSTAMP:20260425T022856
CREATED:20230502T104225Z
LAST-MODIFIED:20230502T104406Z
UID:3776-1683988200-1683988200@visit.chomutov.cz
SUMMARY:17. Cyklojízda
DESCRIPTION:sraz u bývalého kina Evropa\ntéma: Městský park + společné sázení stromu \nCyklojízdy jsou oslavou svobodného pohybu po městě. Jejich cílem je propagovat cyklistiku jako způsob dopravy\, který je zdraví prospěšný a zároveň šetrný přírodě. Zaměřují se také na místní historii\, architekturu a životní prostředí. Malé děti v doprovodu rodičů\, cyklisté mladší 18 let jen s helmou.
URL:https://visit.chomutov.cz/kalendar/cyklojizda/
CATEGORIES:sportovní akce,zábavní pořady
ATTACH;FMTTYPE=image/png:https://visit.chomutov.cz/wp-content/uploads/2023/05/cyklojizda-Kuprospechu.png
ORGANIZER;CN="Kuprosp%C4%9Bchu%2C%20z.%20s.":MAILTO:info@kuprospechu.org
END:VEVENT
BEGIN:VEVENT
DTSTART;TZID=Europe/Prague:20230422T090000
DTEND;TZID=Europe/Prague:20230422T200000
DTSTAMP:20260425T022856
CREATED:20230323T132925Z
LAST-MODIFIED:20230323T132925Z
UID:3631-1682154000-1682193600@visit.chomutov.cz
SUMMARY:Memoriál Jaroslava Jezbery - 36. ročník
DESCRIPTION:Plavecké závody.
URL:https://visit.chomutov.cz/kalendar/memorial-jaroslava-jezbery-36-rocnik/
LOCATION:Aquasvět\, Mostecká 5887\, Chomutov
CATEGORIES:sportovní akce
ATTACH;FMTTYPE=image/jpeg:https://visit.chomutov.cz/wp-content/uploads/2022/11/plavani.jpg
ORGANIZER;CN="TJ%20Sl%C3%A1vie%20Chomutov":MAILTO:slcho@slaviechomutov.cz
END:VEVENT
BEGIN:VEVENT
DTSTART;VALUE=DATE:20230422
DTEND;VALUE=DATE:20230424
DTSTAMP:20260425T022856
CREATED:20230323T133756Z
LAST-MODIFIED:20230323T133756Z
UID:3633-1682121600-1682294399@visit.chomutov.cz
SUMMARY:Chomutovský pohár
DESCRIPTION:37. ročník závodu v moderní gymnastice
URL:https://visit.chomutov.cz/kalendar/chomutovsky-pohar/
LOCATION:Sportovní hala Březenecká\, 17. listopadu 4704\, Chomutov
CATEGORIES:sportovní akce
ATTACH;FMTTYPE=image/jpeg:https://visit.chomutov.cz/wp-content/uploads/2023/03/gymnastika.jpg
END:VEVENT
BEGIN:VEVENT
DTSTART;VALUE=DATE:20230421
DTEND;VALUE=DATE:20230423
DTSTAMP:20260425T022856
CREATED:20230324T062706Z
LAST-MODIFIED:20230324T062804Z
UID:3636-1682035200-1682207999@visit.chomutov.cz
SUMMARY:Grand Prix Chomutov 2023 - U17 a U20
DESCRIPTION:Tradiční mezinárodní turnaj v zápase řeckořímském.
URL:https://visit.chomutov.cz/kalendar/grand-prix-chomutov-2023-u17-a-u20/
LOCATION:Městská sportovní hala\, Mánesova 4980\, Chomutov
CATEGORIES:sportovní akce
ATTACH;FMTTYPE=image/jpeg:https://visit.chomutov.cz/wp-content/uploads/2023/03/Grand-prix.jpg
END:VEVENT
BEGIN:VEVENT
DTSTART;TZID=Europe/Prague:20230406T203000
DTEND;TZID=Europe/Prague:20230406T203000
DTSTAMP:20260425T022856
CREATED:20230324T063454Z
LAST-MODIFIED:20230324T063454Z
UID:3639-1680813000-1680813000@visit.chomutov.cz
SUMMARY:Fotbal Česko x Maroko (ženy A) - přípravné utkání
DESCRIPTION:
URL:https://visit.chomutov.cz/kalendar/fotbal-cesko-x-maroko-zeny-a-pripravne-utkani/
LOCATION:Letní stadion\, Mostecká 5886\, Chomutov
CATEGORIES:sportovní akce
ATTACH;FMTTYPE=image/jpeg:https://visit.chomutov.cz/wp-content/uploads/2023/03/pjml-20230219-081641-web.jpg
END:VEVENT
BEGIN:VEVENT
DTSTART;VALUE=DATE:20230308
DTEND;VALUE=DATE:20230323
DTSTAMP:20260425T022856
CREATED:20230220T154411Z
LAST-MODIFIED:20230220T154416Z
UID:3466-1678233600-1679529599@visit.chomutov.cz
SUMMARY:Aqua aerobik - březen
DESCRIPTION:Každou středu 19.00-20.00 hodin\n8.\,15.\,22.3.
URL:https://visit.chomutov.cz/kalendar/aqua-aerobik-brezen/
LOCATION:Aquasvět\, Mostecká 5887\, Chomutov
CATEGORIES:sportovní akce
ATTACH;FMTTYPE=image/jpeg:https://visit.chomutov.cz/wp-content/uploads/2022/09/pexels-cottonbro-7222566.jpg
END:VEVENT
BEGIN:VEVENT
DTSTART;VALUE=DATE:20230308
DTEND;VALUE=DATE:20230325
DTSTAMP:20260425T022856
CREATED:20230220T154253Z
LAST-MODIFIED:20230220T154257Z
UID:3464-1678233600-1679702399@visit.chomutov.cz
SUMMARY:Kondiční cvičení pro seniory - březen
DESCRIPTION:Každou středu a pátek 8.30-9.15 hodin\n8.\,10.\,15.\,17.\,22.\,24.3.
URL:https://visit.chomutov.cz/kalendar/kondicni-cviceni-pro-seniory-brezen/
LOCATION:Aquasvět\, Mostecká 5887\, Chomutov
CATEGORIES:sportovní akce
ATTACH;FMTTYPE=image/jpeg:https://visit.chomutov.cz/wp-content/uploads/2022/09/pexels-cottonbro-7222566.jpg
END:VEVENT
BEGIN:VEVENT
DTSTART;VALUE=DATE:20230307
DTEND;VALUE=DATE:20230331
DTSTAMP:20260425T022856
CREATED:20230220T153831Z
LAST-MODIFIED:20230220T154154Z
UID:3461-1678147200-1680220799@visit.chomutov.cz
SUMMARY:Cvičení pro seniory - březen
DESCRIPTION:Skupinové cvičení pro seniory. Cvičení nezatěžuje kloubní a kardiovaskulární systém\, zahrnuje prvky kalanetiky.\nKaždé úterý a čtvrtek 9:30-10:30.\n7.\,9.\,14.\,16.\, 21.\, 23.\, 28.\,30.3.
URL:https://visit.chomutov.cz/kalendar/cviceni-pro-seniory-brezen/
LOCATION:Městská sportovní hala\, Mánesova 4980\, Chomutov
CATEGORIES:sportovní akce
ATTACH;FMTTYPE=image/jpeg:https://visit.chomutov.cz/wp-content/uploads/2022/05/mestska-sportovni-hala-resize.jpg
END:VEVENT
BEGIN:VEVENT
DTSTART;TZID=Europe/Prague:20230304T190000
DTEND;TZID=Europe/Prague:20230304T190000
DTSTAMP:20260425T022856
CREATED:20230221T091300Z
LAST-MODIFIED:20230221T091300Z
UID:3485-1677956400-1677956400@visit.chomutov.cz
SUMMARY:Florbal Chomutov - TROOPERS
DESCRIPTION:1. liga mužů
URL:https://visit.chomutov.cz/kalendar/florbal-chomutov-troopers/
CATEGORIES:sportovní akce
ATTACH;FMTTYPE=image/jpeg:https://visit.chomutov.cz/wp-content/uploads/2022/08/claudio-schwarz-D1zkz4eW_j0-unsplash.jpg
END:VEVENT
END:VCALENDAR