BEGIN:VCALENDAR
VERSION:2.0
PRODID:-//Visit Chomutov - ECPv5.14.2.1//NONSGML v1.0//EN
CALSCALE:GREGORIAN
METHOD:PUBLISH
X-WR-CALNAME:Visit Chomutov
X-ORIGINAL-URL:https://visit.chomutov.cz
X-WR-CALDESC:Akce na Visit Chomutov
REFRESH-INTERVAL;VALUE=DURATION:PT1H
X-Robots-Tag:noindex
X-PUBLISHED-TTL:PT1H
BEGIN:VTIMEZONE
TZID:Europe/Prague
BEGIN:DAYLIGHT
TZOFFSETFROM:+0100
TZOFFSETTO:+0200
TZNAME:CEST
DTSTART:20230326T010000
END:DAYLIGHT
BEGIN:STANDARD
TZOFFSETFROM:+0200
TZOFFSETTO:+0100
TZNAME:CET
DTSTART:20231029T010000
END:STANDARD
BEGIN:DAYLIGHT
TZOFFSETFROM:+0100
TZOFFSETTO:+0200
TZNAME:CEST
DTSTART:20240331T010000
END:DAYLIGHT
BEGIN:STANDARD
TZOFFSETFROM:+0200
TZOFFSETTO:+0100
TZNAME:CET
DTSTART:20241027T010000
END:STANDARD
END:VTIMEZONE
BEGIN:VEVENT
DTSTART;TZID=Europe/Prague:20240504T090000
DTEND;TZID=Europe/Prague:20240504T150000
DTSTAMP:20260424T222429
CREATED:20240429T072202Z
LAST-MODIFIED:20240429T072224Z
UID:6817-1714813200-1714834800@visit.chomutov.cz
SUMMARY:Český pohár benjamínků v kanoistice
DESCRIPTION:
URL:https://visit.chomutov.cz/kalendar/cesky-pohar-benjaminku-v-kanoistice/
LOCATION:Kamencové jezero\, Tomáše ze Štítného 5971\, Chomutov
CATEGORIES:sportovní akce
ATTACH;FMTTYPE=image/webp:https://visit.chomutov.cz/wp-content/uploads/2024/04/CP-Benjaminku-04.05.24-1-724x1024-1.webp
ORGANIZER;CN="Kanoistika%20Chomutov":MAILTO:b.dol@seznam.cz
END:VEVENT
BEGIN:VEVENT
DTSTART;VALUE=DATE:20240503
DTEND;VALUE=DATE:20240506
DTSTAMP:20260424T222429
CREATED:20240429T071607Z
LAST-MODIFIED:20240429T071819Z
UID:6813-1714694400-1714953599@visit.chomutov.cz
SUMMARY:MISTROVSTVÍ ČECH - Zemské kolo tanečních formací
DESCRIPTION:Czech Dance Masters
URL:https://visit.chomutov.cz/kalendar/mistrovstvi-cech-zemske-kolo-tanecnich-formaci-2/
LOCATION:Městská sportovní hala\, Mánesova 4980\, Chomutov
CATEGORIES:sportovní akce
ATTACH;FMTTYPE=image/png:https://visit.chomutov.cz/wp-content/uploads/2024/04/12.-plakat-MC-CHOMUTOV-2024-724x1024-1.png
END:VEVENT
BEGIN:VEVENT
DTSTART;TZID=Europe/Prague:20240501T150000
DTEND;TZID=Europe/Prague:20240501T163000
DTSTAMP:20260424T222429
CREATED:20240429T065700Z
LAST-MODIFIED:20240429T065750Z
UID:6800-1714575600-1714581000@visit.chomutov.cz
SUMMARY:Sport mezi bloky
DESCRIPTION:bezplatné tréninky sebeobrany a bojových sportů
URL:https://visit.chomutov.cz/kalendar/sport-mezi-bloky/
CATEGORIES:pro děti,sportovní akce
ATTACH;FMTTYPE=image/jpeg:https://visit.chomutov.cz/wp-content/uploads/2024/04/Sport-mezi-bloky-page-001.jpg
END:VEVENT
BEGIN:VEVENT
DTSTART;VALUE=DATE:20240426
DTEND;VALUE=DATE:20240429
DTSTAMP:20260424T222429
CREATED:20240410T105944Z
LAST-MODIFIED:20240410T105948Z
UID:6728-1714089600-1714348799@visit.chomutov.cz
SUMMARY:Mistrovství ČR v OCR
DESCRIPTION:
URL:https://visit.chomutov.cz/kalendar/mistrovstvi-cr-v-ocr/
LOCATION:Volnočasový areál Domovinka\, Lipská 2549/85\, Chomutov
CATEGORIES:sportovní akce
ATTACH;FMTTYPE=image/jpeg:https://visit.chomutov.cz/wp-content/uploads/2024/04/Mistrovstvi-OCR.jpg
END:VEVENT
BEGIN:VEVENT
DTSTART;TZID=Europe/Prague:20240420T101500
DTEND;TZID=Europe/Prague:20240420T101500
DTSTAMP:20260424T222429
CREATED:20240328T081157Z
LAST-MODIFIED:20240328T081157Z
UID:6635-1713608100-1713608100@visit.chomutov.cz
SUMMARY:FC Chomutov - FK Admira Praha B
DESCRIPTION:
URL:https://visit.chomutov.cz/kalendar/fc-chomutov-fk-admira-praha-b/
LOCATION:Letní stadion\, Mostecká 5886\, Chomutov
CATEGORIES:sportovní akce
ATTACH;FMTTYPE=image/jpeg:https://visit.chomutov.cz/wp-content/uploads/2022/05/fotbal-1.jpg
END:VEVENT
BEGIN:VEVENT
DTSTART;TZID=Europe/Prague:20240419T080000
DTEND;TZID=Europe/Prague:20240420T200000
DTSTAMP:20260424T222429
CREATED:20240328T082137Z
LAST-MODIFIED:20240328T082137Z
UID:6639-1713513600-1713643200@visit.chomutov.cz
SUMMARY:Gran Prix Chomutov 2024 - U17 A U20
DESCRIPTION:
URL:https://visit.chomutov.cz/kalendar/gran-prix-chomutov-2024-u17-a-u20/
LOCATION:Městská sportovní hala\, Mánesova 4980\, Chomutov
CATEGORIES:sportovní akce
ATTACH;FMTTYPE=image/jpeg:https://visit.chomutov.cz/wp-content/uploads/2023/03/Grand-prix.jpg
END:VEVENT
BEGIN:VEVENT
DTSTART;VALUE=DATE:20240413
DTEND;VALUE=DATE:20240415
DTSTAMP:20260424T222429
CREATED:20240328T081759Z
LAST-MODIFIED:20240328T081759Z
UID:6637-1712966400-1713139199@visit.chomutov.cz
SUMMARY:Kaufland CUP 3. - 4. třída
DESCRIPTION:
URL:https://visit.chomutov.cz/kalendar/kaufland-cup-3-4-trida/
LOCATION:Rocknet Aréna – zimní stadion\, Mostecká 5773\, Chomutov
CATEGORIES:sportovní akce
ATTACH;FMTTYPE=image/jpeg:https://visit.chomutov.cz/wp-content/uploads/2022/09/pirati.jpg
END:VEVENT
BEGIN:VEVENT
DTSTART;VALUE=DATE:20240411
DTEND;VALUE=DATE:20240413
DTSTAMP:20260424T222429
CREATED:20240328T080728Z
LAST-MODIFIED:20240328T080728Z
UID:6630-1712793600-1712966399@visit.chomutov.cz
SUMMARY:Reprezentace U18 ČR - Lotyšsko
DESCRIPTION:
URL:https://visit.chomutov.cz/kalendar/reprezentace-u18-cr-lotyssko/
LOCATION:Rocknet Aréna – zimní stadion\, Mostecká 5773\, Chomutov
CATEGORIES:sportovní akce
ATTACH;FMTTYPE=image/jpeg:https://visit.chomutov.cz/wp-content/uploads/2024/03/Czech-hockey.jpg
END:VEVENT
BEGIN:VEVENT
DTSTART;VALUE=DATE:20240408
DTEND;VALUE=DATE:20240608
DTSTAMP:20260424T222429
CREATED:20240429T065805Z
LAST-MODIFIED:20240429T151959Z
UID:6805-1712534400-1717804799@visit.chomutov.cz
SUMMARY:Sport mezi bloky
DESCRIPTION:bezplatné tréninky sebeobrany a bojových sportů
URL:https://visit.chomutov.cz/kalendar/sport-mezi-bloky-2/
CATEGORIES:pro děti,sportovní akce
ATTACH;FMTTYPE=image/jpeg:https://visit.chomutov.cz/wp-content/uploads/2024/04/Sport-mezi-bloky-page-001.jpg
END:VEVENT
BEGIN:VEVENT
DTSTART;TZID=Europe/Prague:20240406T101500
DTEND;TZID=Europe/Prague:20240406T101500
DTSTAMP:20260424T222429
CREATED:20240328T080947Z
LAST-MODIFIED:20240328T080947Z
UID:6633-1712398500-1712398500@visit.chomutov.cz
SUMMARY:FC Chomutov - FK Olympie Březová
DESCRIPTION:
URL:https://visit.chomutov.cz/kalendar/fc-chomutov-fk-olympie-brezova/
LOCATION:Letní kino\, Přemyslova 4752\, Chomutov
CATEGORIES:sportovní akce
ATTACH;FMTTYPE=image/jpeg:https://visit.chomutov.cz/wp-content/uploads/2022/05/fotbal-1.jpg
END:VEVENT
BEGIN:VEVENT
DTSTART;VALUE=DATE:20240405
DTEND;VALUE=DATE:20240408
DTSTAMP:20260424T222429
CREATED:20240328T074704Z
LAST-MODIFIED:20240328T074704Z
UID:6624-1712275200-1712534399@visit.chomutov.cz
SUMMARY:Memoriál Ondřeje Buchtely
DESCRIPTION:
URL:https://visit.chomutov.cz/kalendar/memorial-ondreje-buchtely/
LOCATION:Rocknet Aréna – zimní stadion\, Mostecká 5773\, Chomutov
CATEGORIES:sportovní akce
ATTACH;FMTTYPE=image/jpeg:https://visit.chomutov.cz/wp-content/uploads/2024/03/Memorial-Buchtely.jpg
END:VEVENT
BEGIN:VEVENT
DTSTART;TZID=Europe/Prague:20240312T093000
DTEND;TZID=Europe/Prague:20240312T093000
DTSTAMP:20260424T222429
CREATED:20240220T122021Z
LAST-MODIFIED:20240220T122120Z
UID:6333-1710235800-1710235800@visit.chomutov.cz
SUMMARY:Pochod pro mozek 2024
DESCRIPTION:Procházka\, jejímž cílem je upozornit na souvislost mezi tělesnou a mentální kondicí. Sraz v Atriu Chomutovské knihovny.
URL:https://visit.chomutov.cz/kalendar/pochod-pro-mozek-2024/
CATEGORIES:sportovní akce,zábavní pořady
ATTACH;FMTTYPE=image/jpeg:https://visit.chomutov.cz/wp-content/uploads/2024/02/Pochod-pro-mozek-2024-scaled.jpg
END:VEVENT
BEGIN:VEVENT
DTSTART;TZID=Europe/Prague:20240302T173000
DTEND;TZID=Europe/Prague:20240302T173000
DTSTAMP:20260424T222429
CREATED:20240222T122641Z
LAST-MODIFIED:20240222T122641Z
UID:6405-1709400600-1709400600@visit.chomutov.cz
SUMMARY:Piráti Chomutov - Ústecký Slovan
DESCRIPTION:
URL:https://visit.chomutov.cz/kalendar/pirati-chomutov-ustecky-slovan/
LOCATION:Rocknet Aréna – zimní stadion\, Mostecká 5773\, Chomutov
CATEGORIES:sportovní akce
ATTACH;FMTTYPE=image/jpeg:https://visit.chomutov.cz/wp-content/uploads/2022/09/pirati.jpg
END:VEVENT
BEGIN:VEVENT
DTSTART;VALUE=DATE:20240302
DTEND;VALUE=DATE:20240310
DTSTAMP:20260424T222429
CREATED:20220906T072203Z
LAST-MODIFIED:20240223T083536Z
UID:2392-1709337600-1710028799@visit.chomutov.cz
SUMMARY:FC Chomutov - zápasy březen
DESCRIPTION:2.3. 10:15 FC Chomutov – SK Aritma Praha\n9.3. 10:15 FC Chomutov – TJ Sokol Nespeky
URL:https://visit.chomutov.cz/kalendar/fc-chomutov/
LOCATION:Letní stadion\, Mostecká 5886\, Chomutov
CATEGORIES:sportovní akce
ATTACH;FMTTYPE=image/jpeg:https://visit.chomutov.cz/wp-content/uploads/2022/05/fotbal-1.jpg
ORGANIZER;CN="FC%20Chomutov":MAILTO:fcchomutov@seznam.cz
END:VEVENT
BEGIN:VEVENT
DTSTART;TZID=Europe/Prague:20240128T080000
DTEND;TZID=Europe/Prague:20240128T080000
DTSTAMP:20260424T222429
CREATED:20231218T145820Z
LAST-MODIFIED:20231218T145820Z
UID:6120-1706428800-1706428800@visit.chomutov.cz
SUMMARY:VI. kolo Chomutovské extraligy VzPi 40\,60 a VzPu 30\,40\,60
DESCRIPTION:
URL:https://visit.chomutov.cz/kalendar/vi-kolo-chomutovske-extraligy-vzpi-4060-a-vzpu-304060/
LOCATION:Střelnice SSK Chomutov\, Blatenská 804\, Chomutov
CATEGORIES:sportovní akce
ATTACH;FMTTYPE=image/jpeg:https://visit.chomutov.cz/wp-content/uploads/2022/05/pistole.jpg
END:VEVENT
BEGIN:VEVENT
DTSTART;TZID=Europe/Prague:20240113T073000
DTEND;TZID=Europe/Prague:20240113T123000
DTSTAMP:20260424T222429
CREATED:20231218T145045Z
LAST-MODIFIED:20231218T145256Z
UID:6112-1705131000-1705149000@visit.chomutov.cz
SUMMARY:Memoriál Jaroslavy Srkalové
DESCRIPTION:Střelecké závody – Vzduchová pistole 40\,60
URL:https://visit.chomutov.cz/kalendar/memorial-jaroslavy-srkalove/
LOCATION:Střelnice SSK Chomutov\, Blatenská 804\, Chomutov
CATEGORIES:sportovní akce
ATTACH;FMTTYPE=image/jpeg:https://visit.chomutov.cz/wp-content/uploads/2022/05/pistole.jpg
END:VEVENT
BEGIN:VEVENT
DTSTART;TZID=Europe/Prague:20240106T173000
DTEND;TZID=Europe/Prague:20240106T173000
DTSTAMP:20260424T222429
CREATED:20231218T145642Z
LAST-MODIFIED:20231218T145642Z
UID:6116-1704562200-1704562200@visit.chomutov.cz
SUMMARY:Piráti Chomutov x HC Benátky nad Jizerou
DESCRIPTION:
URL:https://visit.chomutov.cz/kalendar/pirati-chomutov-x-hc-benatky-nad-jizerou/
LOCATION:Rocknet Aréna – zimní stadion\, Mostecká 5773\, Chomutov
CATEGORIES:sportovní akce
ATTACH;FMTTYPE=image/jpeg:https://visit.chomutov.cz/wp-content/uploads/2022/09/pirati.jpg
END:VEVENT
BEGIN:VEVENT
DTSTART;TZID=Europe/Prague:20240106T080000
DTEND;TZID=Europe/Prague:20240106T153000
DTSTAMP:20260424T222429
CREATED:20231218T143831Z
LAST-MODIFIED:20231218T143831Z
UID:6106-1704528000-1704555000@visit.chomutov.cz
SUMMARY:Memoriál J. Svobody
DESCRIPTION:futsal
URL:https://visit.chomutov.cz/kalendar/memorial-j-svobody/
LOCATION:Městská sportovní hala\, Mánesova 4980\, Chomutov
CATEGORIES:sportovní akce
ATTACH;FMTTYPE=image/jpeg:https://visit.chomutov.cz/wp-content/uploads/2023/12/IMG_1966.jpg
END:VEVENT
BEGIN:VEVENT
DTSTART;TZID=Europe/Prague:20240106T080000
DTEND;TZID=Europe/Prague:20240106T080000
DTSTAMP:20260424T222429
CREATED:20231218T145743Z
LAST-MODIFIED:20231218T145743Z
UID:6118-1704528000-1704528000@visit.chomutov.cz
SUMMARY:V. kolo Chomutovské extraligy VzPi 40\,60 a VzPu 30\,40\,60
DESCRIPTION:
URL:https://visit.chomutov.cz/kalendar/v-kolo-chomutovske-extraligy-vzpi-4060-a-vzpu-304060/
LOCATION:Střelnice SSK Chomutov\, Blatenská 804\, Chomutov
CATEGORIES:sportovní akce
ATTACH;FMTTYPE=image/jpeg:https://visit.chomutov.cz/wp-content/uploads/2022/05/pistole.jpg
END:VEVENT
BEGIN:VEVENT
DTSTART;TZID=Europe/Prague:20240103T173000
DTEND;TZID=Europe/Prague:20240103T173000
DTSTAMP:20260424T222429
CREATED:20231218T145527Z
LAST-MODIFIED:20231218T145527Z
UID:6114-1704303000-1704303000@visit.chomutov.cz
SUMMARY:Piráti Chomutov x HC Řisuty
DESCRIPTION:
URL:https://visit.chomutov.cz/kalendar/pirati-chomutov-x-hc-risuty/
LOCATION:Rocknet Aréna – zimní stadion\, Mostecká 5773\, Chomutov
CATEGORIES:sportovní akce
ATTACH;FMTTYPE=image/jpeg:https://visit.chomutov.cz/wp-content/uploads/2022/09/pirati.jpg
END:VEVENT
BEGIN:VEVENT
DTSTART;VALUE=DATE:20240102
DTEND;VALUE=DATE:20240129
DTSTAMP:20260424T222429
CREATED:20231218T130505Z
LAST-MODIFIED:20231218T130537Z
UID:6088-1704153600-1706486399@visit.chomutov.cz
SUMMARY:Parkour tréninky pro děti
DESCRIPTION:Od  5-6 let. Každé úterý a neděle 17.00-18.00 hodin.
URL:https://visit.chomutov.cz/kalendar/parkour-treninky-pro-deti/
LOCATION:ZŠ a MŠ Duhová cesta\, Havlíčkova 3675\, Chomutov
CATEGORIES:pro děti,sportovní akce
ATTACH;FMTTYPE=image/jpeg:https://visit.chomutov.cz/wp-content/uploads/2023/12/Street-Hard-Workers.jpg
END:VEVENT
BEGIN:VEVENT
DTSTART;VALUE=DATE:20240102
DTEND;VALUE=DATE:20240128
DTSTAMP:20260424T222429
CREATED:20230220T150924Z
LAST-MODIFIED:20240115T085137Z
UID:3457-1704153600-1706399999@visit.chomutov.cz
SUMMARY:Otužování na Kamencovém jezeře - leden
DESCRIPTION:ÚT\, ČT 16.00 – 17.00\, SO 8.00 – 12.00\nVstup je zdarma\, vchází se z ulice Přemyslova (od letního kina) a otužování probíhá přímo na hlavním mole
URL:https://visit.chomutov.cz/kalendar/otuzovani-na-kamencovem-jezere-ubrezen/
LOCATION:Kamencové jezero\, Tomáše ze Štítného 5971\, Chomutov
CATEGORIES:sportovní akce
ATTACH;FMTTYPE=image/jpeg:https://visit.chomutov.cz/wp-content/uploads/2022/11/otuzilci-small.jpg
END:VEVENT
BEGIN:VEVENT
DTSTART;TZID=Europe/Prague:20231216T100000
DTEND;TZID=Europe/Prague:20231216T120000
DTSTAMP:20260424T222429
CREATED:20231127T163014Z
LAST-MODIFIED:20231127T163014Z
UID:5911-1702720800-1702728000@visit.chomutov.cz
SUMMARY:Vánoční pětiboj
DESCRIPTION:Soutěže a hry pro děti a jejich rodiče.
URL:https://visit.chomutov.cz/kalendar/vanocni-petiboj/
LOCATION:Aquasvět\, Mostecká 5887\, Chomutov
CATEGORIES:sportovní akce,Vánoce
ATTACH;FMTTYPE=image/jpeg:https://visit.chomutov.cz/wp-content/uploads/2021/11/Aquasvet_4-Velke.jpg
END:VEVENT
BEGIN:VEVENT
DTSTART;TZID=Europe/Prague:20231209T190000
DTEND;TZID=Europe/Prague:20231209T190000
DTSTAMP:20260424T222429
CREATED:20231208T080118Z
LAST-MODIFIED:20231208T080139Z
UID:5985-1702148400-1702148400@visit.chomutov.cz
SUMMARY:Chomutov vs Letka - florbal
DESCRIPTION:1. liga mužů
URL:https://visit.chomutov.cz/kalendar/chomutov-vs-letka-florbal/
LOCATION:Městská sportovní hala\, Mánesova 4980\, Chomutov
CATEGORIES:sportovní akce
ATTACH;FMTTYPE=image/jpeg:https://visit.chomutov.cz/wp-content/uploads/2023/12/408827920_846431280822562_8046625220998319546_n.jpg
END:VEVENT
BEGIN:VEVENT
DTSTART;TZID=Europe/Prague:20231209T080000
DTEND;TZID=Europe/Prague:20231209T090000
DTSTAMP:20260424T222429
CREATED:20221003T110424Z
LAST-MODIFIED:20231205T093104Z
UID:2640-1702108800-1702112400@visit.chomutov.cz
SUMMARY:Chomutovská brusle
DESCRIPTION:22. ročník krasobruslařské soutěže
URL:https://visit.chomutov.cz/kalendar/21-rocnik-chomutovske-brusle/
LOCATION:Rocknet Aréna – zimní stadion\, Mostecká 5773\, Chomutov
CATEGORIES:sportovní akce
ATTACH;FMTTYPE=image/jpeg:https://visit.chomutov.cz/wp-content/uploads/2022/10/Plakat-Chomutovska-brusle-9.12.2023-page-001.jpg
ORGANIZER;CN="Krasobrusla%C5%99sk%C3%BD%20klub%20Chomutov":MAILTO:kkchomutov@seznam.cz
END:VEVENT
BEGIN:VEVENT
DTSTART;VALUE=DATE:20231125
DTEND;VALUE=DATE:20231127
DTSTAMP:20260424T222429
CREATED:20231101T100102Z
LAST-MODIFIED:20231101T100102Z
UID:5535-1700870400-1701043199@visit.chomutov.cz
SUMMARY:Krajský přebor žactva - plavecké závody
DESCRIPTION:
URL:https://visit.chomutov.cz/kalendar/krajsky-prebor-zactva-plavecke-zavody/
LOCATION:Aquasvět\, Mostecká 5887\, Chomutov
CATEGORIES:sportovní akce
ATTACH;FMTTYPE=image/jpeg:https://visit.chomutov.cz/wp-content/uploads/2022/05/pexels-emily-rose-2062708-scaled.jpg
ORGANIZER;CN="TJ%20Sl%C3%A1vie%20Chomutov":MAILTO:slcho@slaviechomutov.cz
END:VEVENT
BEGIN:VEVENT
DTSTART;TZID=Europe/Prague:20231111T090000
DTEND;TZID=Europe/Prague:20231111T090000
DTSTAMP:20260424T222429
CREATED:20221102T154301Z
LAST-MODIFIED:20231101T100542Z
UID:2867-1699693200-1699693200@visit.chomutov.cz
SUMMARY:Czech Dance Masters 2023
DESCRIPTION:
URL:https://visit.chomutov.cz/kalendar/czech-dance-masters/
LOCATION:Městská sportovní hala\, Mánesova 4980\, Chomutov
CATEGORIES:sportovní akce
ATTACH;FMTTYPE=image/png:https://visit.chomutov.cz/wp-content/uploads/2022/11/CZECH-DF-2023.png
ORGANIZER;CN="Beethoven%20DC%20Chomutov":MAILTO:beethovendcchomutov@seznam.cz
END:VEVENT
BEGIN:VEVENT
DTSTART;VALUE=DATE:20231108
DTEND;VALUE=DATE:20231113
DTSTAMP:20260424T222429
CREATED:20231102T071922Z
LAST-MODIFIED:20231102T071922Z
UID:5547-1699401600-1699833599@visit.chomutov.cz
SUMMARY:U 20 Turnaj pěti zemí
DESCRIPTION:Hokejové zápasy.
URL:https://visit.chomutov.cz/kalendar/u-20-turnaj-peti-zemi/
LOCATION:Rocknet Aréna – zimní stadion\, Mostecká 5773\, Chomutov
CATEGORIES:sportovní akce
ATTACH;FMTTYPE=image/jpeg:https://visit.chomutov.cz/wp-content/uploads/2023/11/FB_IMG_1698785673252.jpg
END:VEVENT
BEGIN:VEVENT
DTSTART;TZID=Europe/Prague:20231104T110000
DTEND;TZID=Europe/Prague:20231104T110000
DTSTAMP:20260424T222429
CREATED:20231030T151813Z
LAST-MODIFIED:20231030T151813Z
UID:5394-1699095600-1699095600@visit.chomutov.cz
SUMMARY:Hubertova jízda
DESCRIPTION:Slavnostní nástup k ukončení jezdecké sezony a vyjížďku směr Hradečná (ve skanzenu připravena Hubertova jízda pro pony).
URL:https://visit.chomutov.cz/kalendar/hubertova-jizda/
LOCATION:Zoopark Chomutov\, Přemyslova 259\, Chomutov\, 43001
CATEGORIES:sportovní akce,zábavní pořady
ATTACH;FMTTYPE=image/jpeg:https://visit.chomutov.cz/wp-content/uploads/2023/10/Hubertova-jizda.jpg
END:VEVENT
BEGIN:VEVENT
DTSTART;VALUE=DATE:20231104
DTEND;VALUE=DATE:20231105
DTSTAMP:20260424T222429
CREATED:20230324T065059Z
LAST-MODIFIED:20231101T100257Z
UID:3647-1699056000-1699142399@visit.chomutov.cz
SUMMARY:FC Chomutov x FK Ostrov
DESCRIPTION:Začátek zápasu v 10.15 hodin.
URL:https://visit.chomutov.cz/kalendar/fc-chomutov-zapasy/
LOCATION:Letní stadion\, Mostecká 5886\, Chomutov
CATEGORIES:sportovní akce
ATTACH;FMTTYPE=image/jpeg:https://visit.chomutov.cz/wp-content/uploads/2022/05/fotbal-1.jpg
ORGANIZER;CN="FC%20Chomutov":MAILTO:fcchomutov@seznam.cz
END:VEVENT
END:VCALENDAR